Workbook

Sheet Rekapitulácia stavby
A1: Export Komplet | BA1: 2.0 | BT1: False | BU1: False | BV1: {78117b04-890b-4791-bb3f-9724a829f88c}
AR2: >> skryté stĺpce << | BS2: 0,01 | BT2: 23
BS3: 0,01 | BT3: 23
D4: REKAPITULÁCIA STAVBY | AS4: v --- nižšie sa nachádzajú doplnkové a pomocné údaje k zostavám --- v | BS4: 0,001
D5: Kód: | K5: 25001b | BS5: 0,01
D6: Stavba: | K6: Športová hala OLYMPIA v Nitre | BS6: 0,01
D7: JKSO: | AK7: ČS: | BS7: 0,01
D8: Miesto: | K8: Nitra | AK8: Dátum: | AN8: 8. 7. 2025 | BS8: 0,01
BS9: 0,01
D10: Objednávateľ: | AK10: IČO: | BS10: 0,01
E11: Športová hala OLYMPIA s.r.o. | AK11: IČ DPH: | BS11: 0,01
BS12: 0,01
D13: Zhotoviteľ: | AK13: IČO: | BS13: 0,01
AK14: IČ DPH: | BS14: 0,01
BS15: False
D16: Projektant: | AK16: IČO: | BS16: False
E17: Ing. Stanislav Karas | AK17: IČ DPH: | BS17: True
BS18: 0,01
D19: Spracovateľ: | AK19: IČO: | BS19: 0,01
AK20: IČ DPH: | BS20: True
D22: Poznámka:
D26: Cena bez DPH | AK26: =ROUND(AG94,2) -> 0
L28: Sadzba dane | W28: Základ dane | AK28: Výška dane
D29: DPH | F29: základná | L29: 0.23 | W29: =ROUND(AZ94, 2) -> 0 | AK29: =ROUND(AV94, 2) -> 0
F30: znížená | L30: 0.23 | W30: =ROUND(BA94, 2) -> 0 | AK30: =ROUND(AW94, 2) -> 0
F31: zákl. prenesená | L31: 0.23 | W31: =ROUND(BB94, 2) -> 0 | AK31: 0
F32: zníž. prenesená | L32: 0.23 | W32: =ROUND(BC94, 2) -> 0 | AK32: 0
F33: nulová | L33: 0 | W33: =ROUND(BD94, 2) -> 0 | AK33: 0
D35: Cena s DPH | T35: v | X35: EUR | AK35: =SUM(AK26:AK33) -> 0
D49: Projektant | AH49: Spracovateľ
D60: Dátum a podpis: | V60: Pečiatka | AH60: Dátum a podpis: | AM60: Pečiatka
D64: Objednávateľ | AH64: Zhotoviteľ
D75: Dátum a podpis: | V75: Pečiatka | AH75: Dátum a podpis: | AM75: Pečiatka
C82: REKAPITULÁCIA OBJEKTOV STAVBY
C84: Kód: | L84: =K5 -> 25001b
C85: Stavba: | L85: =K6 -> Športová hala OLYMPIA v Nitre
C87: Miesto: | L87: =IF(K8="","",K8) -> Nitra | AI87: Dátum: | AM87: =IF(AN8= "","",AN8) -> 8. 7. 2025
C89: Objednávateľ: | L89: =IF(E11= "","",E11) -> Športová hala OLYMPIA s.r.o. | AI89: Projektant: | AM89: =IF(E17="","",E17) -> Ing. Stanislav Karas | AS89: Informatívne údaje z listov zákaziek
C90: Zhotoviteľ: | L90: =IF(E14="","",E14) | AI90: Spracovateľ: | AM90: =IF(E20="","",E20)
C92: Kód | I92: Popis | AG92: Cena bez DPH [EUR] | AN92: Cena s DPH [EUR] | AQ92: Typ | AS92: z toho Ostat._x000D_ náklady [EUR] | AT92: DPH [EUR] | AU92: Normohodiny [h] | AV92: DPH základná [EUR] | AW92: DPH znížená [EUR] | AX92: DPH základná prenesená_x000D_ [EUR] | AY92: DPH znížená prenesená_x000D_ [EUR] | AZ92: Základňa_x000D_ DPH základná | BA92: Základňa_x000D_ DPH znížená | BB92: Základňa_x000D_ DPH zákl. prenesená | BC92: Základňa_x000D_ DPH zníž. prenesená | BD92: Základňa_x000D_ DPH nulová
C94: Náklady z rozpočtov | AG94: =ROUND(AG95+SUM(AG109:AG116),2) -> 0 | AN94: =SUM(AG94,AT94) -> 0 | AS94: =ROUND(AS95+SUM(AS109:AS116),2) -> 0 | AT94: =ROUND(SUM(AV94:AW94),2) -> 0 | AU94: =ROUND(AU95+SUM(AU109:AU116),5) -> 9354.5878 | AV94: =ROUND(AZ94*L29,2) -> 0 | AW94: =ROUND(BA94*L30,2) -> 0 | AX94: =ROUND(BB94*L29,2) -> 0 | AY94: =ROUND(BC94*L30,2) -> 0 | AZ94: =ROUND(AZ95+SUM(AZ109:AZ116),2) -> 0 | BA94: =ROUND(BA95+SUM(BA109:BA116),2) -> 0 | BB94: =ROUND(BB95+SUM(BB109:BB116),2) -> 0 | BC94: =ROUND(BC95+SUM(BC109:BC116),2) -> 0 | BD94: =ROUND(BD95+SUM(BD109:BD116),2) -> 0 | BS94: D | BT94: 0 | BU94: ###NOIMPORT### | BV94: IMPORT | BW94: {78117b04-890b-4791-bb3f-9724a829f88c} | BX94: {00000000-0000-0000-0000-000000000000}
D95: SO01 | J95: Športová hala, Nitra | AG95: =ROUND(AG96+AG97+SUM(AG102:AG108),2) -> 0 | AN95: =SUM(AG95,AT95) -> 0 | AQ95: STA | AS95: =ROUND(AS96+AS97+SUM(AS102:AS108),2) -> 0 | AT95: =ROUND(SUM(AV95:AW95),2) -> 0 | AU95: =ROUND(AU96+AU97+SUM(AU102:AU108),5) -> 3995.4838 | AV95: =ROUND(AZ95*L29,2) -> 0 | AW95: =ROUND(BA95*L30,2) -> 0 | AX95: =ROUND(BB95*L29,2) -> 0 | AY95: =ROUND(BC95*L30,2) -> 0 | AZ95: =ROUND(AZ96+AZ97+SUM(AZ102:AZ108),2) -> 0 | BA95: =ROUND(BA96+BA97+SUM(BA102:BA108),2) -> 0 | BB95: =ROUND(BB96+BB97+SUM(BB102:BB108),2) -> 0 | BC95: =ROUND(BC96+BC97+SUM(BC102:BC108),2) -> 0 | BD95: =ROUND(BD96+BD97+SUM(BD102:BD108),2) -> 0 | BS95: D | BT95: 1 | BU95: ###NOIMPORT### | BV95: IMPORT | BW95: {bf36daac-f47a-40d5-ae20-7f2b50806e55} | BX95: {78117b04-890b-4791-bb3f-9724a829f88c} | CM95: 0
A96: / | E96: ARCH | K96: Architektúra - stavebná časť | AG96: ='ARCH - Architektúra - sta...'!J32 -> 0 | AN96: =SUM(AG96,AT96) -> 0 | AQ96: Časť | AS96: 0 | AT96: =ROUND(SUM(AV96:AW96),2) -> 0 | AU96: ='ARCH - Architektúra - sta...'!P149 -> 2710.1853 | AV96: ='ARCH - Architektúra - sta...'!J35 -> 0 | AW96: ='ARCH - Architektúra - sta...'!J36 -> 0 | AX96: ='ARCH - Architektúra - sta...'!J37 -> 0 | AY96: ='ARCH - Architektúra - sta...'!J38 -> 0 | AZ96: ='ARCH - Architektúra - sta...'!F35 -> 0 | BA96: ='ARCH - Architektúra - sta...'!F36 -> 0 | BB96: ='ARCH - Architektúra - sta...'!F37 -> 0 | BC96: ='ARCH - Architektúra - sta...'!F38 -> 0 | BD96: ='ARCH - Architektúra - sta...'!F39 -> 0 | BT96: 2 | BV96: IMPORT | BW96: {a84b5676-3dad-4fd6-977d-601657506d24} | BX96: {bf36daac-f47a-40d5-ae20-7f2b50806e55}
E97: EL | K97: Elektroinštalácia | AG97: =ROUND(SUM(AG98:AG101),2) -> 0 | AN97: =SUM(AG97,AT97) -> 0 | AQ97: Časť | AS97: =ROUND(SUM(AS98:AS101),2) -> 0 | AT97: =ROUND(SUM(AV97:AW97),2) -> 0 | AU97: =ROUND(SUM(AU98:AU101),5) -> 0 | AV97: =ROUND(AZ97*L29,2) -> 0 | AW97: =ROUND(BA97*L30,2) -> 0 | AX97: =ROUND(BB97*L29,2) -> 0 | AY97: =ROUND(BC97*L30,2) -> 0 | AZ97: =ROUND(SUM(AZ98:AZ101),2) -> 0 | BA97: =ROUND(SUM(BA98:BA101),2) -> 0 | BB97: =ROUND(SUM(BB98:BB101),2) -> 0 | BC97: =ROUND(SUM(BC98:BC101),2) -> 0 | BD97: =ROUND(SUM(BD98:BD101),2) -> 0 | BS97: D | BT97: 2 | BU97: ###NOIMPORT### | BV97: IMPORT | BW97: {abbc5de2-7a0e-455d-89cb-153206d6d197} | BX97: {bf36daac-f47a-40d5-ae20-7f2b50806e55}
A98: / | F98: EL1 | L98: Elektroinštalácia | AG98: ='EL1 - Elektroinštalácia'!J34 -> 0 | AN98: =SUM(AG98,AT98) -> 0 | AQ98: Časť | AS98: 0 | AT98: =ROUND(SUM(AV98:AW98),2) -> 0 | AU98: ='EL1 - Elektroinštalácia'!P127 -> 0 | AV98: ='EL1 - Elektroinštalácia'!J37 -> 0 | AW98: ='EL1 - Elektroinštalácia'!J38 -> 0 | AX98: ='EL1 - Elektroinštalácia'!J39 -> 0 | AY98: ='EL1 - Elektroinštalácia'!J40 -> 0 | AZ98: ='EL1 - Elektroinštalácia'!F37 -> 0 | BA98: ='EL1 - Elektroinštalácia'!F38 -> 0 | BB98: ='EL1 - Elektroinštalácia'!F39 -> 0 | BC98: ='EL1 - Elektroinštalácia'!F40 -> 0 | BD98: ='EL1 - Elektroinštalácia'!F41 -> 0 | BT98: 3 | BV98: IMPORT | BW98: {eeb7e030-68df-4fbf-a658-2618afee56d5} | BX98: {abbc5de2-7a0e-455d-89cb-153206d6d197}
A99: / | F99: EL2 | L99: Bleskozvod + Uzemnenie | AG99: ='EL2 - Bleskozvod + Uzemnenie'!J34 -> 0 | AN99: =SUM(AG99,AT99) -> 0 | AQ99: Časť | AS99: 0 | AT99: =ROUND(SUM(AV99:AW99),2) -> 0 | AU99: ='EL2 - Bleskozvod + Uzemnenie'!P127 -> 0 | AV99: ='EL2 - Bleskozvod + Uzemnenie'!J37 -> 0 | AW99: ='EL2 - Bleskozvod + Uzemnenie'!J38 -> 0 | AX99: ='EL2 - Bleskozvod + Uzemnenie'!J39 -> 0 | AY99: ='EL2 - Bleskozvod + Uzemnenie'!J40 -> 0 | AZ99: ='EL2 - Bleskozvod + Uzemnenie'!F37 -> 0 | BA99: ='EL2 - Bleskozvod + Uzemnenie'!F38 -> 0 | BB99: ='EL2 - Bleskozvod + Uzemnenie'!F39 -> 0 | BC99: ='EL2 - Bleskozvod + Uzemnenie'!F40 -> 0 | BD99: ='EL2 - Bleskozvod + Uzemnenie'!F41 -> 0 | BT99: 3 | BV99: IMPORT | BW99: {fd753120-6828-416c-90db-32f963bcef9f} | BX99: {abbc5de2-7a0e-455d-89cb-153206d6d197}
A100: / | F100: EL3 | L100: Svietidlá | AG100: ='EL3 - Svietidlá'!J34 -> 0 | AN100: =SUM(AG100,AT100) -> 0 | AQ100: Časť | AS100: 0 | AT100: =ROUND(SUM(AV100:AW100),2) -> 0 | AU100: ='EL3 - Svietidlá'!P126 -> 0 | AV100: ='EL3 - Svietidlá'!J37 -> 0 | AW100: ='EL3 - Svietidlá'!J38 -> 0 | AX100: ='EL3 - Svietidlá'!J39 -> 0 | AY100: ='EL3 - Svietidlá'!J40 -> 0 | AZ100: ='EL3 - Svietidlá'!F37 -> 0 | BA100: ='EL3 - Svietidlá'!F38 -> 0 | BB100: ='EL3 - Svietidlá'!F39 -> 0 | BC100: ='EL3 - Svietidlá'!F40 -> 0 | BD100: ='EL3 - Svietidlá'!F41 -> 0 | BT100: 3 | BV100: IMPORT | BW100: {7528dafb-23a8-4f06-8317-ad9c46040f8d} | BX100: {abbc5de2-7a0e-455d-89cb-153206d6d197}
A101: / | F101: EL4 | L101: Vedenie | AG101: ='EL4 - Vedenie '!J34 -> 0 | AN101: =SUM(AG101,AT101) -> 0 | AQ101: Časť | AS101: 0 | AT101: =ROUND(SUM(AV101:AW101),2) -> 0 | AU101: ='EL4 - Vedenie '!P126 -> 0 | AV101: ='EL4 - Vedenie '!J37 -> 0 | AW101: ='EL4 - Vedenie '!J38 -> 0 | AX101: ='EL4 - Vedenie '!J39 -> 0 | AY101: ='EL4 - Vedenie '!J40 -> 0 | AZ101: ='EL4 - Vedenie '!F37 -> 0 | BA101: ='EL4 - Vedenie '!F38 -> 0 | BB101: ='EL4 - Vedenie '!F39 -> 0 | BC101: ='EL4 - Vedenie '!F40 -> 0 | BD101: ='EL4 - Vedenie '!F41 -> 0 | BT101: 3 | BV101: IMPORT | BW101: {0a52e7fe-dfe0-47d2-9bd0-5b3a0fc722bb} | BX101: {abbc5de2-7a0e-455d-89cb-153206d6d197}
A102: / | E102: EPS | K102: EPS | AG102: ='EPS - EPS'!J32 -> 0 | AN102: =SUM(AG102,AT102) -> 0 | AQ102: Časť | AS102: 0 | AT102: =ROUND(SUM(AV102:AW102),2) -> 0 | AU102: ='EPS - EPS'!P125 -> 0 | AV102: ='EPS - EPS'!J35 -> 0 | AW102: ='EPS - EPS'!J36 -> 0 | AX102: ='EPS - EPS'!J37 -> 0 | AY102: ='EPS - EPS'!J38 -> 0 | AZ102: ='EPS - EPS'!F35 -> 0 | BA102: ='EPS - EPS'!F36 -> 0 | BB102: ='EPS - EPS'!F37 -> 0 | BC102: ='EPS - EPS'!F38 -> 0 | BD102: ='EPS - EPS'!F39 -> 0 | BT102: 2 | BV102: IMPORT | BW102: {be0f8268-45ba-4239-b254-86f8f23f5d19} | BX102: {bf36daac-f47a-40d5-ae20-7f2b50806e55}
A103: / | E103: HSP | K103: HSP | AG103: ='HSP - HSP'!J32 -> 0 | AN103: =SUM(AG103,AT103) -> 0 | AQ103: Časť | AS103: 0 | AT103: =ROUND(SUM(AV103:AW103),2) -> 0 | AU103: ='HSP - HSP'!P125 -> 0 | AV103: ='HSP - HSP'!J35 -> 0 | AW103: ='HSP - HSP'!J36 -> 0 | AX103: ='HSP - HSP'!J37 -> 0 | AY103: ='HSP - HSP'!J38 -> 0 | AZ103: ='HSP - HSP'!F35 -> 0 | BA103: ='HSP - HSP'!F36 -> 0 | BB103: ='HSP - HSP'!F37 -> 0 | BC103: ='HSP - HSP'!F38 -> 0 | BD103: ='HSP - HSP'!F39 -> 0 | BT103: 2 | BV103: IMPORT | BW103: {1decfeaf-05d5-4d4f-90ee-c7c5f8f4625c} | BX103: {bf36daac-f47a-40d5-ae20-7f2b50806e55}
A104: / | E104: ZOT | K104: ZOTa SH | AG104: ='ZOT - ZOTa SH'!J32 -> 0 | AN104: =SUM(AG104,AT104) -> 0 | AQ104: Časť | AS104: 0 | AT104: =ROUND(SUM(AV104:AW104),2) -> 0 | AU104: ='ZOT - ZOTa SH'!P121 -> 0 | AV104: ='ZOT - ZOTa SH'!J35 -> 0 | AW104: ='ZOT - ZOTa SH'!J36 -> 0 | AX104: ='ZOT - ZOTa SH'!J37 -> 0 | AY104: ='ZOT - ZOTa SH'!J38 -> 0 | AZ104: ='ZOT - ZOTa SH'!F35 -> 0 | BA104: ='ZOT - ZOTa SH'!F36 -> 0 | BB104: ='ZOT - ZOTa SH'!F37 -> 0 | BC104: ='ZOT - ZOTa SH'!F38 -> 0 | BD104: ='ZOT - ZOTa SH'!F39 -> 0 | BT104: 2 | BV104: IMPORT | BW104: {c1c7a227-9371-43ec-9bed-baff6eca22df} | BX104: {bf36daac-f47a-40d5-ae20-7f2b50806e55}
A105: / | E105: ZT | K105: Zdravotechnika | AG105: ='ZT - Zdravotechnika'!J32 -> 0 | AN105: =SUM(AG105,AT105) -> 0 | AQ105: Časť | AS105: 0 | AT105: =ROUND(SUM(AV105:AW105),2) -> 0 | AU105: ='ZT - Zdravotechnika'!P130 -> 1093.0477 | AV105: ='ZT - Zdravotechnika'!J35 -> 0 | AW105: ='ZT - Zdravotechnika'!J36 -> 0 | AX105: ='ZT - Zdravotechnika'!J37 -> 0 | AY105: ='ZT - Zdravotechnika'!J38 -> 0 | AZ105: ='ZT - Zdravotechnika'!F35 -> 0 | BA105: ='ZT - Zdravotechnika'!F36 -> 0 | BB105: ='ZT - Zdravotechnika'!F37 -> 0 | BC105: ='ZT - Zdravotechnika'!F38 -> 0 | BD105: ='ZT - Zdravotechnika'!F39 -> 0 | BT105: 2 | BV105: IMPORT | BW105: {59ad852f-ebe3-4382-81d4-e7090fa9e922} | BX105: {bf36daac-f47a-40d5-ae20-7f2b50806e55}
A106: / | E106: Plyn | K106: Plynoinštalácia | AG106: ='Plyn - Plynoinštalácia'!J32 -> 0 | AN106: =SUM(AG106,AT106) -> 0 | AQ106: Časť | AS106: 0 | AT106: =ROUND(SUM(AV106:AW106),2) -> 0 | AU106: ='Plyn - Plynoinštalácia'!P130 -> 192.25082 | AV106: ='Plyn - Plynoinštalácia'!J35 -> 0 | AW106: ='Plyn - Plynoinštalácia'!J36 -> 0 | AX106: ='Plyn - Plynoinštalácia'!J37 -> 0 | AY106: ='Plyn - Plynoinštalácia'!J38 -> 0 | AZ106: ='Plyn - Plynoinštalácia'!F35 -> 0 | BA106: ='Plyn - Plynoinštalácia'!F36 -> 0 | BB106: ='Plyn - Plynoinštalácia'!F37 -> 0 | BC106: ='Plyn - Plynoinštalácia'!F38 -> 0 | BD106: ='Plyn - Plynoinštalácia'!F39 -> 0 | BT106: 2 | BV106: IMPORT | BW106: {73d7cc10-db4b-4785-8fe1-9007809fd360} | BX106: {bf36daac-f47a-40d5-ae20-7f2b50806e55}
A107: / | E107: ÚK | K107: Ústredné vykurovanie | AG107: ='ÚK - Ústredné vykurovanie'!J32 -> 0 | AN107: =SUM(AG107,AT107) -> 0 | AQ107: Časť | AS107: 0 | AT107: =ROUND(SUM(AV107:AW107),2) -> 0 | AU107: ='ÚK - Ústredné vykurovanie'!P129 -> 0 | AV107: ='ÚK - Ústredné vykurovanie'!J35 -> 0 | AW107: ='ÚK - Ústredné vykurovanie'!J36 -> 0 | AX107: ='ÚK - Ústredné vykurovanie'!J37 -> 0 | AY107: ='ÚK - Ústredné vykurovanie'!J38 -> 0 | AZ107: ='ÚK - Ústredné vykurovanie'!F35 -> 0 | BA107: ='ÚK - Ústredné vykurovanie'!F36 -> 0 | BB107: ='ÚK - Ústredné vykurovanie'!F37 -> 0 | BC107: ='ÚK - Ústredné vykurovanie'!F38 -> 0 | BD107: ='ÚK - Ústredné vykurovanie'!F39 -> 0 | BT107: 2 | BV107: IMPORT | BW107: {582c97e2-d97a-47ac-b0c7-80025cf17c1a} | BX107: {bf36daac-f47a-40d5-ae20-7f2b50806e55}
A108: / | E108: VZT1 | K108: Vzduchotechnika - AXIMA | AG108: ='VZT1 - Vzduchotechnika - ...'!J32 -> 0 | AN108: =SUM(AG108,AT108) -> 0 | AQ108: Časť | AS108: 0 | AT108: =ROUND(SUM(AV108:AW108),2) -> 0 | AU108: ='VZT1 - Vzduchotechnika - ...'!P128 -> 0 | AV108: ='VZT1 - Vzduchotechnika - ...'!J35 -> 0 | AW108: ='VZT1 - Vzduchotechnika - ...'!J36 -> 0 | AX108: ='VZT1 - Vzduchotechnika - ...'!J37 -> 0 | AY108: ='VZT1 - Vzduchotechnika - ...'!J38 -> 0 | AZ108: ='VZT1 - Vzduchotechnika - ...'!F35 -> 0 | BA108: ='VZT1 - Vzduchotechnika - ...'!F36 -> 0 | BB108: ='VZT1 - Vzduchotechnika - ...'!F37 -> 0 | BC108: ='VZT1 - Vzduchotechnika - ...'!F38 -> 0 | BD108: ='VZT1 - Vzduchotechnika - ...'!F39 -> 0 | BT108: 2 | BV108: IMPORT | BW108: {ca2632a8-cfaf-45cb-9672-69aadbebd068} | BX108: {bf36daac-f47a-40d5-ae20-7f2b50806e55}
A109: / | D109: SO02 | J109: Prípojka plynu | AG109: ='SO02 - Prípojka plynu'!J30 -> 0 | AN109: =SUM(AG109,AT109) -> 0 | AQ109: STA | AS109: 0 | AT109: =ROUND(SUM(AV109:AW109),2) -> 0 | AU109: ='SO02 - Prípojka plynu'!P128 -> 115.26333 | AV109: ='SO02 - Prípojka plynu'!J33 -> 0 | AW109: ='SO02 - Prípojka plynu'!J34 -> 0 | AX109: ='SO02 - Prípojka plynu'!J35 -> 0 | AY109: ='SO02 - Prípojka plynu'!J36 -> 0 | AZ109: ='SO02 - Prípojka plynu'!F33 -> 0 | BA109: ='SO02 - Prípojka plynu'!F34 -> 0 | BB109: ='SO02 - Prípojka plynu'!F35 -> 0 | BC109: ='SO02 - Prípojka plynu'!F36 -> 0 | BD109: ='SO02 - Prípojka plynu'!F37 -> 0 | BT109: 1 | BV109: IMPORT | BW109: {e61dfdaf-cce8-45ad-b9b7-3c578984b262} | BX109: {78117b04-890b-4791-bb3f-9724a829f88c} | CM109: 0
A110: / | D110: SO03 | J110: Elektrická prípojka | AG110: ='SO03 - Elektrická prípojka'!J30 -> 0 | AN110: =SUM(AG110,AT110) -> 0 | AQ110: STA | AS110: 0 | AT110: =ROUND(SUM(AV110:AW110),2) -> 0 | AU110: ='SO03 - Elektrická prípojka'!P120 -> 0 | AV110: ='SO03 - Elektrická prípojka'!J33 -> 0 | AW110: ='SO03 - Elektrická prípojka'!J34 -> 0 | AX110: ='SO03 - Elektrická prípojka'!J35 -> 0 | AY110: ='SO03 - Elektrická prípojka'!J36 -> 0 | AZ110: ='SO03 - Elektrická prípojka'!F33 -> 0 | BA110: ='SO03 - Elektrická prípojka'!F34 -> 0 | BB110: ='SO03 - Elektrická prípojka'!F35 -> 0 | BC110: ='SO03 - Elektrická prípojka'!F36 -> 0 | BD110: ='SO03 - Elektrická prípojka'!F37 -> 0 | BT110: 1 | BV110: IMPORT | BW110: {5b439e7e-f7a9-4439-823f-6becaa5910e0} | BX110: {78117b04-890b-4791-bb3f-9724a829f88c} | CM110: 0
A111: / | D111: SO04 | J111: Prípojka vody | AG111: ='SO04 - Prípojka vody'!J30 -> 0 | AN111: =SUM(AG111,AT111) -> 0 | AQ111: STA | AS111: 0 | AT111: =ROUND(SUM(AV111:AW111),2) -> 0 | AU111: ='SO04 - Prípojka vody'!P125 -> 43.76062 | AV111: ='SO04 - Prípojka vody'!J33 -> 0 | AW111: ='SO04 - Prípojka vody'!J34 -> 0 | AX111: ='SO04 - Prípojka vody'!J35 -> 0 | AY111: ='SO04 - Prípojka vody'!J36 -> 0 | AZ111: ='SO04 - Prípojka vody'!F33 -> 0 | BA111: ='SO04 - Prípojka vody'!F34 -> 0 | BB111: ='SO04 - Prípojka vody'!F35 -> 0 | BC111: ='SO04 - Prípojka vody'!F36 -> 0 | BD111: ='SO04 - Prípojka vody'!F37 -> 0 | BT111: 1 | BV111: IMPORT | BW111: {353b3453-9b73-496f-b79b-465767a77d0e} | BX111: {78117b04-890b-4791-bb3f-9724a829f88c} | CM111: 0
A112: / | D112: SO05 | J112: Prípojka splaškovej kanalizácie | AG112: ='SO05 - Prípojka splaškove...'!J30 -> 0 | AN112: =SUM(AG112,AT112) -> 0 | AQ112: STA | AS112: 0 | AT112: =ROUND(SUM(AV112:AW112),2) -> 0 | AU112: ='SO05 - Prípojka splaškove...'!P121 -> 405.12316 | AV112: ='SO05 - Prípojka splaškove...'!J33 -> 0 | AW112: ='SO05 - Prípojka splaškove...'!J34 -> 0 | AX112: ='SO05 - Prípojka splaškove...'!J35 -> 0 | AY112: ='SO05 - Prípojka splaškove...'!J36 -> 0 | AZ112: ='SO05 - Prípojka splaškove...'!F33 -> 0 | BA112: ='SO05 - Prípojka splaškove...'!F34 -> 0 | BB112: ='SO05 - Prípojka splaškove...'!F35 -> 0 | BC112: ='SO05 - Prípojka splaškove...'!F36 -> 0 | BD112: ='SO05 - Prípojka splaškove...'!F37 -> 0 | BT112: 1 | BV112: IMPORT | BW112: {8db66a94-9887-4725-af92-e7460a6cf962} | BX112: {78117b04-890b-4791-bb3f-9724a829f88c} | CM112: 0
A113: / | D113: SO06 | J113: Prípojka dažďovej kanalizácie + ORL | AG113: ='SO06 - Prípojka dažďovej ...'!J30 -> 0 | AN113: =SUM(AG113,AT113) -> 0 | AQ113: STA | AS113: 0 | AT113: =ROUND(SUM(AV113:AW113),2) -> 0 | AU113: ='SO06 - Prípojka dažďovej ...'!P123 -> 1375.9016 | AV113: ='SO06 - Prípojka dažďovej ...'!J33 -> 0 | AW113: ='SO06 - Prípojka dažďovej ...'!J34 -> 0 | AX113: ='SO06 - Prípojka dažďovej ...'!J35 -> 0 | AY113: ='SO06 - Prípojka dažďovej ...'!J36 -> 0 | AZ113: ='SO06 - Prípojka dažďovej ...'!F33 -> 0 | BA113: ='SO06 - Prípojka dažďovej ...'!F34 -> 0 | BB113: ='SO06 - Prípojka dažďovej ...'!F35 -> 0 | BC113: ='SO06 - Prípojka dažďovej ...'!F36 -> 0 | BD113: ='SO06 - Prípojka dažďovej ...'!F37 -> 0 | BT113: 1 | BV113: IMPORT | BW113: {0b123b59-8cda-42a5-8d49-1779220a718b} | BX113: {78117b04-890b-4791-bb3f-9724a829f88c} | CM113: 0
A114: / | D114: SO07 | J114: Komunikácie a spevnené plochy | AG114: ='SO07 - Komunikácie a spev...'!J30 -> 0 | AN114: =SUM(AG114,AT114) -> 0 | AQ114: STA | AS114: 0 | AT114: =ROUND(SUM(AV114:AW114),2) -> 0 | AU114: ='SO07 - Komunikácie a spev...'!P124 -> 0 | AV114: ='SO07 - Komunikácie a spev...'!J33 -> 0 | AW114: ='SO07 - Komunikácie a spev...'!J34 -> 0 | AX114: ='SO07 - Komunikácie a spev...'!J35 -> 0 | AY114: ='SO07 - Komunikácie a spev...'!J36 -> 0 | AZ114: ='SO07 - Komunikácie a spev...'!F33 -> 0 | BA114: ='SO07 - Komunikácie a spev...'!F34 -> 0 | BB114: ='SO07 - Komunikácie a spev...'!F35 -> 0 | BC114: ='SO07 - Komunikácie a spev...'!F36 -> 0 | BD114: ='SO07 - Komunikácie a spev...'!F37 -> 0 | BT114: 1 | BV114: IMPORT | BW114: {6983dfd4-660b-48c2-a6e3-bb5d37b3ca43} | BX114: {78117b04-890b-4791-bb3f-9724a829f88c} | CM114: 0
A115: / | D115: SO08 | J115: Sadové úpravy | AG115: ='SO08 - Sadové úpravy'!J30 -> 0 | AN115: =SUM(AG115,AT115) -> 0 | AQ115: STA | AS115: 0 | AT115: =ROUND(SUM(AV115:AW115),2) -> 0 | AU115: ='SO08 - Sadové úpravy'!P120 -> 3419.0553 | AV115: ='SO08 - Sadové úpravy'!J33 -> 0 | AW115: ='SO08 - Sadové úpravy'!J34 -> 0 | AX115: ='SO08 - Sadové úpravy'!J35 -> 0 | AY115: ='SO08 - Sadové úpravy'!J36 -> 0 | AZ115: ='SO08 - Sadové úpravy'!F33 -> 0 | BA115: ='SO08 - Sadové úpravy'!F34 -> 0 | BB115: ='SO08 - Sadové úpravy'!F35 -> 0 | BC115: ='SO08 - Sadové úpravy'!F36 -> 0 | BD115: ='SO08 - Sadové úpravy'!F37 -> 0 | BT115: 1 | BV115: IMPORT | BW115: {ab0c5e7d-49c2-414e-b485-95059410a5c8} | BX115: {78117b04-890b-4791-bb3f-9724a829f88c} | CM115: 0
A116: / | D116: SO11 | J116: VRN | AG116: ='SO11 - VRN'!J30 -> 0 | AN116: =SUM(AG116,AT116) -> 0 | AQ116: STA | AS116: 0 | AT116: =ROUND(SUM(AV116:AW116),2) -> 0 | AU116: ='SO11 - VRN'!P117 -> 0 | AV116: ='SO11 - VRN'!J33 -> 0 | AW116: ='SO11 - VRN'!J34 -> 0 | AX116: ='SO11 - VRN'!J35 -> 0 | AY116: ='SO11 - VRN'!J36 -> 0 | AZ116: ='SO11 - VRN'!F33 -> 0 | BA116: ='SO11 - VRN'!F34 -> 0 | BB116: ='SO11 - VRN'!F35 -> 0 | BC116: ='SO11 - VRN'!F36 -> 0 | BD116: ='SO11 - VRN'!F37 -> 0 | BT116: 1 | BV116: IMPORT | BW116: {d7f12445-6bfa-4cbe-b4e1-e2ae50e614ab} | BX116: {78117b04-890b-4791-bb3f-9724a829f88c} | CM116: 0

Sheet ARCH - Architektúra - sta...
L2: >> skryté stĺpce << | AT2: {a84b5676-3dad-4fd6-977d-601657506d24}
AT3: 0
D4: KRYCÍ LIST ROZPOČTU | M4: v --- nižšie sa nachádzajú doplnkové a pomocné údaje k zostavám --- v | AT4: False
D6: Stavba:
E7: ='Rekapitulácia stavby'!K6 -> Športová hala OLYMPIA v Nitre
D8: Objekt:
E9: SO01 - Športová hala, Nitra
D10: Časť:
E11: ARCH - Architektúra - stavebná časť
D13: JKSO: | I13: ČS:
D14: Miesto: | F14: Nitra | I14: Dátum: | J14: ='Rekapitulácia stavby'!AN8 -> 8. 7. 2025
D16: Objednávateľ: | I16: IČO:
E17: Športová hala OLYMPIA s.r.o. | I17: IČ DPH:
D19: Zhotoviteľ: | I19: IČO:
I20: IČ DPH:
D22: Projektant: | I22: IČO:
E23: Ing. Stanislav Karas | I23: IČ DPH:
D25: Spracovateľ: | I25: IČO:
I26: IČ DPH:
D28: Poznámka:
D32: Cena bez DPH | J32: =ROUND(J149, 2) -> 0
F34: Základ dane | I34: Sadzba dane | J34: Výška dane
D35: DPH | E35: základná | F35: =ROUND((SUM(BE149:BE409)), 2) -> 0 | I35: 0.23 | J35: =ROUND(((SUM(BE149:BE409))*I35), 2) -> 0
E36: znížená | F36: =ROUND((SUM(BF149:BF409)), 2) -> 0 | I36: 0.23 | J36: =ROUND(((SUM(BF149:BF409))*I36), 2) -> 0
E37: zákl. prenesená | F37: =ROUND((SUM(BG149:BG409)), 2) -> 0 | I37: 0.23 | J37: =0 -> 0
E38: zníž. prenesená | F38: =ROUND((SUM(BH149:BH409)), 2) -> 0 | I38: 0.23 | J38: =0 -> 0
E39: nulová | F39: =ROUND((SUM(BI149:BI409)), 2) -> 0 | I39: 0 | J39: =0 -> 0
D41: Cena s DPH | G41: v | H41: EUR | J41: =SUM(J32:J39) -> 0
D50: Projektant | G50: Spracovateľ
D61: Dátum a podpis: | F61: Pečiatka | G61: Dátum a podpis: | J61: Pečiatka
D65: Objednávateľ | G65: Zhotoviteľ
D76: Dátum a podpis: | F76: Pečiatka | G76: Dátum a podpis: | J76: Pečiatka
C82: REKAPITULÁCIA ROZPOČTU
C84: Stavba:
E85: =E7 -> Športová hala OLYMPIA v Nitre
C86: Objekt:
E87: SO01 - Športová hala, Nitra
C88: Časť:
E89: =E11 -> ARCH - Architektúra - stavebná časť
C91: Miesto: | F91: =F14 -> Nitra | I91: Dátum: | J91: =IF(J14="","",J14) -> 8. 7. 2025
C93: Objednávateľ: | F93: =E17 -> Športová hala OLYMPIA s.r.o. | I93: Projektant: | J93: =E23 -> Ing. Stanislav Karas
C94: Zhotoviteľ: | F94: =IF(E20="","",E20) | I94: Spracovateľ: | J94: =E26 -> 0
C96: Kód dielu - Popis | J96: Cena celkom [EUR]
C98: Náklady z rozpočtu | J98: =J149 -> 0 | AU98: -1
D99: HSV - Práce a dodávky HSV | J99: =J150 -> 0
D100: 1 - Zemné práce | J100: =J151 -> 0
D101: 2 - Zakladanie | J101: =J160 -> 0
D102: D1 - Piloty | J102: =J176 -> 0
D103: 3 - Zvislé a kompletné konštrukcie | J103: =J188 -> 0
D104: 4 - Vodorovné konštrukcie | J104: =J202 -> 0
D105: 5 - Komunikácie | J105: =J208 -> 0
D106: 6 - Úpravy povrchov, podlahy, osadenie | J106: =J212 -> 0
D107: 9 - Ostatné konštrukcie a práce-búranie | J107: =J243 -> 0
D108: 99 - Presun hmôt HSV | J108: =J255 -> 0
D109: PSV - Práce a dodávky PSV | J109: =J257 -> 0
D110: 711 - Izolácie proti vode a vlhkosti | J110: =J258 -> 0
D111: 713 - Izolácie tepelné | J111: =J269 -> 0
D112: 763a - Sadrokaktónové konštrukcie | J112: =J276 -> 0
D113: 764 - Konštrukcie klampiarske | J113: =J282 -> 0
D114: 766 - Konštrukcie stolárske | J114: =J285 -> 0
D115: 767 - Konštrukcie doplnkové kovové | J115: =J310 -> 0
D116: 767a - Zabudované športové vybavenie | J116: =J334 -> 0
D117: 771 - Podlahy z dlaždíc | J117: =J344 -> 0
D118: 774a - Športové podlahy - hala,tréningová hala,rozčvičovňa | J118: =J349 -> 0
D119: 776 - Podlahy povlakové | J119: =J362 -> 0
D120: 7761 - Príprava podkladu pod povlakové podláhy a stenové krytiny | J120: =J363 -> 0
D121: 7762 - Pokládka povlakových podláh / čistú výmeru je potrebné navýšiť o 10 % na soklíky / | J121: =J372 -> 0
D122: 7763 - Pokládka povlakových stenových krytín | J122: =J379 -> 0
D123: 7764 - Športová podlaha | J123: =J382 -> 0
D124: 783 - Dokončovacie práce - nátery | J124: =J385 -> 0
D125: 784 - Dokončovacie práce - maľby | J125: =J387 -> 0
D126: M - Práce a dodávky M | J126: =J389 -> 0
D127: 43-M - Montáž oceľových konštrukcií | J127: =J390 -> 0
C134: ROZPOČET
C136: Stavba:
E137: =E7 -> Športová hala OLYMPIA v Nitre
C138: Objekt:
E139: SO01 - Športová hala, Nitra
C140: Časť:
E141: =E11 -> ARCH - Architektúra - stavebná časť
C143: Miesto: | F143: =F14 -> Nitra | I143: Dátum: | J143: =IF(J14="","",J14) -> 8. 7. 2025
C145: Objednávateľ: | F145: =E17 -> Športová hala OLYMPIA s.r.o. | I145: Projektant: | J145: =E23 -> Ing. Stanislav Karas
C146: Zhotoviteľ: | F146: =IF(E20="","",E20) | I146: Spracovateľ: | J146: =E26 -> 0
C148: PČ | D148: Typ | E148: Kód | F148: Popis | G148: MJ | H148: Množstvo | I148: J.cena [EUR] | J148: Cena celkom [EUR] | K148: Cenová sústava | N148: DPH | O148: J. Nh [h] | P148: Nh celkom [h] | Q148: J. hmotnosť [t] | R148: Hmotnosť celkom [t] | S148: J. suť [t] | T148: Suť Celkom [t]
C149: Náklady z rozpočtu | J149: =BK149 -> 0 | P149: =P150+P257+P389 -> 2710.1853 | R149: =R150+R257+R389 -> 1427.5292 | T149: =T150+T257+T389 -> 0 | AT149: D | AU149: -1 | BK149: =BK150+BK257+BK389 -> 0
D150: D | E150: HSV | F150: Práce a dodávky HSV | J150: =BK150 -> 0 | P150: =P151+P160+P176+P188+P202+P208+P212+P243+P255 -> 2173.8559 | R150: =R151+R160+R176+R188+R202+R208+R212+R243+R255 -> 1422.4433 | T150: =T151+T160+T176+T188+T202+T208+T212+T243+T255 -> 0 | AR150: 1 | AT150: D | AU150: 0 | AY150: ROZPOCET | BK150: =BK151+BK160+BK176+BK188+BK202+BK208+BK212+BK243+BK255 -> 0
D151: D | E151: 1 | F151: Zemné práce | J151: =BK151 -> 0 | P151: =SUM(P152:P159) -> 310.57858 | R151: =SUM(R152:R159) -> 0 | T151: =SUM(T152:T159) -> 0 | AR151: 1 | AT151: D | AU151: 1 | AY151: ROZPOCET | BK151: =SUM(BK152:BK159) -> 0
C152: 1 | D152: K | E152: 121101112.S | F152: Odstránenie ornice s premiestn. na hromady, so zložením na vzdialenosť do 100 m a do 1000 m3 | G152: m3 | H152: 720 | N152: znížená | O152: 0.012 | P152: =O152*H152 -> 8.64 | Q152: 0 | R152: =Q152*H152 -> 0 | S152: 0 | T152: =S152*H152 -> 0 | AR152: 4 | AT152: K | AU152: 2 | AY152: ROZPOCET | BE152: =IF(N152="základná",J152,0) -> 0 | BF152: =IF(N152="znížená",J152,0) -> 0 | BG152: =IF(N152="zákl. prenesená",J152,0) -> 0 | BH152: =IF(N152="zníž. prenesená",J152,0) -> 0 | BI152: =IF(N152="nulová",J152,0) -> 0 | BJ152: 2 | BK152: =ROUND(I152*H152,2) -> 0 | BL152: 4 | BM152: -306505144
C153: 2 | D153: K | E153: 132201102 | F153: Výkop ryhy do šírky 600 mm v horn.3 nad 100 m3 | G153: m3 | H153: 207.72 | N153: znížená | O153: 0 | P153: =O153*H153 -> 0 | Q153: 0 | R153: =Q153*H153 -> 0 | S153: 0 | T153: =S153*H153 -> 0 | AR153: 4 | AT153: K | AU153: 2 | AY153: ROZPOCET | BE153: =IF(N153="základná",J153,0) -> 0 | BF153: =IF(N153="znížená",J153,0) -> 0 | BG153: =IF(N153="zákl. prenesená",J153,0) -> 0 | BH153: =IF(N153="zníž. prenesená",J153,0) -> 0 | BI153: =IF(N153="nulová",J153,0) -> 0 | BJ153: 2 | BK153: =ROUND(I153*H153,2) -> 0 | BL153: 4 | BM153: 2
C154: 3 | D154: K | E154: 132201109.S | F154: Príplatok k cene za lepivosť pri hĺbení rýh šírky do 600 mm zapažených i nezapažených s urovnaním dna v hornine 3 | G154: m3 | H154: 62.316 | N154: znížená | O154: 0.613 | P154: =O154*H154 -> 38.199708 | Q154: 0 | R154: =Q154*H154 -> 0 | S154: 0 | T154: =S154*H154 -> 0 | AR154: 4 | AT154: K | AU154: 2 | AY154: ROZPOCET | BE154: =IF(N154="základná",J154,0) -> 0 | BF154: =IF(N154="znížená",J154,0) -> 0 | BG154: =IF(N154="zákl. prenesená",J154,0) -> 0 | BH154: =IF(N154="zníž. prenesená",J154,0) -> 0 | BI154: =IF(N154="nulová",J154,0) -> 0 | BJ154: 2 | BK154: =ROUND(I154*H154,2) -> 0 | BL154: 4 | BM154: 1527586218
C155: 4 | D155: K | E155: 133201101.S | F155: Výkop jamy zapaženej, hornina 3 do 100 m3 | G155: m3 | H155: 77.382 | N155: znížená | O155: 2.961 | P155: =O155*H155 -> 229.1281 | Q155: 0 | R155: =Q155*H155 -> 0 | S155: 0 | T155: =S155*H155 -> 0 | AR155: 4 | AT155: K | AU155: 2 | AY155: ROZPOCET | BE155: =IF(N155="základná",J155,0) -> 0 | BF155: =IF(N155="znížená",J155,0) -> 0 | BG155: =IF(N155="zákl. prenesená",J155,0) -> 0 | BH155: =IF(N155="zníž. prenesená",J155,0) -> 0 | BI155: =IF(N155="nulová",J155,0) -> 0 | BJ155: 2 | BK155: =ROUND(I155*H155,2) -> 0 | BL155: 4 | BM155: -1994280151
C156: 5 | D156: K | E156: 133201109.S | F156: Príplatok k cenám za lepivosť pri hĺbení šachiet zapažených i nezapažených v hornine 3 | G156: m3 | H156: 23.215 | N156: znížená | O156: 0.447 | P156: =O156*H156 -> 10.377105 | Q156: 0 | R156: =Q156*H156 -> 0 | S156: 0 | T156: =S156*H156 -> 0 | AR156: 4 | AT156: K | AU156: 2 | AY156: ROZPOCET | BE156: =IF(N156="základná",J156,0) -> 0 | BF156: =IF(N156="znížená",J156,0) -> 0 | BG156: =IF(N156="zákl. prenesená",J156,0) -> 0 | BH156: =IF(N156="zníž. prenesená",J156,0) -> 0 | BI156: =IF(N156="nulová",J156,0) -> 0 | BJ156: 2 | BK156: =ROUND(I156*H156,2) -> 0 | BL156: 4 | BM156: 1556301173
C157: 6 | D157: K | E157: 162501102.S | F157: Vodorovné premiestnenie výkopku po spevnenej ceste z horniny tr.1-4, do 100 m3 na vzdialenosť do 3000 m | G157: m3 | H157: 285.102 | N157: znížená | O157: 0.071 | P157: =O157*H157 -> 20.242242 | Q157: 0 | R157: =Q157*H157 -> 0 | S157: 0 | T157: =S157*H157 -> 0 | AR157: 4 | AT157: K | AU157: 2 | AY157: ROZPOCET | BE157: =IF(N157="základná",J157,0) -> 0 | BF157: =IF(N157="znížená",J157,0) -> 0 | BG157: =IF(N157="zákl. prenesená",J157,0) -> 0 | BH157: =IF(N157="zníž. prenesená",J157,0) -> 0 | BI157: =IF(N157="nulová",J157,0) -> 0 | BJ157: 2 | BK157: =ROUND(I157*H157,2) -> 0 | BL157: 4 | BM157: 4
C158: 7 | D158: K | E158: 162501105.S | F158: Vodorovné premiestnenie výkopku po spevnenej ceste z horniny tr.1-4, do 100 m3, príplatok k cene za každých ďalšich a začatých 1000 m (2 km) | G158: m3 | H158: 570.204 | N158: znížená | O158: 0.007 | P158: =O158*H158 -> 3.991428 | Q158: 0 | R158: =Q158*H158 -> 0 | S158: 0 | T158: =S158*H158 -> 0 | AR158: 4 | AT158: K | AU158: 2 | AY158: ROZPOCET | BE158: =IF(N158="základná",J158,0) -> 0 | BF158: =IF(N158="znížená",J158,0) -> 0 | BG158: =IF(N158="zákl. prenesená",J158,0) -> 0 | BH158: =IF(N158="zníž. prenesená",J158,0) -> 0 | BI158: =IF(N158="nulová",J158,0) -> 0 | BJ158: 2 | BK158: =ROUND(I158*H158,2) -> 0 | BL158: 4 | BM158: 1919654609
C159: 8 | D159: K | E159: 171201202 | F159: Uloženie sypaniny na skládky nad 100 do 1000 m3 | G159: m3 | H159: 285.102 | N159: znížená | O159: 0 | P159: =O159*H159 -> 0 | Q159: 0 | R159: =Q159*H159 -> 0 | S159: 0 | T159: =S159*H159 -> 0 | AR159: 4 | AT159: K | AU159: 2 | AY159: ROZPOCET | BE159: =IF(N159="základná",J159,0) -> 0 | BF159: =IF(N159="znížená",J159,0) -> 0 | BG159: =IF(N159="zákl. prenesená",J159,0) -> 0 | BH159: =IF(N159="zníž. prenesená",J159,0) -> 0 | BI159: =IF(N159="nulová",J159,0) -> 0 | BJ159: 2 | BK159: =ROUND(I159*H159,2) -> 0 | BL159: 4 | BM159: 6
D160: D | E160: 2 | F160: Zakladanie | P160: =SUM(P161:P175) -> 230.07118 | R160: =SUM(R161:R175) -> 60.470522 | T160: =SUM(T161:T175) -> 0 | AR160: 1 | AT160: D | AU160: 1 | AY160: ROZPOCET | BK160: =SUM(BK161:BK175) -> 0
C161: 9 | D161: K | E161: 215901101 | F161: Zhutnenie podložia z rastlej horniny 1 až 4 pod násypy, z hornina súdržných do 92 % PS a nesúdržných | G161: m2 | H161: 222.367 | N161: znížená | O161: 0 | P161: =O161*H161 -> 0 | Q161: 0 | R161: =Q161*H161 -> 0 | S161: 0 | T161: =S161*H161 -> 0 | AR161: 4 | AT161: K | AU161: 2 | AY161: ROZPOCET | BE161: =IF(N161="základná",J161,0) -> 0 | BF161: =IF(N161="znížená",J161,0) -> 0 | BG161: =IF(N161="zákl. prenesená",J161,0) -> 0 | BH161: =IF(N161="zníž. prenesená",J161,0) -> 0 | BI161: =IF(N161="nulová",J161,0) -> 0 | BJ161: 2 | BK161: =ROUND(I161*H161,2) -> 0 | BL161: 4 | BM161: 8
C162: 10 | D162: K | E162: 273321312.S | F162: Podkladový betón dosiek, železový (bez výstuže), tr. C 20/25 | G162: m3 | H162: 26.694 | N162: znížená | O162: 0.61891 | P162: =O162*H162 -> 16.521184 | Q162: 2.2151342 | R162: =Q162*H162 -> 59.130792 | S162: 0 | T162: =S162*H162 -> 0 | AR162: 4 | AT162: K | AU162: 2 | AY162: ROZPOCET | BE162: =IF(N162="základná",J162,0) -> 0 | BF162: =IF(N162="znížená",J162,0) -> 0 | BG162: =IF(N162="zákl. prenesená",J162,0) -> 0 | BH162: =IF(N162="zníž. prenesená",J162,0) -> 0 | BI162: =IF(N162="nulová",J162,0) -> 0 | BJ162: 2 | BK162: =ROUND(I162*H162,2) -> 0 | BL162: 4 | BM162: -966605972
C163: 11 | D163: K | E163: 273362442.S | F163: Výstuž základových dosiek zo zvár. sietí KARI, priemer drôtu 8/8 mm, veľkosť oka 150x150 mm | G163: m2 | H163: 213.55 | N163: znížená | O163: 1 | P163: =O163*H163 -> 213.55 | Q163: 0.00627361 | R163: =Q163*H163 -> 1.3397294 | S163: 0 | T163: =S163*H163 -> 0 | AR163: 4 | AT163: K | AU163: 2 | AY163: ROZPOCET | BE163: =IF(N163="základná",J163,0) -> 0 | BF163: =IF(N163="znížená",J163,0) -> 0 | BG163: =IF(N163="zákl. prenesená",J163,0) -> 0 | BH163: =IF(N163="zníž. prenesená",J163,0) -> 0 | BI163: =IF(N163="nulová",J163,0) -> 0 | BJ163: 2 | BK163: =ROUND(I163*H163,2) -> 0 | BL163: 4 | BM163: 2144255969
C164: 12 | D164: K | E164: 274321411 | F164: Betón základových pásov železový (bez výstuže), tr.C 25/30 | G164: m3 | H164: 207.72 | N164: znížená | O164: 0 | P164: =O164*H164 -> 0 | Q164: 0 | R164: =Q164*H164 -> 0 | S164: 0 | T164: =S164*H164 -> 0 | AR164: 4 | AT164: K | AU164: 2 | AY164: ROZPOCET | BE164: =IF(N164="základná",J164,0) -> 0 | BF164: =IF(N164="znížená",J164,0) -> 0 | BG164: =IF(N164="zákl. prenesená",J164,0) -> 0 | BH164: =IF(N164="zníž. prenesená",J164,0) -> 0 | BI164: =IF(N164="nulová",J164,0) -> 0 | BJ164: 2 | BK164: =ROUND(I164*H164,2) -> 0 | BL164: 4 | BM164: 10
...

Sheet EL1 - Elektroinštalácia
L2: >> skryté stĺpce << | AT2: {eeb7e030-68df-4fbf-a658-2618afee56d5}
AT3: 0
D4: KRYCÍ LIST ROZPOČTU | M4: v --- nižšie sa nachádzajú doplnkové a pomocné údaje k zostavám --- v | AT4: False
D6: Stavba:
E7: ='Rekapitulácia stavby'!K6 -> Športová hala OLYMPIA v Nitre
D8: Objekt:
E9: SO01 - Športová hala, Nitra
D10: Časť:
E11: EL - Elektroinštalácia
D12: Úroveň 3:
E13: EL1 - Elektroinštalácia
D15: JKSO: | I15: ČS:
D16: Miesto: | F16: Nitra | I16: Dátum: | J16: ='Rekapitulácia stavby'!AN8 -> 8. 7. 2025
D18: Objednávateľ: | I18: IČO:
E19: Športová hala OLYMPIA s.r.o. Nitra | I19: IČ DPH:
D21: Zhotoviteľ: | I21: IČO:
I22: IČ DPH:
D24: Projektant: | I24: IČO:
E25: Ing. Stanislav Karas | I25: IČ DPH:
D27: Spracovateľ: | I27: IČO:
I28: IČ DPH:
D30: Poznámka:
D34: Cena bez DPH | J34: =ROUND(J127, 2) -> 0
F36: Základ dane | I36: Sadzba dane | J36: Výška dane
D37: DPH | E37: základná | F37: =ROUND((SUM(BE127:BE202)), 2) -> 0 | I37: 0.23 | J37: =ROUND(((SUM(BE127:BE202))*I37), 2) -> 0
E38: znížená | F38: =ROUND((SUM(BF127:BF202)), 2) -> 0 | I38: 0.23 | J38: =ROUND(((SUM(BF127:BF202))*I38), 2) -> 0
E39: zákl. prenesená | F39: =ROUND((SUM(BG127:BG202)), 2) -> 0 | I39: 0.23 | J39: =0 -> 0
E40: zníž. prenesená | F40: =ROUND((SUM(BH127:BH202)), 2) -> 0 | I40: 0.23 | J40: =0 -> 0
E41: nulová | F41: =ROUND((SUM(BI127:BI202)), 2) -> 0 | I41: 0 | J41: =0 -> 0
D43: Cena s DPH | G43: v | H43: EUR | J43: =SUM(J34:J41) -> 0
D50: Projektant | G50: Spracovateľ
D61: Dátum a podpis: | F61: Pečiatka | G61: Dátum a podpis: | J61: Pečiatka
D65: Objednávateľ | G65: Zhotoviteľ
D76: Dátum a podpis: | F76: Pečiatka | G76: Dátum a podpis: | J76: Pečiatka
C82: REKAPITULÁCIA ROZPOČTU
C84: Stavba:
E85: =E7 -> Športová hala OLYMPIA v Nitre
C86: Objekt:
E87: SO01 - Športová hala, Nitra
C88: Časť:
E89: EL - Elektroinštalácia
C90: Úroveň 3:
E91: =E13 -> EL1 - Elektroinštalácia
C93: Miesto: | F93: =F16 -> Nitra | I93: Dátum: | J93: =IF(J16="","",J16) -> 8. 7. 2025
C95: Objednávateľ: | F95: =E19 -> Športová hala OLYMPIA s.r.o. Nitra | I95: Projektant: | J95: =E25 -> Ing. Stanislav Karas
C96: Zhotoviteľ: | F96: =IF(E22="","",E22) | I96: Spracovateľ: | J96: =E28 -> 0
C98: Kód dielu - Popis | J98: Cena celkom [EUR]
C100: Náklady z rozpočtu | J100: =J127 -> 0 | AU100: -1
D101: M - Práce a dodávky M | J101: =J128 -> 0
D102: 21-M - Elektromontáže | J102: =J129 -> 0
D103: OST - Ostatné | J103: =J200 -> 0
C110: ROZPOČET
C112: Stavba:
E113: =E7 -> Športová hala OLYMPIA v Nitre
C114: Objekt:
E115: SO01 - Športová hala, Nitra
C116: Časť:
E117: EL - Elektroinštalácia
C118: Úroveň 3:
E119: =E13 -> EL1 - Elektroinštalácia
C121: Miesto: | F121: =F16 -> Nitra | I121: Dátum: | J121: =IF(J16="","",J16) -> 8. 7. 2025
C123: Objednávateľ: | F123: =E19 -> Športová hala OLYMPIA s.r.o. Nitra | I123: Projektant: | J123: =E25 -> Ing. Stanislav Karas
C124: Zhotoviteľ: | F124: =IF(E22="","",E22) | I124: Spracovateľ: | J124: =E28 -> 0
C126: PČ | D126: Typ | E126: Kód | F126: Popis | G126: MJ | H126: Množstvo | I126: J.cena [EUR] | J126: Cena celkom [EUR] | K126: Cenová sústava | N126: DPH | O126: J. Nh [h] | P126: Nh celkom [h] | Q126: J. hmotnosť [t] | R126: Hmotnosť celkom [t] | S126: J. suť [t] | T126: Suť Celkom [t]
C127: Náklady z rozpočtu | J127: =BK127 -> 0 | P127: =P128 -> 0 | R127: =R128 -> 0.095 | T127: =T128 -> 0 | AT127: D | AU127: -1 | BK127: =BK128 -> 0
D128: D | E128: M | F128: Práce a dodávky M | J128: =BK128 -> 0 | P128: =P129+P200 -> 0 | R128: =R129+R200 -> 0.095 | T128: =T129+T200 -> 0 | AR128: 3 | AT128: D | AU128: 0 | AY128: ROZPOCET | BK128: =BK129+BK200 -> 0
D129: D | E129: 21-M | F129: Elektromontáže | J129: =BK129 -> 0 | P129: =SUM(P130:P199) -> 0 | R129: =SUM(R130:R199) -> 0.095 | T129: =SUM(T130:T199) -> 0 | AR129: 3 | AT129: D | AU129: 1 | AY129: ROZPOCET | BK129: =SUM(BK130:BK199) -> 0
C130: 1 | D130: K | E130: 1 | F130: Krabica prístrojová bez zapojenia (1901, KP 68, KZ 3) | G130: ks | H130: 263 | N130: znížená | O130: 0 | P130: =O130*H130 -> 0 | Q130: 0 | R130: =Q130*H130 -> 0 | S130: 0 | T130: =S130*H130 -> 0 | AR130: 64 | AT130: K | AU130: 2 | AY130: ROZPOCET | BE130: =IF(N130="základná",J130,0) -> 0 | BF130: =IF(N130="znížená",J130,0) -> 0 | BG130: =IF(N130="zákl. prenesená",J130,0) -> 0 | BH130: =IF(N130="zníž. prenesená",J130,0) -> 0 | BI130: =IF(N130="nulová",J130,0) -> 0 | BJ130: 2 | BK130: =ROUND(I130*H130,2) -> 0 | BL130: 64 | BM130: 2
C131: 2 | D131: M | E131: 2 | F131: Krabica prístrojová rozvodná z PVC pod omietku KPR 68 | G131: ks | H131: 263 | N131: znížená | O131: 0 | P131: =O131*H131 -> 0 | Q131: 4.9429658e-05 | R131: =Q131*H131 -> 0.013 | S131: 0 | T131: =S131*H131 -> 0 | AR131: 256 | AT131: M | AU131: 2 | AY131: ROZPOCET | BE131: =IF(N131="základná",J131,0) -> 0 | BF131: =IF(N131="znížená",J131,0) -> 0 | BG131: =IF(N131="zákl. prenesená",J131,0) -> 0 | BH131: =IF(N131="zníž. prenesená",J131,0) -> 0 | BI131: =IF(N131="nulová",J131,0) -> 0 | BJ131: 2 | BK131: =ROUND(I131*H131,2) -> 0 | BL131: 64 | BM131: 4
C132: 3 | D132: K | E132: 3 | F132: Ukončenie celoplastových káblov zmrašť. záklopkou alebo páskou do 4 x 10 mm2 | G132: ks | H132: 55 | N132: znížená | O132: 0 | P132: =O132*H132 -> 0 | Q132: 0 | R132: =Q132*H132 -> 0 | S132: 0 | T132: =S132*H132 -> 0 | AR132: 64 | AT132: K | AU132: 2 | AY132: ROZPOCET | BE132: =IF(N132="základná",J132,0) -> 0 | BF132: =IF(N132="znížená",J132,0) -> 0 | BG132: =IF(N132="zákl. prenesená",J132,0) -> 0 | BH132: =IF(N132="zníž. prenesená",J132,0) -> 0 | BI132: =IF(N132="nulová",J132,0) -> 0 | BJ132: 2 | BK132: =ROUND(I132*H132,2) -> 0 | BL132: 64 | BM132: 6
C133: 4 | D133: K | E133: 4 | F133: Ukončenie celoplastových káblov zmrašť. záklopkou alebo páskou do 4 x 10 mm2 | G133: ks | H133: 2 | N133: znížená | O133: 0 | P133: =O133*H133 -> 0 | Q133: 0 | R133: =Q133*H133 -> 0 | S133: 0 | T133: =S133*H133 -> 0 | AR133: 64 | AT133: K | AU133: 2 | AY133: ROZPOCET | BE133: =IF(N133="základná",J133,0) -> 0 | BF133: =IF(N133="znížená",J133,0) -> 0 | BG133: =IF(N133="zákl. prenesená",J133,0) -> 0 | BH133: =IF(N133="zníž. prenesená",J133,0) -> 0 | BI133: =IF(N133="nulová",J133,0) -> 0 | BJ133: 2 | BK133: =ROUND(I133*H133,2) -> 0 | BL133: 64 | BM133: 8
C134: 5 | D134: K | E134: 5 | F134: Ukončenie celoplastových káblov zmrašť. záklopkou alebo páskou do 5 x 4 mm2 | G134: ks | H134: 4 | N134: znížená | O134: 0 | P134: =O134*H134 -> 0 | Q134: 0 | R134: =Q134*H134 -> 0 | S134: 0 | T134: =S134*H134 -> 0 | AR134: 64 | AT134: K | AU134: 2 | AY134: ROZPOCET | BE134: =IF(N134="základná",J134,0) -> 0 | BF134: =IF(N134="znížená",J134,0) -> 0 | BG134: =IF(N134="zákl. prenesená",J134,0) -> 0 | BH134: =IF(N134="zníž. prenesená",J134,0) -> 0 | BI134: =IF(N134="nulová",J134,0) -> 0 | BJ134: 2 | BK134: =ROUND(I134*H134,2) -> 0 | BL134: 64 | BM134: 10
C135: 6 | D135: K | E135: 6 | F135: Spínač nástenný pre prostredie vonkajšie a mokré, vrátane zapojenia trojpólový 16 A -radenie 3 | G135: ks | H135: 1 | N135: znížená | O135: 0 | P135: =O135*H135 -> 0 | Q135: 0 | R135: =Q135*H135 -> 0 | S135: 0 | T135: =S135*H135 -> 0 | AR135: 64 | AT135: K | AU135: 2 | AY135: ROZPOCET | BE135: =IF(N135="základná",J135,0) -> 0 | BF135: =IF(N135="znížená",J135,0) -> 0 | BG135: =IF(N135="zákl. prenesená",J135,0) -> 0 | BH135: =IF(N135="zníž. prenesená",J135,0) -> 0 | BI135: =IF(N135="nulová",J135,0) -> 0 | BJ135: 2 | BK135: =ROUND(I135*H135,2) -> 0 | BL135: 64 | BM135: 12
C136: 7 | D136: M | E136: 7 | F136: Spínač stláčací nástenný, IP43, 400V/16A | G136: ks | H136: 1 | N136: znížená | O136: 0 | P136: =O136*H136 -> 0 | Q136: 0.001 | R136: =Q136*H136 -> 0.001 | S136: 0 | T136: =S136*H136 -> 0 | AR136: 256 | AT136: M | AU136: 2 | AY136: ROZPOCET | BE136: =IF(N136="základná",J136,0) -> 0 | BF136: =IF(N136="znížená",J136,0) -> 0 | BG136: =IF(N136="zákl. prenesená",J136,0) -> 0 | BH136: =IF(N136="zníž. prenesená",J136,0) -> 0 | BI136: =IF(N136="nulová",J136,0) -> 0 | BJ136: 2 | BK136: =ROUND(I136*H136,2) -> 0 | BL136: 64 | BM136: 14
C137: 8 | D137: K | E137: 8 | F137: Spínač nástenný pre prostredie vonkajšie a mokré, vrátane zapojenia trojpólový 20 A -radenie 3 | G137: ks | H137: 2 | N137: znížená | O137: 0 | P137: =O137*H137 -> 0 | Q137: 0 | R137: =Q137*H137 -> 0 | S137: 0 | T137: =S137*H137 -> 0 | AR137: 64 | AT137: K | AU137: 2 | AY137: ROZPOCET | BE137: =IF(N137="základná",J137,0) -> 0 | BF137: =IF(N137="znížená",J137,0) -> 0 | BG137: =IF(N137="zákl. prenesená",J137,0) -> 0 | BH137: =IF(N137="zníž. prenesená",J137,0) -> 0 | BI137: =IF(N137="nulová",J137,0) -> 0 | BJ137: 2 | BK137: =ROUND(I137*H137,2) -> 0 | BL137: 64 | BM137: 16
C138: 9 | D138: M | E138: 9 | F138: Spínač stláčací nástenný, IP55, 400V/20A | G138: ks | H138: 2 | N138: znížená | O138: 0 | P138: =O138*H138 -> 0 | Q138: 0.0005 | R138: =Q138*H138 -> 0.001 | S138: 0 | T138: =S138*H138 -> 0 | AR138: 256 | AT138: M | AU138: 2 | AY138: ROZPOCET | BE138: =IF(N138="základná",J138,0) -> 0 | BF138: =IF(N138="znížená",J138,0) -> 0 | BG138: =IF(N138="zákl. prenesená",J138,0) -> 0 | BH138: =IF(N138="zníž. prenesená",J138,0) -> 0 | BI138: =IF(N138="nulová",J138,0) -> 0 | BJ138: 2 | BK138: =ROUND(I138*H138,2) -> 0 | BL138: 64 | BM138: 18
C139: 10 | D139: K | E139: 10 | F139: Spínač polozapustený a zapustený vrátane zapojenia jednopólový - radenie 1 | G139: ks | H139: 30 | N139: znížená | O139: 0 | P139: =O139*H139 -> 0 | Q139: 0 | R139: =Q139*H139 -> 0 | S139: 0 | T139: =S139*H139 -> 0 | AR139: 64 | AT139: K | AU139: 2 | AY139: ROZPOCET | BE139: =IF(N139="základná",J139,0) -> 0 | BF139: =IF(N139="znížená",J139,0) -> 0 | BG139: =IF(N139="zákl. prenesená",J139,0) -> 0 | BH139: =IF(N139="zníž. prenesená",J139,0) -> 0 | BI139: =IF(N139="nulová",J139,0) -> 0 | BJ139: 2 | BK139: =ROUND(I139*H139,2) -> 0 | BL139: 64 | BM139: 20
C140: 11 | D140: M | E140: 11 | F140: Spínač Valena Life polozapustený, radenie 1,1So | G140: ks | H140: 30 | N140: znížená | O140: 0 | P140: =O140*H140 -> 0 | Q140: 6.6666667e-05 | R140: =Q140*H140 -> 0.002 | S140: 0 | T140: =S140*H140 -> 0 | AR140: 256 | AT140: M | AU140: 2 | AY140: ROZPOCET | BE140: =IF(N140="základná",J140,0) -> 0 | BF140: =IF(N140="znížená",J140,0) -> 0 | BG140: =IF(N140="zákl. prenesená",J140,0) -> 0 | BH140: =IF(N140="zníž. prenesená",J140,0) -> 0 | BI140: =IF(N140="nulová",J140,0) -> 0 | BJ140: 2 | BK140: =ROUND(I140*H140,2) -> 0 | BL140: 64 | BM140: 22
C141: 12 | D141: M | E141: 12 | F141: Rámček 1-násobný | G141: ks | H141: 30 | N141: znížená | O141: 0 | P141: =O141*H141 -> 0 | Q141: 0 | R141: =Q141*H141 -> 0 | S141: 0 | T141: =S141*H141 -> 0 | AR141: 256 | AT141: M | AU141: 2 | AY141: ROZPOCET | BE141: =IF(N141="základná",J141,0) -> 0 | BF141: =IF(N141="znížená",J141,0) -> 0 | BG141: =IF(N141="zákl. prenesená",J141,0) -> 0 | BH141: =IF(N141="zníž. prenesená",J141,0) -> 0 | BI141: =IF(N141="nulová",J141,0) -> 0 | BJ141: 2 | BK141: =ROUND(I141*H141,2) -> 0 | BL141: 64 | BM141: 24
... C199: 70 | D199: M | E199: 70 | F199: Zásuvka dátová RJ45 Cat 6 FTP | G199: ks | H199: 55 | N199: znížená | O199: 0 | P199: =O199*H199 -> 0 | Q199: 3.6363636e-05 | R199: =Q199*H199 -> 0.002 | S199: 0 | T199: =S199*H199 -> 0 | AR199: 256 | AT199: M | AU199: 2 | AY199: ROZPOCET | BE199: =IF(N199="základná",J199,0) -> 0 | BF199: =IF(N199="znížená",J199,0) -> 0 | BG199: =IF(N199="zákl. prenesená",J199,0) -> 0 | BH199: =IF(N199="zníž. prenesená",J199,0) -> 0 | BI199: =IF(N199="nulová",J199,0) -> 0 | BJ199: 2 | BK199: =ROUND(I199*H199,2) -> 0 | BL199: 64 | BM199: 140
D200: D | E200: OST | F200: Ostatné | P200: =SUM(P201:P202) -> 0 | R200: =SUM(R201:R202) -> 0 | T200: =SUM(T201:T202) -> 0 | AR200: 4 | AT200: D | AU200: 1 | AY200: ROZPOCET | BK200: =SUM(BK201:BK202) -> 0
C201: 71 | D201: K | E201: 71 | F201: Východisková revízia | G201: hod | H201: 60 | N201: znížená | O201: 0 | P201: =O201*H201 -> 0 | Q201: 0 | R201: =Q201*H201 -> 0 | S201: 0 | T201: =S201*H201 -> 0 | AR201: 262144 | AT201: K | AU201: 2 | AY201: ROZPOCET | BE201: =IF(N201="základná",J201,0) -> 0 | BF201: =IF(N201="znížená",J201,0) -> 0 | BG201: =IF(N201="zákl. prenesená",J201,0) -> 0 | BH201: =IF(N201="zníž. prenesená",J201,0) -> 0 | BI201: =IF(N201="nulová",J201,0) -> 0 | BJ201: 2 | BK201: =ROUND(I201*H201,2) -> 0 | BL201: 262144 | BM201: 142
C202: 72 | D202: K | E202: 72 | F202: Dokumentácia skutočného vyhotovenia | G202: kpl | H202: 1 | N202: znížená | O202: 0 | P202: =O202*H202 -> 0 | Q202: 0 | R202: =Q202*H202 -> 0 | S202: 0 | T202: =S202*H202 -> 0 | AR202: 262144 | AT202: K | AU202: 2 | AY202: ROZPOCET | BE202: =IF(N202="základná",J202,0) -> 0 | BF202: =IF(N202="znížená",J202,0) -> 0 | BG202: =IF(N202="zákl. prenesená",J202,0) -> 0 | BH202: =IF(N202="zníž. prenesená",J202,0) -> 0 | BI202: =IF(N202="nulová",J202,0) -> 0 | BJ202: 2 | BK202: =ROUND(I202*H202,2) -> 0 | BL202: 262144 | BM202: 144

Sheet EL2 - Bleskozvod + Uzemnenie
L2: >> skryté stĺpce << | AT2: {fd753120-6828-416c-90db-32f963bcef9f}
AT3: 0
D4: KRYCÍ LIST ROZPOČTU | M4: v --- nižšie sa nachádzajú doplnkové a pomocné údaje k zostavám --- v | AT4: False
D6: Stavba:
E7: ='Rekapitulácia stavby'!K6 -> Športová hala OLYMPIA v Nitre
D8: Objekt:
E9: SO01 - Športová hala, Nitra
D10: Časť:
E11: EL - Elektroinštalácia
D12: Úroveň 3:
E13: EL2 - Bleskozvod + Uzemnenie
D15: JKSO: | I15: ČS:
D16: Miesto: | F16: Nitra | I16: Dátum: | J16: ='Rekapitulácia stavby'!AN8 -> 8. 7. 2025
D18: Objednávateľ: | I18: IČO:
E19: Športová hala OLYMPIA s.r.o. | I19: IČ DPH:
D21: Zhotoviteľ: | I21: IČO:
I22: IČ DPH:
D24: Projektant: | I24: IČO:
E25: Ing. Stanislav Karas | I25: IČ DPH:
D27: Spracovateľ: | I27: IČO:
I28: IČ DPH:
D30: Poznámka:
D34: Cena bez DPH | J34: =ROUND(J127, 2) -> 0
F36: Základ dane | I36: Sadzba dane | J36: Výška dane
D37: DPH | E37: základná | F37: =ROUND((SUM(BE127:BE180)), 2) -> 0 | I37: 0.23 | J37: =ROUND(((SUM(BE127:BE180))*I37), 2) -> 0
E38: znížená | F38: =ROUND((SUM(BF127:BF180)), 2) -> 0 | I38: 0.23 | J38: =ROUND(((SUM(BF127:BF180))*I38), 2) -> 0
E39: zákl. prenesená | F39: =ROUND((SUM(BG127:BG180)), 2) -> 0 | I39: 0.23 | J39: =0 -> 0
E40: zníž. prenesená | F40: =ROUND((SUM(BH127:BH180)), 2) -> 0 | I40: 0.23 | J40: =0 -> 0
E41: nulová | F41: =ROUND((SUM(BI127:BI180)), 2) -> 0 | I41: 0 | J41: =0 -> 0
D43: Cena s DPH | G43: v | H43: EUR | J43: =SUM(J34:J41) -> 0
D50: Projektant | G50: Spracovateľ
D61: Dátum a podpis: | F61: Pečiatka | G61: Dátum a podpis: | J61: Pečiatka
D65: Objednávateľ | G65: Zhotoviteľ
D76: Dátum a podpis: | F76: Pečiatka | G76: Dátum a podpis: | J76: Pečiatka
C82: REKAPITULÁCIA ROZPOČTU
C84: Stavba:
E85: =E7 -> Športová hala OLYMPIA v Nitre
C86: Objekt:
E87: SO01 - Športová hala, Nitra
C88: Časť:
E89: EL - Elektroinštalácia
C90: Úroveň 3:
E91: =E13 -> EL2 - Bleskozvod + Uzemnenie
C93: Miesto: | F93: =F16 -> Nitra | I93: Dátum: | J93: =IF(J16="","",J16) -> 8. 7. 2025
C95: Objednávateľ: | F95: =E19 -> Športová hala OLYMPIA s.r.o. | I95: Projektant: | J95: =E25 -> Ing. Stanislav Karas
C96: Zhotoviteľ: | F96: =IF(E22="","",E22) | I96: Spracovateľ: | J96: =E28 -> 0
C98: Kód dielu - Popis | J98: Cena celkom [EUR]
C100: Náklady z rozpočtu | J100: =J127 -> 0 | AU100: -1
D101: M - Práce a dodávky M | J101: =J128 -> 0
D102: 21-M - Elektromontáže | J102: =J129 -> 0
D103: OST - Ostatné | J103: =J178 -> 0
C110: ROZPOČET
C112: Stavba:
E113: =E7 -> Športová hala OLYMPIA v Nitre
C114: Objekt:
E115: SO01 - Športová hala, Nitra
C116: Časť:
E117: EL - Elektroinštalácia
C118: Úroveň 3:
E119: =E13 -> EL2 - Bleskozvod + Uzemnenie
C121: Miesto: | F121: =F16 -> Nitra | I121: Dátum: | J121: =IF(J16="","",J16) -> 8. 7. 2025
C123: Objednávateľ: | F123: =E19 -> Športová hala OLYMPIA s.r.o. | I123: Projektant: | J123: =E25 -> Ing. Stanislav Karas
C124: Zhotoviteľ: | F124: =IF(E22="","",E22) | I124: Spracovateľ: | J124: =E28 -> 0
C126: PČ | D126: Typ | E126: Kód | F126: Popis | G126: MJ | H126: Množstvo | I126: J.cena [EUR] | J126: Cena celkom [EUR] | K126: Cenová sústava | N126: DPH | O126: J. Nh [h] | P126: Nh celkom [h] | Q126: J. hmotnosť [t] | R126: Hmotnosť celkom [t] | S126: J. suť [t] | T126: Suť Celkom [t]
C127: Náklady z rozpočtu | J127: =BK127 -> 0 | P127: =P128 -> 0 | R127: =R128 -> 1.307 | T127: =T128 -> 0 | AT127: D | AU127: -1 | BK127: =BK128 -> 0
D128: D | E128: M | F128: Práce a dodávky M | J128: =BK128 -> 0 | P128: =P129+P178 -> 0 | R128: =R129+R178 -> 1.307 | T128: =T129+T178 -> 0 | AR128: 3 | AT128: D | AU128: 0 | AY128: ROZPOCET | BK128: =BK129+BK178 -> 0
D129: D | E129: 21-M | F129: Elektromontáže | J129: =BK129 -> 0 | P129: =SUM(P130:P177) -> 0 | R129: =SUM(R130:R177) -> 1.307 | T129: =SUM(T130:T177) -> 0 | AR129: 3 | AT129: D | AU129: 1 | AY129: ROZPOCET | BK129: =SUM(BK130:BK177) -> 0
C130: 1 | D130: K | E130: 1 | F130: Uzemňovacie vedenie na povrchu FeZn drôt zvodový O 8-10 | G130: m | H130: 55 | N130: znížená | O130: 0 | P130: =O130*H130 -> 0 | Q130: 0 | R130: =Q130*H130 -> 0 | S130: 0 | T130: =S130*H130 -> 0 | AR130: 64 | AT130: K | AU130: 2 | AY130: ROZPOCET | BE130: =IF(N130="základná",J130,0) -> 0 | BF130: =IF(N130="znížená",J130,0) -> 0 | BG130: =IF(N130="zákl. prenesená",J130,0) -> 0 | BH130: =IF(N130="zníž. prenesená",J130,0) -> 0 | BI130: =IF(N130="nulová",J130,0) -> 0 | BJ130: 2 | BK130: =ROUND(I130*H130,2) -> 0 | BL130: 64 | BM130: 2
C131: 2 | D131: M | E131: 2 | F131: Drôt bleskozvodový FeZn, d 10 mm, PVC | G131: ks | H131: 38.5 | N131: znížená | O131: 0 | P131: =O131*H131 -> 0 | Q131: 0.001012987 | R131: =Q131*H131 -> 0.039 | S131: 0 | T131: =S131*H131 -> 0 | AR131: 256 | AT131: M | AU131: 2 | AY131: ROZPOCET | BE131: =IF(N131="základná",J131,0) -> 0 | BF131: =IF(N131="znížená",J131,0) -> 0 | BG131: =IF(N131="zákl. prenesená",J131,0) -> 0 | BH131: =IF(N131="zníž. prenesená",J131,0) -> 0 | BI131: =IF(N131="nulová",J131,0) -> 0 | BJ131: 2 | BK131: =ROUND(I131*H131,2) -> 0 | BL131: 64 | BM131: 4
C132: 3 | D132: K | E132: 3 | F132: Uzemňovacie vedenie v zemi FeZn do 120 mm2 vrátane izolácie spojov | G132: m | H132: 587 | N132: znížená | O132: 0 | P132: =O132*H132 -> 0 | Q132: 0 | R132: =Q132*H132 -> 0 | S132: 0 | T132: =S132*H132 -> 0 | AR132: 64 | AT132: K | AU132: 2 | AY132: ROZPOCET | BE132: =IF(N132="základná",J132,0) -> 0 | BF132: =IF(N132="znížená",J132,0) -> 0 | BG132: =IF(N132="zákl. prenesená",J132,0) -> 0 | BH132: =IF(N132="zníž. prenesená",J132,0) -> 0 | BI132: =IF(N132="nulová",J132,0) -> 0 | BJ132: 2 | BK132: =ROUND(I132*H132,2) -> 0 | BL132: 64 | BM132: 6
C133: 4 | D133: M | E133: 4 | F133: Pásovina uzemňovacia FeZn 30 x 4 mm | G133: kg | H133: 557.65 | N133: znížená | O133: 0 | P133: =O133*H133 -> 0 | Q133: 0.0010006276 | R133: =Q133*H133 -> 0.558 | S133: 0 | T133: =S133*H133 -> 0 | AR133: 256 | AT133: M | AU133: 2 | AY133: ROZPOCET | BE133: =IF(N133="základná",J133,0) -> 0 | BF133: =IF(N133="znížená",J133,0) -> 0 | BG133: =IF(N133="zákl. prenesená",J133,0) -> 0 | BH133: =IF(N133="zníž. prenesená",J133,0) -> 0 | BI133: =IF(N133="nulová",J133,0) -> 0 | BJ133: 2 | BK133: =ROUND(I133*H133,2) -> 0 | BL133: 64 | BM133: 8
C134: 5 | D134: K | E134: 5 | F134: Uzemňovacie vedenie v zemi FeZn vrátane izolácie spojov O 10 mm | G134: m | H134: 199 | N134: znížená | O134: 0 | P134: =O134*H134 -> 0 | Q134: 0 | R134: =Q134*H134 -> 0 | S134: 0 | T134: =S134*H134 -> 0 | AR134: 64 | AT134: K | AU134: 2 | AY134: ROZPOCET | BE134: =IF(N134="základná",J134,0) -> 0 | BF134: =IF(N134="znížená",J134,0) -> 0 | BG134: =IF(N134="zákl. prenesená",J134,0) -> 0 | BH134: =IF(N134="zníž. prenesená",J134,0) -> 0 | BI134: =IF(N134="nulová",J134,0) -> 0 | BJ134: 2 | BK134: =ROUND(I134*H134,2) -> 0 | BL134: 64 | BM134: 10
C135: 6 | D135: M | E135: 6 | F135: Drôt bleskozvodový FeZn, d 10 mm | G135: kg | H135: 124.375 | N135: znížená | O135: 0 | P135: =O135*H135 -> 0 | Q135: 0.00099698492 | R135: =Q135*H135 -> 0.124 | S135: 0 | T135: =S135*H135 -> 0 | AR135: 256 | AT135: M | AU135: 2 | AY135: ROZPOCET | BE135: =IF(N135="základná",J135,0) -> 0 | BF135: =IF(N135="znížená",J135,0) -> 0 | BG135: =IF(N135="zákl. prenesená",J135,0) -> 0 | BH135: =IF(N135="zníž. prenesená",J135,0) -> 0 | BI135: =IF(N135="nulová",J135,0) -> 0 | BJ135: 2 | BK135: =ROUND(I135*H135,2) -> 0 | BL135: 64 | BM135: 12
C136: 7 | D136: K | E136: 7 | F136: Ekvipotenciálna svorkovnica EPS 2 v krabici KO 125 E | G136: ks | H136: 27 | N136: znížená | O136: 0 | P136: =O136*H136 -> 0 | Q136: 0 | R136: =Q136*H136 -> 0 | S136: 0 | T136: =S136*H136 -> 0 | AR136: 64 | AT136: K | AU136: 2 | AY136: ROZPOCET | BE136: =IF(N136="základná",J136,0) -> 0 | BF136: =IF(N136="znížená",J136,0) -> 0 | BG136: =IF(N136="zákl. prenesená",J136,0) -> 0 | BH136: =IF(N136="zníž. prenesená",J136,0) -> 0 | BI136: =IF(N136="nulová",J136,0) -> 0 | BJ136: 2 | BK136: =ROUND(I136*H136,2) -> 0 | BL136: 64 | BM136: 14
C137: 8 | D137: M | E137: 8 | F137: Krabica odbočná z PVC s viečkom pod omietku KO 125 E, šxvxh 150x150x77 mm, KOPOS | G137: ks | H137: 27 | N137: znížená | O137: 0 | P137: =O137*H137 -> 0 | Q137: 0.0002962963 | R137: =Q137*H137 -> 0.008 | S137: 0 | T137: =S137*H137 -> 0 | AR137: 256 | AT137: M | AU137: 2 | AY137: ROZPOCET | BE137: =IF(N137="základná",J137,0) -> 0 | BF137: =IF(N137="znížená",J137,0) -> 0 | BG137: =IF(N137="zákl. prenesená",J137,0) -> 0 | BH137: =IF(N137="zníž. prenesená",J137,0) -> 0 | BI137: =IF(N137="nulová",J137,0) -> 0 | BJ137: 2 | BK137: =ROUND(I137*H137,2) -> 0 | BL137: 64 | BM137: 16
C138: 9 | D138: M | E138: 9 | F138: Svorkovnica ekvipotencionálna z PP biela EPS 2 XX, šxvxh 126x50x60 mm, KOPOS | G138: ks | H138: 27 | N138: znížená | O138: 0 | P138: =O138*H138 -> 0 | Q138: 0.00022222222 | R138: =Q138*H138 -> 0.006 | S138: 0 | T138: =S138*H138 -> 0 | AR138: 256 | AT138: M | AU138: 2 | AY138: ROZPOCET | BE138: =IF(N138="základná",J138,0) -> 0 | BF138: =IF(N138="znížená",J138,0) -> 0 | BG138: =IF(N138="zákl. prenesená",J138,0) -> 0 | BH138: =IF(N138="zníž. prenesená",J138,0) -> 0 | BI138: =IF(N138="nulová",J138,0) -> 0 | BJ138: 2 | BK138: =ROUND(I138*H138,2) -> 0 | BL138: 64 | BM138: 18
C139: 10 | D139: K | E139: 10 | F139: Podpery vedenia FeZn na plechové strechy PV23, PV24 | G139: ks | H139: 382 | N139: znížená | O139: 0 | P139: =O139*H139 -> 0 | Q139: 0 | R139: =Q139*H139 -> 0 | S139: 0 | T139: =S139*H139 -> 0 | AR139: 64 | AT139: K | AU139: 2 | AY139: ROZPOCET | BE139: =IF(N139="základná",J139,0) -> 0 | BF139: =IF(N139="znížená",J139,0) -> 0 | BG139: =IF(N139="zákl. prenesená",J139,0) -> 0 | BH139: =IF(N139="zníž. prenesená",J139,0) -> 0 | BI139: =IF(N139="nulová",J139,0) -> 0 | BJ139: 2 | BK139: =ROUND(I139*H139,2) -> 0 | BL139: 64 | BM139: 20
C140: 11 | D140: M | E140: 11 | F140: Podpera vedenia FeZn na plechové strechy označenie PV 23 | G140: ks | H140: 382 | N140: znížená | O140: 0 | P140: =O140*H140 -> 0 | Q140: 0.00019109948 | R140: =Q140*H140 -> 0.073 | S140: 0 | T140: =S140*H140 -> 0 | AR140: 256 | AT140: M | AU140: 2 | AY140: ROZPOCET | BE140: =IF(N140="základná",J140,0) -> 0 | BF140: =IF(N140="znížená",J140,0) -> 0 | BG140: =IF(N140="zákl. prenesená",J140,0) -> 0 | BH140: =IF(N140="zníž. prenesená",J140,0) -> 0 | BI140: =IF(N140="nulová",J140,0) -> 0 | BJ140: 2 | BK140: =ROUND(I140*H140,2) -> 0 | BL140: 64 | BM140: 22
C141: 12 | D141: M | E141: 12 | F141: Tesniaci set | G141: ks | H141: 382 | N141: znížená | O141: 0 | P141: =O141*H141 -> 0 | Q141: 4.973822e-05 | R141: =Q141*H141 -> 0.019 | S141: 0 | T141: =S141*H141 -> 0 | AR141: 256 | AT141: M | AU141: 2 | AY141: ROZPOCET | BE141: =IF(N141="základná",J141,0) -> 0 | BF141: =IF(N141="znížená",J141,0) -> 0 | BG141: =IF(N141="zákl. prenesená",J141,0) -> 0 | BH141: =IF(N141="zníž. prenesená",J141,0) -> 0 | BI141: =IF(N141="nulová",J141,0) -> 0 | BJ141: 2 | BK141: =ROUND(I141*H141,2) -> 0 | BL141: 64 | BM141: 24
... C177: 48 | D177: M | E177: 48 | F177: Drôt bleskozvodový izolovaný zliatina AlMgSi označenie O 8 Al PVC | G177: kg | H177: 77.8 | N177: znížená | O177: 0 | P177: =O177*H177 -> 0 | Q177: 0.0010025707 | R177: =Q177*H177 -> 0.078 | S177: 0 | T177: =S177*H177 -> 0 | AR177: 256 | AT177: M | AU177: 2 | AY177: ROZPOCET | BE177: =IF(N177="základná",J177,0) -> 0 | BF177: =IF(N177="znížená",J177,0) -> 0 | BG177: =IF(N177="zákl. prenesená",J177,0) -> 0 | BH177: =IF(N177="zníž. prenesená",J177,0) -> 0 | BI177: =IF(N177="nulová",J177,0) -> 0 | BJ177: 2 | BK177: =ROUND(I177*H177,2) -> 0 | BL177: 64 | BM177: 96
D178: D | E178: OST | F178: Ostatné | P178: =SUM(P179:P180) -> 0 | R178: =SUM(R179:R180) -> 0 | T178: =SUM(T179:T180) -> 0 | AR178: 4 | AT178: D | AU178: 1 | AY178: ROZPOCET | BK178: =SUM(BK179:BK180) -> 0
C179: 49 | D179: K | E179: 49 | F179: Východisková revízia | G179: hod | H179: 40 | N179: znížená | O179: 0 | P179: =O179*H179 -> 0 | Q179: 0 | R179: =Q179*H179 -> 0 | S179: 0 | T179: =S179*H179 -> 0 | AR179: 262144 | AT179: K | AU179: 2 | AY179: ROZPOCET | BE179: =IF(N179="základná",J179,0) -> 0 | BF179: =IF(N179="znížená",J179,0) -> 0 | BG179: =IF(N179="zákl. prenesená",J179,0) -> 0 | BH179: =IF(N179="zníž. prenesená",J179,0) -> 0 | BI179: =IF(N179="nulová",J179,0) -> 0 | BJ179: 2 | BK179: =ROUND(I179*H179,2) -> 0 | BL179: 262144 | BM179: 98
C180: 50 | D180: K | E180: 50 | F180: Dokumentácia skutočného vyhotovenia | G180: kpl | H180: 1 | N180: znížená | O180: 0 | P180: =O180*H180 -> 0 | Q180: 0 | R180: =Q180*H180 -> 0 | S180: 0 | T180: =S180*H180 -> 0 | AR180: 262144 | AT180: K | AU180: 2 | AY180: ROZPOCET | BE180: =IF(N180="základná",J180,0) -> 0 | BF180: =IF(N180="znížená",J180,0) -> 0 | BG180: =IF(N180="zákl. prenesená",J180,0) -> 0 | BH180: =IF(N180="zníž. prenesená",J180,0) -> 0 | BI180: =IF(N180="nulová",J180,0) -> 0 | BJ180: 2 | BK180: =ROUND(I180*H180,2) -> 0 | BL180: 262144 | BM180: 100

Sheet EL3 - Svietidlá
L2: >> skryté stĺpce << | AT2: {7528dafb-23a8-4f06-8317-ad9c46040f8d}
AT3: 0
D4: KRYCÍ LIST ROZPOČTU | M4: v --- nižšie sa nachádzajú doplnkové a pomocné údaje k zostavám --- v | AT4: False
D6: Stavba:
E7: ='Rekapitulácia stavby'!K6 -> Športová hala OLYMPIA v Nitre
D8: Objekt:
E9: SO01 - Športová hala, Nitra
D10: Časť:
E11: EL - Elektroinštalácia
D12: Úroveň 3:
E13: EL3 - Svietidlá
D15: JKSO: | I15: ČS:
D16: Miesto: | F16: Nitra | I16: Dátum: | J16: ='Rekapitulácia stavby'!AN8 -> 8. 7. 2025
D18: Objednávateľ: | I18: IČO:
E19: Športová hala OLYMPIA s.r.o. | I19: IČ DPH:
D21: Zhotoviteľ: | I21: IČO:
I22: IČ DPH:
D24: Projektant: | I24: IČO:
E25: Ing. Stanislav Karas | I25: IČ DPH:
D27: Spracovateľ: | I27: IČO:
I28: IČ DPH:
D30: Poznámka:
D34: Cena bez DPH | J34: =ROUND(J126, 2) -> 0
F36: Základ dane | I36: Sadzba dane | J36: Výška dane
D37: DPH | E37: základná | F37: =ROUND((SUM(BE126:BE174)), 2) -> 0 | I37: 0.23 | J37: =ROUND(((SUM(BE126:BE174))*I37), 2) -> 0
E38: znížená | F38: =ROUND((SUM(BF126:BF174)), 2) -> 0 | I38: 0.23 | J38: =ROUND(((SUM(BF126:BF174))*I38), 2) -> 0
E39: zákl. prenesená | F39: =ROUND((SUM(BG126:BG174)), 2) -> 0 | I39: 0.23 | J39: =0 -> 0
E40: zníž. prenesená | F40: =ROUND((SUM(BH126:BH174)), 2) -> 0 | I40: 0.23 | J40: =0 -> 0
E41: nulová | F41: =ROUND((SUM(BI126:BI174)), 2) -> 0 | I41: 0 | J41: =0 -> 0
D43: Cena s DPH | G43: v | H43: EUR | J43: =SUM(J34:J41) -> 0
D50: Projektant | G50: Spracovateľ
D61: Dátum a podpis: | F61: Pečiatka | G61: Dátum a podpis: | J61: Pečiatka
D65: Objednávateľ | G65: Zhotoviteľ
D76: Dátum a podpis: | F76: Pečiatka | G76: Dátum a podpis: | J76: Pečiatka
C82: REKAPITULÁCIA ROZPOČTU
C84: Stavba:
E85: =E7 -> Športová hala OLYMPIA v Nitre
C86: Objekt:
E87: SO01 - Športová hala, Nitra
C88: Časť:
E89: EL - Elektroinštalácia
C90: Úroveň 3:
E91: =E13 -> EL3 - Svietidlá
C93: Miesto: | F93: =F16 -> Nitra | I93: Dátum: | J93: =IF(J16="","",J16) -> 8. 7. 2025
C95: Objednávateľ: | F95: =E19 -> Športová hala OLYMPIA s.r.o. | I95: Projektant: | J95: =E25 -> Ing. Stanislav Karas
C96: Zhotoviteľ: | F96: =IF(E22="","",E22) | I96: Spracovateľ: | J96: =E28 -> 0
C98: Kód dielu - Popis | J98: Cena celkom [EUR]
C100: Náklady z rozpočtu | J100: =J126 -> 0 | AU100: -1
D101: M - Práce a dodávky M | J101: =J127 -> 0
D102: 21-M - Elektromontáže | J102: =J128 -> 0
C109: ROZPOČET
C111: Stavba:
E112: =E7 -> Športová hala OLYMPIA v Nitre
C113: Objekt:
E114: SO01 - Športová hala, Nitra
C115: Časť:
E116: EL - Elektroinštalácia
C117: Úroveň 3:
E118: =E13 -> EL3 - Svietidlá
C120: Miesto: | F120: =F16 -> Nitra | I120: Dátum: | J120: =IF(J16="","",J16) -> 8. 7. 2025
C122: Objednávateľ: | F122: =E19 -> Športová hala OLYMPIA s.r.o. | I122: Projektant: | J122: =E25 -> Ing. Stanislav Karas
C123: Zhotoviteľ: | F123: =IF(E22="","",E22) | I123: Spracovateľ: | J123: =E28 -> 0
C125: PČ | D125: Typ | E125: Kód | F125: Popis | G125: MJ | H125: Množstvo | I125: J.cena [EUR] | J125: Cena celkom [EUR] | K125: Cenová sústava | N125: DPH | O125: J. Nh [h] | P125: Nh celkom [h] | Q125: J. hmotnosť [t] | R125: Hmotnosť celkom [t] | S125: J. suť [t] | T125: Suť Celkom [t]
C126: Náklady z rozpočtu | J126: =BK126 -> 0 | P126: =P127 -> 0 | R126: =R127 -> 1.831 | T126: =T127 -> 0 | AT126: D | AU126: -1 | BK126: =BK127 -> 0
D127: D | E127: M | F127: Práce a dodávky M | J127: =BK127 -> 0 | P127: =P128 -> 0 | R127: =R128 -> 1.831 | T127: =T128 -> 0 | AR127: 3 | AT127: D | AU127: 0 | AY127: ROZPOCET | BK127: =BK128 -> 0
D128: D | E128: 21-M | F128: Elektromontáže | J128: =BK128 -> 0 | P128: =SUM(P129:P174) -> 0 | R128: =SUM(R129:R174) -> 1.831 | T128: =SUM(T129:T174) -> 0 | AR128: 3 | AT128: D | AU128: 1 | AY128: ROZPOCET | BK128: =SUM(BK129:BK174) -> 0
C129: 1 | D129: K | E129: 1 | F129: Ukončenie celoplastových káblov zmrašť. záklopkou alebo páskou do 4 x 10 mm2 | G129: ks | H129: 17 | N129: znížená | O129: 0 | P129: =O129*H129 -> 0 | Q129: 0 | R129: =Q129*H129 -> 0 | S129: 0 | T129: =S129*H129 -> 0 | AR129: 64 | AT129: K | AU129: 2 | AY129: ROZPOCET | BE129: =IF(N129="základná",J129,0) -> 0 | BF129: =IF(N129="znížená",J129,0) -> 0 | BG129: =IF(N129="zákl. prenesená",J129,0) -> 0 | BH129: =IF(N129="zníž. prenesená",J129,0) -> 0 | BI129: =IF(N129="nulová",J129,0) -> 0 | BJ129: 2 | BK129: =ROUND(I129*H129,2) -> 0 | BL129: 64 | BM129: 2
C130: 2 | D130: K | E130: 2 | F130: Zapojenie svietidla IP20, stropného - nástenného LED | G130: ks | H130: 20 | N130: znížená | O130: 0 | P130: =O130*H130 -> 0 | Q130: 0 | R130: =Q130*H130 -> 0 | S130: 0 | T130: =S130*H130 -> 0 | AR130: 64 | AT130: K | AU130: 2 | AY130: ROZPOCET | BE130: =IF(N130="základná",J130,0) -> 0 | BF130: =IF(N130="znížená",J130,0) -> 0 | BG130: =IF(N130="zákl. prenesená",J130,0) -> 0 | BH130: =IF(N130="zníž. prenesená",J130,0) -> 0 | BI130: =IF(N130="nulová",J130,0) -> 0 | BJ130: 2 | BK130: =ROUND(I130*H130,2) -> 0 | BL130: 64 | BM130: 4
C131: 3 | D131: M | E131: 3 | F131: Beghelli SpA 160322/A5 A17-10061CM-LGL TRON prism (36.0 W) | G131: ks | H131: 20 | N131: znížená | O131: 0 | P131: =O131*H131 -> 0 | Q131: 0.006 | R131: =Q131*H131 -> 0.12 | S131: 0 | T131: =S131*H131 -> 0 | AR131: 256 | AT131: M | AU131: 2 | AY131: ROZPOCET | BE131: =IF(N131="základná",J131,0) -> 0 | BF131: =IF(N131="znížená",J131,0) -> 0 | BG131: =IF(N131="zákl. prenesená",J131,0) -> 0 | BH131: =IF(N131="zníž. prenesená",J131,0) -> 0 | BI131: =IF(N131="nulová",J131,0) -> 0 | BJ131: 2 | BK131: =ROUND(I131*H131,2) -> 0 | BL131: 64 | BM131: 6
C132: 4 | D132: K | E132: 4 | F132: Zapojenie svietidla IP54, stropného - nástenného LED | G132: ks | H132: 2 | N132: znížená | O132: 0 | P132: =O132*H132 -> 0 | Q132: 0 | R132: =Q132*H132 -> 0 | S132: 0 | T132: =S132*H132 -> 0 | AR132: 64 | AT132: K | AU132: 2 | AY132: ROZPOCET | BE132: =IF(N132="základná",J132,0) -> 0 | BF132: =IF(N132="znížená",J132,0) -> 0 | BG132: =IF(N132="zákl. prenesená",J132,0) -> 0 | BH132: =IF(N132="zníž. prenesená",J132,0) -> 0 | BI132: =IF(N132="nulová",J132,0) -> 0 | BJ132: 2 | BK132: =ROUND(I132*H132,2) -> 0 | BL132: 64 | BM132: 8
C133: 5 | D133: M | E133: 5 | F133: Beghelli-Elplast A44-10160CM Lunako LED (24.0 W) | G133: ks | H133: 2 | N133: znížená | O133: 0 | P133: =O133*H133 -> 0 | Q133: 0.006 | R133: =Q133*H133 -> 0.012 | S133: 0 | T133: =S133*H133 -> 0 | AR133: 256 | AT133: M | AU133: 2 | AY133: ROZPOCET | BE133: =IF(N133="základná",J133,0) -> 0 | BF133: =IF(N133="znížená",J133,0) -> 0 | BG133: =IF(N133="zákl. prenesená",J133,0) -> 0 | BH133: =IF(N133="zníž. prenesená",J133,0) -> 0 | BI133: =IF(N133="nulová",J133,0) -> 0 | BJ133: 2 | BK133: =ROUND(I133*H133,2) -> 0 | BL133: 64 | BM133: 10
C134: 6 | D134: K | E134: 6 | F134: Zapojenie svietidla IP54, stropného - nástenného LED | G134: ks | H134: 6 | N134: znížená | O134: 0 | P134: =O134*H134 -> 0 | Q134: 0 | R134: =Q134*H134 -> 0 | S134: 0 | T134: =S134*H134 -> 0 | AR134: 64 | AT134: K | AU134: 2 | AY134: ROZPOCET | BE134: =IF(N134="základná",J134,0) -> 0 | BF134: =IF(N134="znížená",J134,0) -> 0 | BG134: =IF(N134="zákl. prenesená",J134,0) -> 0 | BH134: =IF(N134="zníž. prenesená",J134,0) -> 0 | BI134: =IF(N134="nulová",J134,0) -> 0 | BJ134: 2 | BK134: =ROUND(I134*H134,2) -> 0 | BL134: 64 | BM134: 12
C135: 7 | D135: M | E135: 7 | F135: Beghelli-Elplast A44-10140CM Lunako LED (18.0 W) | G135: ks | H135: 6 | N135: znížená | O135: 0 | P135: =O135*H135 -> 0 | Q135: 0.006 | R135: =Q135*H135 -> 0.036 | S135: 0 | T135: =S135*H135 -> 0 | AR135: 256 | AT135: M | AU135: 2 | AY135: ROZPOCET | BE135: =IF(N135="základná",J135,0) -> 0 | BF135: =IF(N135="znížená",J135,0) -> 0 | BG135: =IF(N135="zákl. prenesená",J135,0) -> 0 | BH135: =IF(N135="zníž. prenesená",J135,0) -> 0 | BI135: =IF(N135="nulová",J135,0) -> 0 | BJ135: 2 | BK135: =ROUND(I135*H135,2) -> 0 | BL135: 64 | BM135: 14
C136: 8 | D136: K | E136: 8 | F136: Zapojenie svietidla IP20/40, 1 svetelný zdroj, závesného modulárneho, interierového LED | G136: ks | H136: 11 | N136: znížená | O136: 0 | P136: =O136*H136 -> 0 | Q136: 0 | R136: =Q136*H136 -> 0 | S136: 0 | T136: =S136*H136 -> 0 | AR136: 64 | AT136: K | AU136: 2 | AY136: ROZPOCET | BE136: =IF(N136="základná",J136,0) -> 0 | BF136: =IF(N136="znížená",J136,0) -> 0 | BG136: =IF(N136="zákl. prenesená",J136,0) -> 0 | BH136: =IF(N136="zníž. prenesená",J136,0) -> 0 | BI136: =IF(N136="nulová",J136,0) -> 0 | BJ136: 2 | BK136: =ROUND(I136*H136,2) -> 0 | BL136: 64 | BM136: 16
C137: 9 | D137: M | E137: 9 | F137: Beghelli SpA 40004 BS100 LED REGOLABILE M1280 4K (44.0 W) | G137: ks | H137: 11 | N137: znížená | O137: 0 | P137: =O137*H137 -> 0 | Q137: 0.0035454545 | R137: =Q137*H137 -> 0.039 | S137: 0 | T137: =S137*H137 -> 0 | AR137: 256 | AT137: M | AU137: 2 | AY137: ROZPOCET | BE137: =IF(N137="základná",J137,0) -> 0 | BF137: =IF(N137="znížená",J137,0) -> 0 | BG137: =IF(N137="zákl. prenesená",J137,0) -> 0 | BH137: =IF(N137="zníž. prenesená",J137,0) -> 0 | BI137: =IF(N137="nulová",J137,0) -> 0 | BJ137: 2 | BK137: =ROUND(I137*H137,2) -> 0 | BL137: 64 | BM137: 18
C138: 10 | D138: M | E138: 10 | F138: 99-0157 - lank. závěsy s transp kabelem 3x 0,75 mm^2 (120cm) - sada | G138: pár | H138: 11 | N138: znížená | O138: 0 | P138: =O138*H138 -> 0 | Q138: 9.0909091e-05 | R138: =Q138*H138 -> 0.001 | S138: 0 | T138: =S138*H138 -> 0 | AR138: 256 | AT138: M | AU138: 2 | AY138: ROZPOCET | BE138: =IF(N138="základná",J138,0) -> 0 | BF138: =IF(N138="znížená",J138,0) -> 0 | BG138: =IF(N138="zákl. prenesená",J138,0) -> 0 | BH138: =IF(N138="zníž. prenesená",J138,0) -> 0 | BI138: =IF(N138="nulová",J138,0) -> 0 | BJ138: 2 | BK138: =ROUND(I138*H138,2) -> 0 | BL138: 64 | BM138: 20
C139: 11 | D139: K | E139: 11 | F139: Zapojenie svietidla IP20/40, 2 svetelný zdroj, závesného modulárneho, interierového LED | G139: ks | H139: 25 | N139: znížená | O139: 0 | P139: =O139*H139 -> 0 | Q139: 0 | R139: =Q139*H139 -> 0 | S139: 0 | T139: =S139*H139 -> 0 | AR139: 64 | AT139: K | AU139: 2 | AY139: ROZPOCET | BE139: =IF(N139="základná",J139,0) -> 0 | BF139: =IF(N139="znížená",J139,0) -> 0 | BG139: =IF(N139="zákl. prenesená",J139,0) -> 0 | BH139: =IF(N139="zníž. prenesená",J139,0) -> 0 | BI139: =IF(N139="nulová",J139,0) -> 0 | BJ139: 2 | BK139: =ROUND(I139*H139,2) -> 0 | BL139: 64 | BM139: 22
C140: 12 | D140: M | E140: 12 | F140: Beghelli SpA P236SD PLAFONE LED 2X36 SD 4000K (36.0 W) | G140: ks | H140: 25 | N140: znížená | O140: 0 | P140: =O140*H140 -> 0 | Q140: 0.00352 | R140: =Q140*H140 -> 0.088 | S140: 0 | T140: =S140*H140 -> 0 | AR140: 256 | AT140: M | AU140: 2 | AY140: ROZPOCET | BE140: =IF(N140="základná",J140,0) -> 0 | BF140: =IF(N140="znížená",J140,0) -> 0 | BG140: =IF(N140="zákl. prenesená",J140,0) -> 0 | BH140: =IF(N140="zníž. prenesená",J140,0) -> 0 | BI140: =IF(N140="nulová",J140,0) -> 0 | BJ140: 2 | BK140: =ROUND(I140*H140,2) -> 0 | BL140: 64 | BM140: 24
... C174: 46 | D174: K | E174: 46 | F174: Naprogramovanie systému riadenia osvetlenia | G174: kpl | H174: 1 | N174: znížená | O174: 0 | P174: =O174*H174 -> 0 | Q174: 0 | R174: =Q174*H174 -> 0 | S174: 0 | T174: =S174*H174 -> 0 | AR174: 64 | AT174: K | AU174: 2 | AY174: ROZPOCET | BE174: =IF(N174="základná",J174,0) -> 0 | BF174: =IF(N174="znížená",J174,0) -> 0 | BG174: =IF(N174="zákl. prenesená",J174,0) -> 0 | BH174: =IF(N174="zníž. prenesená",J174,0) -> 0 | BI174: =IF(N174="nulová",J174,0) -> 0 | BJ174: 2 | BK174: =ROUND(I174*H174,2) -> 0 | BL174: 64 | BM174: 94

Sheet EL4 - Vedenie 
L2: >> skryté stĺpce << | AT2: {0a52e7fe-dfe0-47d2-9bd0-5b3a0fc722bb}
AT3: 0
D4: KRYCÍ LIST ROZPOČTU | M4: v --- nižšie sa nachádzajú doplnkové a pomocné údaje k zostavám --- v | AT4: False
D6: Stavba:
E7: ='Rekapitulácia stavby'!K6 -> Športová hala OLYMPIA v Nitre
D8: Objekt:
E9: SO01 - Športová hala, Nitra
D10: Časť:
E11: EL - Elektroinštalácia
D12: Úroveň 3:
E13: EL4 - Vedenie
D15: JKSO: | I15: ČS:
D16: Miesto: | F16: Nitra | I16: Dátum: | J16: ='Rekapitulácia stavby'!AN8 -> 8. 7. 2025
D18: Objednávateľ: | I18: IČO:
E19: Športová hala OLYMPIA s.r.o. | I19: IČ DPH:
D21: Zhotoviteľ: | I21: IČO:
I22: IČ DPH:
D24: Projektant: | I24: IČO:
E25: Ing. Stanislav Karas | I25: IČ DPH:
D27: Spracovateľ: | I27: IČO:
I28: IČ DPH:
D30: Poznámka:
D34: Cena bez DPH | J34: =ROUND(J126, 2) -> 0
F36: Základ dane | I36: Sadzba dane | J36: Výška dane
D37: DPH | E37: základná | F37: =ROUND((SUM(BE126:BE196)), 2) -> 0 | I37: 0.23 | J37: =ROUND(((SUM(BE126:BE196))*I37), 2) -> 0
E38: znížená | F38: =ROUND((SUM(BF126:BF196)), 2) -> 0 | I38: 0.23 | J38: =ROUND(((SUM(BF126:BF196))*I38), 2) -> 0
E39: zákl. prenesená | F39: =ROUND((SUM(BG126:BG196)), 2) -> 0 | I39: 0.23 | J39: =0 -> 0
E40: zníž. prenesená | F40: =ROUND((SUM(BH126:BH196)), 2) -> 0 | I40: 0.23 | J40: =0 -> 0
E41: nulová | F41: =ROUND((SUM(BI126:BI196)), 2) -> 0 | I41: 0 | J41: =0 -> 0
D43: Cena s DPH | G43: v | H43: EUR | J43: =SUM(J34:J41) -> 0
D50: Projektant | G50: Spracovateľ
D61: Dátum a podpis: | F61: Pečiatka | G61: Dátum a podpis: | J61: Pečiatka
D65: Objednávateľ | G65: Zhotoviteľ
D76: Dátum a podpis: | F76: Pečiatka | G76: Dátum a podpis: | J76: Pečiatka
C82: REKAPITULÁCIA ROZPOČTU
C84: Stavba:
E85: =E7 -> Športová hala OLYMPIA v Nitre
C86: Objekt:
E87: SO01 - Športová hala, Nitra
C88: Časť:
E89: EL - Elektroinštalácia
C90: Úroveň 3:
E91: =E13 -> EL4 - Vedenie
C93: Miesto: | F93: =F16 -> Nitra | I93: Dátum: | J93: =IF(J16="","",J16) -> 8. 7. 2025
C95: Objednávateľ: | F95: =E19 -> Športová hala OLYMPIA s.r.o. | I95: Projektant: | J95: =E25 -> Ing. Stanislav Karas
C96: Zhotoviteľ: | F96: =IF(E22="","",E22) | I96: Spracovateľ: | J96: =E28 -> 0
C98: Kód dielu - Popis | J98: Cena celkom [EUR]
C100: Náklady z rozpočtu | J100: =J126 -> 0 | AU100: -1
D101: M - Práce a dodávky M | J101: =J127 -> 0
D102: 21-M - Elektromontáže | J102: =J128 -> 0
C109: ROZPOČET
C111: Stavba:
E112: =E7 -> Športová hala OLYMPIA v Nitre
C113: Objekt:
E114: SO01 - Športová hala, Nitra
C115: Časť:
E116: EL - Elektroinštalácia
C117: Úroveň 3:
E118: =E13 -> EL4 - Vedenie
C120: Miesto: | F120: =F16 -> Nitra | I120: Dátum: | J120: =IF(J16="","",J16) -> 8. 7. 2025
C122: Objednávateľ: | F122: =E19 -> Športová hala OLYMPIA s.r.o. | I122: Projektant: | J122: =E25 -> Ing. Stanislav Karas
C123: Zhotoviteľ: | F123: =IF(E22="","",E22) | I123: Spracovateľ: | J123: =E28 -> 0
C125: PČ | D125: Typ | E125: Kód | F125: Popis | G125: MJ | H125: Množstvo | I125: J.cena [EUR] | J125: Cena celkom [EUR] | K125: Cenová sústava | N125: DPH | O125: J. Nh [h] | P125: Nh celkom [h] | Q125: J. hmotnosť [t] | R125: Hmotnosť celkom [t] | S125: J. suť [t] | T125: Suť Celkom [t]
C126: Náklady z rozpočtu | J126: =BK126 -> 0 | P126: =P127 -> 0 | R126: =R127 -> 2.456 | T126: =T127 -> 0 | AT126: D | AU126: -1 | BK126: =BK127 -> 0
D127: D | E127: M | F127: Práce a dodávky M | J127: =BK127 -> 0 | P127: =P128 -> 0 | R127: =R128 -> 2.456 | T127: =T128 -> 0 | AR127: 3 | AT127: D | AU127: 0 | AY127: ROZPOCET | BK127: =BK128 -> 0
D128: D | E128: 21-M | F128: Elektromontáže | J128: =BK128 -> 0 | P128: =SUM(P129:P196) -> 0 | R128: =SUM(R129:R196) -> 2.456 | T128: =SUM(T129:T196) -> 0 | AR128: 3 | AT128: D | AU128: 1 | AY128: ROZPOCET | BK128: =SUM(BK129:BK196) -> 0
C129: 1 | D129: K | E129: 1 | F129: Ochranné pospájanie v práčovniach, kúpeľniach, voľné uloženie CY 4-6 mm2 | G129: m | H129: 275 | N129: znížená | O129: 0 | P129: =O129*H129 -> 0 | Q129: 0 | R129: =Q129*H129 -> 0 | S129: 0 | T129: =S129*H129 -> 0 | AR129: 64 | AT129: K | AU129: 2 | AY129: ROZPOCET | BE129: =IF(N129="základná",J129,0) -> 0 | BF129: =IF(N129="znížená",J129,0) -> 0 | BG129: =IF(N129="zákl. prenesená",J129,0) -> 0 | BH129: =IF(N129="zníž. prenesená",J129,0) -> 0 | BI129: =IF(N129="nulová",J129,0) -> 0 | BJ129: 2 | BK129: =ROUND(I129*H129,2) -> 0 | BL129: 64 | BM129: 2
C130: 2 | D130: M | E130: 2 | F130: Vodič medený H07V-U 6 mm2 | G130: m | H130: 275 | N130: znížená | O130: 0 | P130: =O130*H130 -> 0 | Q130: 8e-05 | R130: =Q130*H130 -> 0.022 | S130: 0 | T130: =S130*H130 -> 0 | AR130: 256 | AT130: M | AU130: 2 | AY130: ROZPOCET | BE130: =IF(N130="základná",J130,0) -> 0 | BF130: =IF(N130="znížená",J130,0) -> 0 | BG130: =IF(N130="zákl. prenesená",J130,0) -> 0 | BH130: =IF(N130="zníž. prenesená",J130,0) -> 0 | BI130: =IF(N130="nulová",J130,0) -> 0 | BJ130: 2 | BK130: =ROUND(I130*H130,2) -> 0 | BL130: 64 | BM130: 4
C131: 3 | D131: K | E131: 3 | F131: Kábel medený uložený pevne CYKY 450/750 V 3x1,5 | G131: m | H131: 21 | N131: znížená | O131: 0 | P131: =O131*H131 -> 0 | Q131: 0 | R131: =Q131*H131 -> 0 | S131: 0 | T131: =S131*H131 -> 0 | AR131: 64 | AT131: K | AU131: 2 | AY131: ROZPOCET | BE131: =IF(N131="základná",J131,0) -> 0 | BF131: =IF(N131="znížená",J131,0) -> 0 | BG131: =IF(N131="zákl. prenesená",J131,0) -> 0 | BH131: =IF(N131="zníž. prenesená",J131,0) -> 0 | BI131: =IF(N131="nulová",J131,0) -> 0 | BJ131: 2 | BK131: =ROUND(I131*H131,2) -> 0 | BL131: 64 | BM131: 6
C132: 4 | D132: M | E132: 4 | F132: Kábel medený CYKY 3x1,5 mm2 | G132: m | H132: 21 | N132: znížená | O132: 0 | P132: =O132*H132 -> 0 | Q132: 0.00014285714 | R132: =Q132*H132 -> 0.003 | S132: 0 | T132: =S132*H132 -> 0 | AR132: 256 | AT132: M | AU132: 2 | AY132: ROZPOCET | BE132: =IF(N132="základná",J132,0) -> 0 | BF132: =IF(N132="znížená",J132,0) -> 0 | BG132: =IF(N132="zákl. prenesená",J132,0) -> 0 | BH132: =IF(N132="zníž. prenesená",J132,0) -> 0 | BI132: =IF(N132="nulová",J132,0) -> 0 | BJ132: 2 | BK132: =ROUND(I132*H132,2) -> 0 | BL132: 64 | BM132: 8
C133: 5 | D133: K | E133: 5 | F133: Kábel medený uložený pevne CYKY 450/750 V 3x2,5 | G133: m | H133: 7 | N133: znížená | O133: 0 | P133: =O133*H133 -> 0 | Q133: 0 | R133: =Q133*H133 -> 0 | S133: 0 | T133: =S133*H133 -> 0 | AR133: 64 | AT133: K | AU133: 2 | AY133: ROZPOCET | BE133: =IF(N133="základná",J133,0) -> 0 | BF133: =IF(N133="znížená",J133,0) -> 0 | BG133: =IF(N133="zákl. prenesená",J133,0) -> 0 | BH133: =IF(N133="zníž. prenesená",J133,0) -> 0 | BI133: =IF(N133="nulová",J133,0) -> 0 | BJ133: 2 | BK133: =ROUND(I133*H133,2) -> 0 | BL133: 64 | BM133: 10
C134: 6 | D134: M | E134: 6 | F134: Kábel medený CYKY 3x2,5 mm2 | G134: m | H134: 7 | N134: znížená | O134: 0 | P134: =O134*H134 -> 0 | Q134: 0.00014285714 | R134: =Q134*H134 -> 0.001 | S134: 0 | T134: =S134*H134 -> 0 | AR134: 256 | AT134: M | AU134: 2 | AY134: ROZPOCET | BE134: =IF(N134="základná",J134,0) -> 0 | BF134: =IF(N134="znížená",J134,0) -> 0 | BG134: =IF(N134="zákl. prenesená",J134,0) -> 0 | BH134: =IF(N134="zníž. prenesená",J134,0) -> 0 | BI134: =IF(N134="nulová",J134,0) -> 0 | BJ134: 2 | BK134: =ROUND(I134*H134,2) -> 0 | BL134: 64 | BM134: 12
C135: 7 | D135: K | E135: 7 | F135: Kábel medený uložený pevne H07RN-F (CGSG) 450/750 V 3x2,5 | G135: m | H135: 50 | N135: znížená | O135: 0 | P135: =O135*H135 -> 0 | Q135: 0 | R135: =Q135*H135 -> 0 | S135: 0 | T135: =S135*H135 -> 0 | AR135: 64 | AT135: K | AU135: 2 | AY135: ROZPOCET | BE135: =IF(N135="základná",J135,0) -> 0 | BF135: =IF(N135="znížená",J135,0) -> 0 | BG135: =IF(N135="zákl. prenesená",J135,0) -> 0 | BH135: =IF(N135="zníž. prenesená",J135,0) -> 0 | BI135: =IF(N135="nulová",J135,0) -> 0 | BJ135: 2 | BK135: =ROUND(I135*H135,2) -> 0 | BL135: 64 | BM135: 14
C136: 8 | D136: M | E136: 8 | F136: Kábel medený flexibilný gumený H07RN-F 3x2,5 mm2 | G136: m | H136: 50 | N136: znížená | O136: 0 | P136: =O136*H136 -> 0 | Q136: 0.00022 | R136: =Q136*H136 -> 0.011 | S136: 0 | T136: =S136*H136 -> 0 | AR136: 256 | AT136: M | AU136: 2 | AY136: ROZPOCET | BE136: =IF(N136="základná",J136,0) -> 0 | BF136: =IF(N136="znížená",J136,0) -> 0 | BG136: =IF(N136="zákl. prenesená",J136,0) -> 0 | BH136: =IF(N136="zníž. prenesená",J136,0) -> 0 | BI136: =IF(N136="nulová",J136,0) -> 0 | BJ136: 2 | BK136: =ROUND(I136*H136,2) -> 0 | BL136: 64 | BM136: 16
C137: 9 | D137: K | E137: 9 | F137: Kábel medený uložený pevne H07RN-F (CGSG) 450/750 V 3x4 | G137: m | H137: 47 | N137: znížená | O137: 0 | P137: =O137*H137 -> 0 | Q137: 0 | R137: =Q137*H137 -> 0 | S137: 0 | T137: =S137*H137 -> 0 | AR137: 64 | AT137: K | AU137: 2 | AY137: ROZPOCET | BE137: =IF(N137="základná",J137,0) -> 0 | BF137: =IF(N137="znížená",J137,0) -> 0 | BG137: =IF(N137="zákl. prenesená",J137,0) -> 0 | BH137: =IF(N137="zníž. prenesená",J137,0) -> 0 | BI137: =IF(N137="nulová",J137,0) -> 0 | BJ137: 2 | BK137: =ROUND(I137*H137,2) -> 0 | BL137: 64 | BM137: 18
C138: 10 | D138: M | E138: 10 | F138: Kábel medený flexibilný gumený H07RN-F 3x4 mm2 | G138: m | H138: 47 | N138: znížená | O138: 0 | P138: =O138*H138 -> 0 | Q138: 0.00029787234 | R138: =Q138*H138 -> 0.014 | S138: 0 | T138: =S138*H138 -> 0 | AR138: 256 | AT138: M | AU138: 2 | AY138: ROZPOCET | BE138: =IF(N138="základná",J138,0) -> 0 | BF138: =IF(N138="znížená",J138,0) -> 0 | BG138: =IF(N138="zákl. prenesená",J138,0) -> 0 | BH138: =IF(N138="zníž. prenesená",J138,0) -> 0 | BI138: =IF(N138="nulová",J138,0) -> 0 | BJ138: 2 | BK138: =ROUND(I138*H138,2) -> 0 | BL138: 64 | BM138: 20
C139: 11 | D139: K | E139: 11 | F139: Vodič bezhalogénový, medený uložený pevne N2XH 0,6/1,0 kV 6 | G139: m | H139: 154 | N139: znížená | O139: 0 | P139: =O139*H139 -> 0 | Q139: 0 | R139: =Q139*H139 -> 0 | S139: 0 | T139: =S139*H139 -> 0 | AR139: 64 | AT139: K | AU139: 2 | AY139: ROZPOCET | BE139: =IF(N139="základná",J139,0) -> 0 | BF139: =IF(N139="znížená",J139,0) -> 0 | BG139: =IF(N139="zákl. prenesená",J139,0) -> 0 | BH139: =IF(N139="zníž. prenesená",J139,0) -> 0 | BI139: =IF(N139="nulová",J139,0) -> 0 | BJ139: 2 | BK139: =ROUND(I139*H139,2) -> 0 | BL139: 64 | BM139: 22
C140: 12 | D140: M | E140: 12 | F140: Vodič medený bezhalogenový N2XH 6 mm2 | G140: m | H140: 154 | N140: znížená | O140: 0 | P140: =O140*H140 -> 0 | Q140: 0.00016233766 | R140: =Q140*H140 -> 0.025 | S140: 0 | T140: =S140*H140 -> 0 | AR140: 256 | AT140: M | AU140: 2 | AY140: ROZPOCET | BE140: =IF(N140="základná",J140,0) -> 0 | BF140: =IF(N140="znížená",J140,0) -> 0 | BG140: =IF(N140="zákl. prenesená",J140,0) -> 0 | BH140: =IF(N140="zníž. prenesená",J140,0) -> 0 | BI140: =IF(N140="nulová",J140,0) -> 0 | BJ140: 2 | BK140: =ROUND(I140*H140,2) -> 0 | BL140: 64 | BM140: 24
... C196: 68 | D196: M | E196: 68 | F196: Kábel medený dátový STP Cat, 6A - 4x2xAWG23 | G196: m | H196: 433 | N196: znížená | O196: 0 | P196: =O196*H196 -> 0 | Q196: 3.926097e-05 | R196: =Q196*H196 -> 0.017 | S196: 0 | T196: =S196*H196 -> 0 | AR196: 256 | AT196: M | AU196: 2 | AY196: ROZPOCET | BE196: =IF(N196="základná",J196,0) -> 0 | BF196: =IF(N196="znížená",J196,0) -> 0 | BG196: =IF(N196="zákl. prenesená",J196,0) -> 0 | BH196: =IF(N196="zníž. prenesená",J196,0) -> 0 | BI196: =IF(N196="nulová",J196,0) -> 0 | BJ196: 2 | BK196: =ROUND(I196*H196,2) -> 0 | BL196: 64 | BM196: 136

Sheet EPS - EPS
L2: >> skryté stĺpce << | AT2: {be0f8268-45ba-4239-b254-86f8f23f5d19}
AT3: 0
D4: KRYCÍ LIST ROZPOČTU | M4: v --- nižšie sa nachádzajú doplnkové a pomocné údaje k zostavám --- v | AT4: False
D6: Stavba:
E7: ='Rekapitulácia stavby'!K6 -> Športová hala OLYMPIA v Nitre
D8: Objekt:
E9: SO01 - Športová hala, Nitra
D10: Časť:
E11: EPS - EPS
D13: JKSO: | I13: ČS:
D14: Miesto: | F14: Nitra | I14: Dátum: | J14: ='Rekapitulácia stavby'!AN8 -> 8. 7. 2025
D16: Objednávateľ: | I16: IČO:
E17: Športová hala OLYMPIA s.r.o. | I17: IČ DPH:
D19: Zhotoviteľ: | I19: IČO:
I20: IČ DPH:
D22: Projektant: | I22: IČO:
E23: Ing. Stanislav Karas | I23: IČ DPH:
D25: Spracovateľ: | I25: IČO:
I26: IČ DPH:
D28: Poznámka:
D32: Cena bez DPH | J32: =ROUND(J125, 2) -> 0
F34: Základ dane | I34: Sadzba dane | J34: Výška dane
D35: DPH | E35: základná | F35: =ROUND((SUM(BE125:BE173)), 2) -> 0 | I35: 0.23 | J35: =ROUND(((SUM(BE125:BE173))*I35), 2) -> 0
E36: znížená | F36: =ROUND((SUM(BF125:BF173)), 2) -> 0 | I36: 0.23 | J36: =ROUND(((SUM(BF125:BF173))*I36), 2) -> 0
E37: zákl. prenesená | F37: =ROUND((SUM(BG125:BG173)), 2) -> 0 | I37: 0.23 | J37: =0 -> 0
E38: zníž. prenesená | F38: =ROUND((SUM(BH125:BH173)), 2) -> 0 | I38: 0.23 | J38: =0 -> 0
E39: nulová | F39: =ROUND((SUM(BI125:BI173)), 2) -> 0 | I39: 0 | J39: =0 -> 0
D41: Cena s DPH | G41: v | H41: EUR | J41: =SUM(J32:J39) -> 0
D50: Projektant | G50: Spracovateľ
D61: Dátum a podpis: | F61: Pečiatka | G61: Dátum a podpis: | J61: Pečiatka
D65: Objednávateľ | G65: Zhotoviteľ
D76: Dátum a podpis: | F76: Pečiatka | G76: Dátum a podpis: | J76: Pečiatka
C82: REKAPITULÁCIA ROZPOČTU
C84: Stavba:
E85: =E7 -> Športová hala OLYMPIA v Nitre
C86: Objekt:
E87: SO01 - Športová hala, Nitra
C88: Časť:
E89: =E11 -> EPS - EPS
C91: Miesto: | F91: =F14 -> Nitra | I91: Dátum: | J91: =IF(J14="","",J14) -> 8. 7. 2025
C93: Objednávateľ: | F93: =E17 -> Športová hala OLYMPIA s.r.o. | I93: Projektant: | J93: =E23 -> Ing. Stanislav Karas
C94: Zhotoviteľ: | F94: =IF(E20="","",E20) | I94: Spracovateľ: | J94: =E26 -> 0
C96: Kód dielu - Popis | J96: Cena celkom [EUR]
C98: Náklady z rozpočtu | J98: =J125 -> 0 | AU98: -1
D99: M - Práce a dodávky M | J99: =J126 -> 0
D100: 22-M - Montáže oznam. a zabezp. zariadení- EPS | J100: =J127 -> 0
D101: I - Materiál - zariadenia | J101: =J128 -> 0
D102: J - Montážny materiál | J102: =J152 -> 0
D103: OST - Ostatné | J103: =J163 -> 0
C110: ROZPOČET
C112: Stavba:
E113: =E7 -> Športová hala OLYMPIA v Nitre
C114: Objekt:
E115: SO01 - Športová hala, Nitra
C116: Časť:
E117: =E11 -> EPS - EPS
C119: Miesto: | F119: =F14 -> Nitra | I119: Dátum: | J119: =IF(J14="","",J14) -> 8. 7. 2025
C121: Objednávateľ: | F121: =E17 -> Športová hala OLYMPIA s.r.o. | I121: Projektant: | J121: =E23 -> Ing. Stanislav Karas
C122: Zhotoviteľ: | F122: =IF(E20="","",E20) | I122: Spracovateľ: | J122: =E26 -> 0
C124: PČ | D124: Typ | E124: Kód | F124: Popis | G124: MJ | H124: Množstvo | I124: J.cena [EUR] | J124: Cena celkom [EUR] | K124: Cenová sústava | N124: DPH | O124: J. Nh [h] | P124: Nh celkom [h] | Q124: J. hmotnosť [t] | R124: Hmotnosť celkom [t] | S124: J. suť [t] | T124: Suť Celkom [t]
C125: Náklady z rozpočtu | J125: =BK125 -> 0 | P125: =P126 -> 0 | R125: =R126 -> 0 | T125: =T126 -> 0 | AT125: D | AU125: -1 | BK125: =BK126 -> 0
D126: D | E126: M | F126: Práce a dodávky M | J126: =BK126 -> 0 | P126: =P127+P128+P152+P163 -> 0 | R126: =R127+R128+R152+R163 -> 0 | T126: =T127+T128+T152+T163 -> 0 | AR126: 3 | AT126: D | AU126: 0 | AY126: ROZPOCET | BK126: =BK127+BK128+BK152+BK163 -> 0
D127: D | E127: 22-M | F127: Montáže oznam. a zabezp. zariadení- EPS | J127: =BK127 -> 0 | P127: 0 | R127: 0 | T127: 0 | AR127: 3 | AT127: D | AU127: 1 | AY127: ROZPOCET | BK127: 0
D128: D | E128: I | F128: Materiál - zariadenia | J128: =BK128 -> 0 | P128: =SUM(P129:P151) -> 0 | R128: =SUM(R129:R151) -> 0 | T128: =SUM(T129:T151) -> 0 | AR128: 1 | AT128: D | AU128: 1 | AY128: ROZPOCET | BK128: =SUM(BK129:BK151) -> 0
C129: 0 | D129: M | E129: SK1MX-5101V | F129: Ústredňa EPS Advanced, 1 slučka, 240 adries | G129: ks | H129: 1 | N129: znížená | O129: 0 | P129: =O129*H129 -> 0 | Q129: 0 | R129: =Q129*H129 -> 0 | S129: 0 | T129: =S129*H129 -> 0 | AR129: 8 | AT129: M | AU129: 2 | AY129: ROZPOCET | BE129: =IF(N129="základná",J129,0) -> 0 | BF129: =IF(N129="znížená",J129,0) -> 0 | BG129: =IF(N129="zákl. prenesená",J129,0) -> 0 | BH129: =IF(N129="zníž. prenesená",J129,0) -> 0 | BI129: =IF(N129="nulová",J129,0) -> 0 | BJ129: 2 | BK129: =ROUND(I129*H129,2) -> 0 | BL129: 4 | BM129: 2
C130: 0 | D130: M | E130: ST90 | F130: Akumulátor ACEDIS 12V/8,5Ah, životnosť 5 rokov | G130: ks | H130: 2 | N130: znížená | O130: 0 | P130: =O130*H130 -> 0 | Q130: 0 | R130: =Q130*H130 -> 0 | S130: 0 | T130: =S130*H130 -> 0 | AR130: 8 | AT130: M | AU130: 2 | AY130: ROZPOCET | BE130: =IF(N130="základná",J130,0) -> 0 | BF130: =IF(N130="znížená",J130,0) -> 0 | BG130: =IF(N130="zákl. prenesená",J130,0) -> 0 | BH130: =IF(N130="zníž. prenesená",J130,0) -> 0 | BI130: =IF(N130="nulová",J130,0) -> 0 | BJ130: 2 | BK130: =ROUND(I130*H130,2) -> 0 | BL130: 4 | BM130: 4
C131: 0 | D131: M | E131: A1000 | F131: Inteligentný optický hlásič s duálnym izolátorom | G131: ks | H131: 6 | N131: znížená | O131: 0 | P131: =O131*H131 -> 0 | Q131: 0 | R131: =Q131*H131 -> 0 | S131: 0 | T131: =S131*H131 -> 0 | AR131: 8 | AT131: M | AU131: 2 | AY131: ROZPOCET | BE131: =IF(N131="základná",J131,0) -> 0 | BF131: =IF(N131="znížená",J131,0) -> 0 | BG131: =IF(N131="zákl. prenesená",J131,0) -> 0 | BH131: =IF(N131="zníž. prenesená",J131,0) -> 0 | BI131: =IF(N131="nulová",J131,0) -> 0 | BJ131: 2 | BK131: =ROUND(I131*H131,2) -> 0 | BL131: 4 | BM131: 6
C132: 0 | D132: M | E132: A2000 | F132: Multisenzorový intelig. hlásič Altair s izolátorom | G132: ks | H132: 5 | N132: znížená | O132: 0 | P132: =O132*H132 -> 0 | Q132: 0 | R132: =Q132*H132 -> 0 | S132: 0 | T132: =S132*H132 -> 0 | AR132: 8 | AT132: M | AU132: 2 | AY132: ROZPOCET | BE132: =IF(N132="základná",J132,0) -> 0 | BF132: =IF(N132="znížená",J132,0) -> 0 | BG132: =IF(N132="zákl. prenesená",J132,0) -> 0 | BH132: =IF(N132="zníž. prenesená",J132,0) -> 0 | BI132: =IF(N132="nulová",J132,0) -> 0 | BJ132: 2 | BK132: =ROUND(I132*H132,2) -> 0 | BL132: 4 | BM132: 8
C133: 0 | D133: M | E133: ALCP100 | F133: Resetovateľné červené tlačidlo Altair s izolátorom | G133: ks | H133: 12 | N133: znížená | O133: 0 | P133: =O133*H133 -> 0 | Q133: 0 | R133: =Q133*H133 -> 0 | S133: 0 | T133: =S133*H133 -> 0 | AR133: 8 | AT133: M | AU133: 2 | AY133: ROZPOCET | BE133: =IF(N133="základná",J133,0) -> 0 | BF133: =IF(N133="znížená",J133,0) -> 0 | BG133: =IF(N133="zákl. prenesená",J133,0) -> 0 | BH133: =IF(N133="zníž. prenesená",J133,0) -> 0 | BI133: =IF(N133="nulová",J133,0) -> 0 | BJ133: 2 | BK133: =ROUND(I133*H133,2) -> 0 | BL133: 4 | BM133: 10
C134: 0 | D134: M | E134: LAB1000 | F134: Pätica k hlásičom a majákom Altair,popisný štítok | G134: ks | H134: 11 | N134: znížená | O134: 0 | P134: =O134*H134 -> 0 | Q134: 0 | R134: =Q134*H134 -> 0 | S134: 0 | T134: =S134*H134 -> 0 | AR134: 8 | AT134: M | AU134: 2 | AY134: ROZPOCET | BE134: =IF(N134="základná",J134,0) -> 0 | BF134: =IF(N134="znížená",J134,0) -> 0 | BG134: =IF(N134="zákl. prenesená",J134,0) -> 0 | BH134: =IF(N134="zníž. prenesená",J134,0) -> 0 | BI134: =IF(N134="nulová",J134,0) -> 0 | BJ134: 2 | BK134: =ROUND(I134*H134,2) -> 0 | BL134: 4 | BM134: 12
C135: 0 | D135: M | E135: VMMC120 | F135: V/V modul, 2 reléové výstupy, verzia mini | G135: ks | H135: 11 | N135: znížená | O135: 0 | P135: =O135*H135 -> 0 | Q135: 0 | R135: =Q135*H135 -> 0 | S135: 0 | T135: =S135*H135 -> 0 | AR135: 8 | AT135: M | AU135: 2 | AY135: ROZPOCET | BE135: =IF(N135="základná",J135,0) -> 0 | BF135: =IF(N135="znížená",J135,0) -> 0 | BG135: =IF(N135="zákl. prenesená",J135,0) -> 0 | BH135: =IF(N135="zníž. prenesená",J135,0) -> 0 | BI135: =IF(N135="nulová",J135,0) -> 0 | BJ135: 2 | BK135: =ROUND(I135*H135,2) -> 0 | BL135: 4 | BM135: 14
C136: 0 | D136: M | E136: UA-BOE-W-01 | F136: Montážna krabica pre montáž V/V mini modulov, IP54 | G136: ks | H136: 11 | N136: znížená | O136: 0 | P136: =O136*H136 -> 0 | Q136: 0 | R136: =Q136*H136 -> 0 | S136: 0 | T136: =S136*H136 -> 0 | AR136: 8 | AT136: M | AU136: 2 | AY136: ROZPOCET | BE136: =IF(N136="základná",J136,0) -> 0 | BF136: =IF(N136="znížená",J136,0) -> 0 | BG136: =IF(N136="zákl. prenesená",J136,0) -> 0 | BH136: =IF(N136="zníž. prenesená",J136,0) -> 0 | BI136: =IF(N136="nulová",J136,0) -> 0 | BJ136: 2 | BK136: =ROUND(I136*H136,2) -> 0 | BL136: 4 | BM136: 16
C137: 0 | D137: M | E137: WBW69 | F137: Biely maják na stenu, biely záblesk, plytký, EN54 | G137: ks | H137: 10 | N137: znížená | O137: 0 | P137: =O137*H137 -> 0 | Q137: 0 | R137: =Q137*H137 -> 0 | S137: 0 | T137: =S137*H137 -> 0 | AR137: 8 | AT137: M | AU137: 2 | AY137: ROZPOCET | BE137: =IF(N137="základná",J137,0) -> 0 | BF137: =IF(N137="znížená",J137,0) -> 0 | BG137: =IF(N137="zákl. prenesená",J137,0) -> 0 | BH137: =IF(N137="zníž. prenesená",J137,0) -> 0 | BI137: =IF(N137="nulová",J137,0) -> 0 | BJ137: 2 | BK137: =ROUND(I137*H137,2) -> 0 | BL137: 4 | BM137: 18
C138: 0 | D138: M | E138: WCW69 | F138: Biela siréna s majákom na stenu, biely zábl., EN54 | G138: ks | H138: 1 | N138: znížená | O138: 0 | P138: =O138*H138 -> 0 | Q138: 0 | R138: =Q138*H138 -> 0 | S138: 0 | T138: =S138*H138 -> 0 | AR138: 8 | AT138: M | AU138: 2 | AY138: ROZPOCET | BE138: =IF(N138="základná",J138,0) -> 0 | BF138: =IF(N138="znížená",J138,0) -> 0 | BG138: =IF(N138="zákl. prenesená",J138,0) -> 0 | BH138: =IF(N138="zníž. prenesená",J138,0) -> 0 | BI138: =IF(N138="nulová",J138,0) -> 0 | BJ138: 2 | BK138: =ROUND(I138*H138,2) -> 0 | BL138: 4 | BM138: 20
C139: 0 | D139: M | E139: CWS100-AV | F139: Červená siréna s majákom na stenu, IP65, EN54 | G139: ks | H139: 1 | N139: znížená | O139: 0 | P139: =O139*H139 -> 0 | Q139: 0 | R139: =Q139*H139 -> 0 | S139: 0 | T139: =S139*H139 -> 0 | AR139: 8 | AT139: M | AU139: 2 | AY139: ROZPOCET | BE139: =IF(N139="základná",J139,0) -> 0 | BF139: =IF(N139="znížená",J139,0) -> 0 | BG139: =IF(N139="zákl. prenesená",J139,0) -> 0 | BH139: =IF(N139="zníž. prenesená",J139,0) -> 0 | BI139: =IF(N139="nulová",J139,0) -> 0 | BJ139: 2 | BK139: =ROUND(I139*H139,2) -> 0 | BL139: 4 | BM139: 22
C140: 0 | D140: M | E140: VMIC404 | F140: 4 vstupy, 4 reléové výstupy, na stenu, s krabicou | G140: ks | H140: 1 | N140: znížená | O140: 0 | P140: =O140*H140 -> 0 | Q140: 0 | R140: =Q140*H140 -> 0 | S140: 0 | T140: =S140*H140 -> 0 | AR140: 8 | AT140: M | AU140: 2 | AY140: ROZPOCET | BE140: =IF(N140="základná",J140,0) -> 0 | BF140: =IF(N140="znížená",J140,0) -> 0 | BG140: =IF(N140="zákl. prenesená",J140,0) -> 0 | BH140: =IF(N140="zníž. prenesená",J140,0) -> 0 | BI140: =IF(N140="nulová",J140,0) -> 0 | BJ140: 2 | BK140: =ROUND(I140*H140,2) -> 0 | BL140: 4 | BM140: 24
... C151: 0 | D151: M | E151: ST90 | F151: Akumulátor ACEDIS 12V/8,5Ah, životnosť 5 rokov | G151: ks | H151: 2 | N151: znížená | O151: 0 | P151: =O151*H151 -> 0 | Q151: 0 | R151: =Q151*H151 -> 0 | S151: 0 | T151: =S151*H151 -> 0 | AR151: 8 | AT151: M | AU151: 2 | AY151: ROZPOCET | BE151: =IF(N151="základná",J151,0) -> 0 | BF151: =IF(N151="znížená",J151,0) -> 0 | BG151: =IF(N151="zákl. prenesená",J151,0) -> 0 | BH151: =IF(N151="zníž. prenesená",J151,0) -> 0 | BI151: =IF(N151="nulová",J151,0) -> 0 | BJ151: 2 | BK151: =ROUND(I151*H151,2) -> 0 | BL151: 4 | BM151: 46
D152: D | E152: J | F152: Montážny materiál | P152: =SUM(P153:P162) -> 0 | R152: =SUM(R153:R162) -> 0 | T152: =SUM(T153:T162) -> 0 | AR152: 1 | AT152: D | AU152: 1 | AY152: ROZPOCET | BK152: =SUM(BK153:BK162) -> 0
C153: 37 | D153: K | E153: 1 | F153: N2XH-O FE180/PS60 2x1,5 kábel, bezhalogénový, pož | G153: m | H153: 80 | N153: znížená | O153: 0 | P153: =O153*H153 -> 0 | Q153: 0 | R153: =Q153*H153 -> 0 | S153: 0 | T153: =S153*H153 -> 0 | AR153: 4 | AT153: K | AU153: 2 | AY153: ROZPOCET | BE153: =IF(N153="základná",J153,0) -> 0 | BF153: =IF(N153="znížená",J153,0) -> 0 | BG153: =IF(N153="zákl. prenesená",J153,0) -> 0 | BH153: =IF(N153="zníž. prenesená",J153,0) -> 0 | BI153: =IF(N153="nulová",J153,0) -> 0 | BJ153: 2 | BK153: =ROUND(I153*H153,2) -> 0 | BL153: 4 | BM153: 48
C154: 38 | D154: K | E154: 2 | F154: JE-H/ST/H FE180/PS60 1x2x0,8 kábel, bezhalogénový, | G154: m | H154: 650 | N154: znížená | O154: 0 | P154: =O154*H154 -> 0 | Q154: 0 | R154: =Q154*H154 -> 0 | S154: 0 | T154: =S154*H154 -> 0 | AR154: 4 | AT154: K | AU154: 2 | AY154: ROZPOCET | BE154: =IF(N154="základná",J154,0) -> 0 | BF154: =IF(N154="znížená",J154,0) -> 0 | BG154: =IF(N154="zákl. prenesená",J154,0) -> 0 | BH154: =IF(N154="zníž. prenesená",J154,0) -> 0 | BI154: =IF(N154="nulová",J154,0) -> 0 | BJ154: 2 | BK154: =ROUND(I154*H154,2) -> 0 | BL154: 4 | BM154: 50
C155: 39 | D155: K | E155: 3 | F155: JE-H/ST/H 1x2x0,8 B2ca - a1, d1, skábel, bezhalogéno | G155: m | H155: 350 | N155: znížená | O155: 0 | P155: =O155*H155 -> 0 | Q155: 0 | R155: =Q155*H155 -> 0 | S155: 0 | T155: =S155*H155 -> 0 | AR155: 4 | AT155: K | AU155: 2 | AY155: ROZPOCET | BE155: =IF(N155="základná",J155,0) -> 0 | BF155: =IF(N155="znížená",J155,0) -> 0 | BG155: =IF(N155="zákl. prenesená",J155,0) -> 0 | BH155: =IF(N155="zníž. prenesená",J155,0) -> 0 | BI155: =IF(N155="nulová",J155,0) -> 0 | BJ155: 2 | BK155: =ROUND(I155*H155,2) -> 0 | BL155: 4 | BM155: 52
C156: 40 | D156: K | E156: 4 | F156: JE-H/ST/H FE180/PS560 5x2x0,8 kábel, bezhalogénový | G156: m | H156: 25 | N156: znížená | O156: 0 | P156: =O156*H156 -> 0 | Q156: 0 | R156: =Q156*H156 -> 0 | S156: 0 | T156: =S156*H156 -> 0 | AR156: 4 | AT156: K | AU156: 2 | AY156: ROZPOCET | BE156: =IF(N156="základná",J156,0) -> 0 | BF156: =IF(N156="znížená",J156,0) -> 0 | BG156: =IF(N156="zákl. prenesená",J156,0) -> 0 | BH156: =IF(N156="zníž. prenesená",J156,0) -> 0 | BI156: =IF(N156="nulová",J156,0) -> 0 | BJ156: 2 | BK156: =ROUND(I156*H156,2) -> 0 | BL156: 4 | BM156: 54
C157: 41 | D157: K | E157: 5 | F157: JE-H/ST/H FE180/PS560 10x2x0,8 kábel, bezhalogéno | G157: m | H157: 20 | N157: znížená | O157: 0 | P157: =O157*H157 -> 0 | Q157: 0 | R157: =Q157*H157 -> 0 | S157: 0 | T157: =S157*H157 -> 0 | AR157: 4 | AT157: K | AU157: 2 | AY157: ROZPOCET | BE157: =IF(N157="základná",J157,0) -> 0 | BF157: =IF(N157="znížená",J157,0) -> 0 | BG157: =IF(N157="zákl. prenesená",J157,0) -> 0 | BH157: =IF(N157="zníž. prenesená",J157,0) -> 0 | BI157: =IF(N157="nulová",J157,0) -> 0 | BJ157: 2 | BK157: =ROUND(I157*H157,2) -> 0 | BL157: 4 | BM157: 56
C158: 42 | D158: K | E158: 6 | F158: Protipožiarna kovová káblová príchytka ks 3713 0,23 | G158: ks | H158: 3713 | N158: znížená | O158: 0 | P158: =O158*H158 -> 0 | Q158: 0 | R158: =Q158*H158 -> 0 | S158: 0 | T158: =S158*H158 -> 0 | AR158: 4 | AT158: K | AU158: 2 | AY158: ROZPOCET | BE158: =IF(N158="základná",J158,0) -> 0 | BF158: =IF(N158="znížená",J158,0) -> 0 | BG158: =IF(N158="zákl. prenesená",J158,0) -> 0 | BH158: =IF(N158="zníž. prenesená",J158,0) -> 0 | BI158: =IF(N158="nulová",J158,0) -> 0 | BJ158: 2 | BK158: =ROUND(I158*H158,2) -> 0 | BL158: 4 | BM158: 58
C159: 43 | D159: K | E159: 7 | F159: Protipožiarna kovová kotva | G159: ks | H159: 3713 | N159: znížená | O159: 0 | P159: =O159*H159 -> 0 | Q159: 0 | R159: =Q159*H159 -> 0 | S159: 0 | T159: =S159*H159 -> 0 | AR159: 4 | AT159: K | AU159: 2 | AY159: ROZPOCET | BE159: =IF(N159="základná",J159,0) -> 0 | BF159: =IF(N159="znížená",J159,0) -> 0 | BG159: =IF(N159="zákl. prenesená",J159,0) -> 0 | BH159: =IF(N159="zníž. prenesená",J159,0) -> 0 | BI159: =IF(N159="nulová",J159,0) -> 0 | BJ159: 2 | BK159: =ROUND(I159*H159,2) -> 0 | BL159: 4 | BM159: 60
C160: 44 | D160: K | E160: 8 | F160: Požiarna prepojovacia krabica | G160: ks | H160: 2 | N160: znížená | O160: 0 | P160: =O160*H160 -> 0 | Q160: 0 | R160: =Q160*H160 -> 0 | S160: 0 | T160: =S160*H160 -> 0 | AR160: 4 | AT160: K | AU160: 2 | AY160: ROZPOCET | BE160: =IF(N160="základná",J160,0) -> 0 | BF160: =IF(N160="znížená",J160,0) -> 0 | BG160: =IF(N160="zákl. prenesená",J160,0) -> 0 | BH160: =IF(N160="zníž. prenesená",J160,0) -> 0 | BI160: =IF(N160="nulová",J160,0) -> 0 | BJ160: 2 | BK160: =ROUND(I160*H160,2) -> 0 | BL160: 4 | BM160: 62
C161: 45 | D161: K | E161: 9 | F161: Protipožiarna ucpávka | G161: ks | H161: 1 | N161: znížená | O161: 0 | P161: =O161*H161 -> 0 | Q161: 0 | R161: =Q161*H161 -> 0 | S161: 0 | T161: =S161*H161 -> 0 | AR161: 4 | AT161: K | AU161: 2 | AY161: ROZPOCET | BE161: =IF(N161="základná",J161,0) -> 0 | BF161: =IF(N161="znížená",J161,0) -> 0 | BG161: =IF(N161="zákl. prenesená",J161,0) -> 0 | BH161: =IF(N161="zníž. prenesená",J161,0) -> 0 | BI161: =IF(N161="nulová",J161,0) -> 0 | BJ161: 2 | BK161: =ROUND(I161*H161,2) -> 0 | BL161: 4 | BM161: 64
C162: 46 | D162: K | E162: 10 | F162: Drobný inštalačný materiál (hmoždinky, skrutky a pod.) | G162: kpl | H162: 1 | N162: znížená | O162: 0 | P162: =O162*H162 -> 0 | Q162: 0 | R162: =Q162*H162 -> 0 | S162: 0 | T162: =S162*H162 -> 0 | AR162: 4 | AT162: K | AU162: 2 | AY162: ROZPOCET | BE162: =IF(N162="základná",J162,0) -> 0 | BF162: =IF(N162="znížená",J162,0) -> 0 | BG162: =IF(N162="zákl. prenesená",J162,0) -> 0 | BH162: =IF(N162="zníž. prenesená",J162,0) -> 0 | BI162: =IF(N162="nulová",J162,0) -> 0 | BJ162: 2 | BK162: =ROUND(I162*H162,2) -> 0 | BL162: 4 | BM162: 66
D163: D | E163: OST | F163: Ostatné | P163: =SUM(P164:P173) -> 0 | R163: =SUM(R164:R173) -> 0 | T163: =SUM(T164:T173) -> 0 | AR163: 4 | AT163: D | AU163: 1 | AY163: ROZPOCET | BK163: =SUM(BK164:BK173) -> 0
C164: 47 | D164: K | E164: a | F164: Oživenie, programovanie, test | G164: kpl | H164: 1 | N164: znížená | O164: 0 | P164: =O164*H164 -> 0 | Q164: 0 | R164: =Q164*H164 -> 0 | S164: 0 | T164: =S164*H164 -> 0 | AR164: 262144 | AT164: K | AU164: 2 | AY164: ROZPOCET | BE164: =IF(N164="základná",J164,0) -> 0 | BF164: =IF(N164="znížená",J164,0) -> 0 | BG164: =IF(N164="zákl. prenesená",J164,0) -> 0 | BH164: =IF(N164="zníž. prenesená",J164,0) -> 0 | BI164: =IF(N164="nulová",J164,0) -> 0 | BJ164: 2 | BK164: =ROUND(I164*H164,2) -> 0 | BL164: 262144 | BM164: 68
C165: 48 | D165: K | E165: b | F165: Inštalácia kabeláže | G165: kpl | H165: 1 | N165: znížená | O165: 0 | P165: =O165*H165 -> 0 | Q165: 0 | R165: =Q165*H165 -> 0 | S165: 0 | T165: =S165*H165 -> 0 | AR165: 262144 | AT165: K | AU165: 2 | AY165: ROZPOCET | BE165: =IF(N165="základná",J165,0) -> 0 | BF165: =IF(N165="znížená",J165,0) -> 0 | BG165: =IF(N165="zákl. prenesená",J165,0) -> 0 | BH165: =IF(N165="zníž. prenesená",J165,0) -> 0 | BI165: =IF(N165="nulová",J165,0) -> 0 | BJ165: 2 | BK165: =ROUND(I165*H165,2) -> 0 | BL165: 262144 | BM165: 70
C166: 49 | D166: K | E166: c | F166: Inštalácia zariadení | G166: kpl | H166: 1 | N166: znížená | O166: 0 | P166: =O166*H166 -> 0 | Q166: 0 | R166: =Q166*H166 -> 0 | S166: 0 | T166: =S166*H166 -> 0 | AR166: 262144 | AT166: K | AU166: 2 | AY166: ROZPOCET | BE166: =IF(N166="základná",J166,0) -> 0 | BF166: =IF(N166="znížená",J166,0) -> 0 | BG166: =IF(N166="zákl. prenesená",J166,0) -> 0 | BH166: =IF(N166="zníž. prenesená",J166,0) -> 0 | BI166: =IF(N166="nulová",J166,0) -> 0 | BJ166: 2 | BK166: =ROUND(I166*H166,2) -> 0 | BL166: 262144 | BM166: 72
C167: 50 | D167: K | E167: d | F167: Prierazy a murárske práce | G167: jed. | H167: 1 | N167: znížená | O167: 0 | P167: =O167*H167 -> 0 | Q167: 0 | R167: =Q167*H167 -> 0 | S167: 0 | T167: =S167*H167 -> 0 | AR167: 262144 | AT167: K | AU167: 2 | AY167: ROZPOCET | BE167: =IF(N167="základná",J167,0) -> 0 | BF167: =IF(N167="znížená",J167,0) -> 0 | BG167: =IF(N167="zákl. prenesená",J167,0) -> 0 | BH167: =IF(N167="zníž. prenesená",J167,0) -> 0 | BI167: =IF(N167="nulová",J167,0) -> 0 | BJ167: 2 | BK167: =ROUND(I167*H167,2) -> 0 | BL167: 262144 | BM167: 74
C168: 51 | D168: K | E168: e | F168: Prvá odborná prehliadka a skúška ústrední, hlásičov | G168: jed. | H168: 1 | N168: znížená | O168: 0 | P168: =O168*H168 -> 0 | Q168: 0 | R168: =Q168*H168 -> 0 | S168: 0 | T168: =S168*H168 -> 0 | AR168: 262144 | AT168: K | AU168: 2 | AY168: ROZPOCET | BE168: =IF(N168="základná",J168,0) -> 0 | BF168: =IF(N168="znížená",J168,0) -> 0 | BG168: =IF(N168="zákl. prenesená",J168,0) -> 0 | BH168: =IF(N168="zníž. prenesená",J168,0) -> 0 | BI168: =IF(N168="nulová",J168,0) -> 0 | BJ168: 2 | BK168: =ROUND(I168*H168,2) -> 0 | BL168: 262144 | BM168: 76
C169: 52 | D169: K | E169: f | F169: Projekt skutkového vyhotovenia | G169: jed. | H169: 1 | N169: znížená | O169: 0 | P169: =O169*H169 -> 0 | Q169: 0 | R169: =Q169*H169 -> 0 | S169: 0 | T169: =S169*H169 -> 0 | AR169: 262144 | AT169: K | AU169: 2 | AY169: ROZPOCET | BE169: =IF(N169="základná",J169,0) -> 0 | BF169: =IF(N169="znížená",J169,0) -> 0 | BG169: =IF(N169="zákl. prenesená",J169,0) -> 0 | BH169: =IF(N169="zníž. prenesená",J169,0) -> 0 | BI169: =IF(N169="nulová",J169,0) -> 0 | BJ169: 2 | BK169: =ROUND(I169*H169,2) -> 0 | BL169: 262144 | BM169: 78
C170: 53 | D170: K | E170: g | F170: Lešenia, pracovné plošiny a ostatná mechanizácia potre | G170: jed. | H170: 1 | N170: znížená | O170: 0 | P170: =O170*H170 -> 0 | Q170: 0 | R170: =Q170*H170 -> 0 | S170: 0 | T170: =S170*H170 -> 0 | AR170: 262144 | AT170: K | AU170: 2 | AY170: ROZPOCET | BE170: =IF(N170="základná",J170,0) -> 0 | BF170: =IF(N170="znížená",J170,0) -> 0 | BG170: =IF(N170="zákl. prenesená",J170,0) -> 0 | BH170: =IF(N170="zníž. prenesená",J170,0) -> 0 | BI170: =IF(N170="nulová",J170,0) -> 0 | BJ170: 2 | BK170: =ROUND(I170*H170,2) -> 0 | BL170: 262144 | BM170: 80
C171: 54 | D171: K | E171: h | F171: Inžinierska činnosť a technický dozor | G171: kpl | H171: 1 | N171: znížená | O171: 0 | P171: =O171*H171 -> 0 | Q171: 0 | R171: =Q171*H171 -> 0 | S171: 0 | T171: =S171*H171 -> 0 | AR171: 262144 | AT171: K | AU171: 2 | AY171: ROZPOCET | BE171: =IF(N171="základná",J171,0) -> 0 | BF171: =IF(N171="znížená",J171,0) -> 0 | BG171: =IF(N171="zákl. prenesená",J171,0) -> 0 | BH171: =IF(N171="zníž. prenesená",J171,0) -> 0 | BI171: =IF(N171="nulová",J171,0) -> 0 | BJ171: 2 | BK171: =ROUND(I171*H171,2) -> 0 | BL171: 262144 | BM171: 82
C172: 55 | D172: K | E172: i | F172: Zaškolenie obsluhy | G172: jed. | H172: 1 | N172: znížená | O172: 0 | P172: =O172*H172 -> 0 | Q172: 0 | R172: =Q172*H172 -> 0 | S172: 0 | T172: =S172*H172 -> 0 | AR172: 262144 | AT172: K | AU172: 2 | AY172: ROZPOCET | BE172: =IF(N172="základná",J172,0) -> 0 | BF172: =IF(N172="znížená",J172,0) -> 0 | BG172: =IF(N172="zákl. prenesená",J172,0) -> 0 | BH172: =IF(N172="zníž. prenesená",J172,0) -> 0 | BI172: =IF(N172="nulová",J172,0) -> 0 | BJ172: 2 | BK172: =ROUND(I172*H172,2) -> 0 | BL172: 262144 | BM172: 84
C173: 56 | D173: K | E173: j | F173: Zriadenie staveniska podľa požiadaviek dodávaťeľa,v zmysle platného stavebného zákona SR 396/2006 vrátane všetkých zabezpečení a opatrení BOZP | G173: jed. | H173: 1 | N173: znížená | O173: 0 | P173: =O173*H173 -> 0 | Q173: 0 | R173: =Q173*H173 -> 0 | S173: 0 | T173: =S173*H173 -> 0 | AR173: 262144 | AT173: K | AU173: 2 | AY173: ROZPOCET | BE173: =IF(N173="základná",J173,0) -> 0 | BF173: =IF(N173="znížená",J173,0) -> 0 | BG173: =IF(N173="zákl. prenesená",J173,0) -> 0 | BH173: =IF(N173="zníž. prenesená",J173,0) -> 0 | BI173: =IF(N173="nulová",J173,0) -> 0 | BJ173: 2 | BK173: =ROUND(I173*H173,2) -> 0 | BL173: 262144 | BM173: 86

Sheet HSP - HSP
L2: >> skryté stĺpce << | AT2: {1decfeaf-05d5-4d4f-90ee-c7c5f8f4625c}
AT3: 0
D4: KRYCÍ LIST ROZPOČTU | M4: v --- nižšie sa nachádzajú doplnkové a pomocné údaje k zostavám --- v | AT4: False
D6: Stavba:
E7: ='Rekapitulácia stavby'!K6 -> Športová hala OLYMPIA v Nitre
D8: Objekt:
E9: SO01 - Športová hala, Nitra
D10: Časť:
E11: HSP - HSP
D13: JKSO: | I13: ČS:
D14: Miesto: | F14: Nitra | I14: Dátum: | J14: ='Rekapitulácia stavby'!AN8 -> 8. 7. 2025
D16: Objednávateľ: | I16: IČO:
E17: Športová hala OLYMPIA s.r.o. | I17: IČ DPH:
D19: Zhotoviteľ: | I19: IČO:
I20: IČ DPH:
D22: Projektant: | I22: IČO:
E23: Ing. Stanislav Karas | I23: IČ DPH:
D25: Spracovateľ: | I25: IČO:
I26: IČ DPH:
D28: Poznámka:
D32: Cena bez DPH | J32: =ROUND(J125, 2) -> 0
F34: Základ dane | I34: Sadzba dane | J34: Výška dane
D35: DPH | E35: základná | F35: =ROUND((SUM(BE125:BE159)), 2) -> 0 | I35: 0.23 | J35: =ROUND(((SUM(BE125:BE159))*I35), 2) -> 0
E36: znížená | F36: =ROUND((SUM(BF125:BF159)), 2) -> 0 | I36: 0.23 | J36: =ROUND(((SUM(BF125:BF159))*I36), 2) -> 0
E37: zákl. prenesená | F37: =ROUND((SUM(BG125:BG159)), 2) -> 0 | I37: 0.23 | J37: =0 -> 0
E38: zníž. prenesená | F38: =ROUND((SUM(BH125:BH159)), 2) -> 0 | I38: 0.23 | J38: =0 -> 0
E39: nulová | F39: =ROUND((SUM(BI125:BI159)), 2) -> 0 | I39: 0 | J39: =0 -> 0
D41: Cena s DPH | G41: v | H41: EUR | J41: =SUM(J32:J39) -> 0
D50: Projektant | G50: Spracovateľ
D61: Dátum a podpis: | F61: Pečiatka | G61: Dátum a podpis: | J61: Pečiatka
D65: Objednávateľ | G65: Zhotoviteľ
D76: Dátum a podpis: | F76: Pečiatka | G76: Dátum a podpis: | J76: Pečiatka
C82: REKAPITULÁCIA ROZPOČTU
C84: Stavba:
E85: =E7 -> Športová hala OLYMPIA v Nitre
C86: Objekt:
E87: SO01 - Športová hala, Nitra
C88: Časť:
E89: =E11 -> HSP - HSP
C91: Miesto: | F91: =F14 -> Nitra | I91: Dátum: | J91: =IF(J14="","",J14) -> 8. 7. 2025
C93: Objednávateľ: | F93: =E17 -> Športová hala OLYMPIA s.r.o. | I93: Projektant: | J93: =E23 -> Ing. Stanislav Karas
C94: Zhotoviteľ: | F94: =IF(E20="","",E20) | I94: Spracovateľ: | J94: =E26 -> 0
C96: Kód dielu - Popis | J96: Cena celkom [EUR]
C98: Náklady z rozpočtu | J98: =J125 -> 0 | AU98: -1
D99: M - Práce a dodávky M | J99: =J126 -> 0
D100: 36-M - HSP | J100: =J127 -> 0
D101: 36a - Materiál - zariadenia | J101: =J128 -> 0
D102: 36b - Montážny materiál | J102: =J144 -> 0
D103: OST - Ostatné | J103: =J152 -> 0
C110: ROZPOČET
C112: Stavba:
E113: =E7 -> Športová hala OLYMPIA v Nitre
C114: Objekt:
E115: SO01 - Športová hala, Nitra
C116: Časť:
E117: =E11 -> HSP - HSP
C119: Miesto: | F119: =F14 -> Nitra | I119: Dátum: | J119: =IF(J14="","",J14) -> 8. 7. 2025
C121: Objednávateľ: | F121: =E17 -> Športová hala OLYMPIA s.r.o. | I121: Projektant: | J121: =E23 -> Ing. Stanislav Karas
C122: Zhotoviteľ: | F122: =IF(E20="","",E20) | I122: Spracovateľ: | J122: =E26 -> 0
C124: PČ | D124: Typ | E124: Kód | F124: Popis | G124: MJ | H124: Množstvo | I124: J.cena [EUR] | J124: Cena celkom [EUR] | K124: Cenová sústava | N124: DPH | O124: J. Nh [h] | P124: Nh celkom [h] | Q124: J. hmotnosť [t] | R124: Hmotnosť celkom [t] | S124: J. suť [t] | T124: Suť Celkom [t]
C125: Náklady z rozpočtu | J125: =BK125 -> 0 | P125: =P126 -> 0 | R125: =R126 -> 0 | T125: =T126 -> 0 | AT125: D | AU125: -1 | BK125: =BK126 -> 0
D126: D | E126: M | F126: Práce a dodávky M | J126: =BK126 -> 0 | P126: =P127+P128+P144+P152 -> 0 | R126: =R127+R128+R144+R152 -> 0 | T126: =T127+T128+T144+T152 -> 0 | AR126: 3 | AT126: D | AU126: 0 | AY126: ROZPOCET | BK126: =BK127+BK128+BK144+BK152 -> 0
D127: D | E127: 36-M | F127: HSP | J127: =BK127 -> 0 | P127: 0 | R127: 0 | T127: 0 | AR127: 3 | AT127: D | AU127: 1 | AY127: ROZPOCET | BK127: 0
D128: D | E128: 36a | F128: Materiál - zariadenia | J128: =BK128 -> 0 | P128: =SUM(P129:P143) -> 0 | R128: =SUM(R129:R143) -> 0 | T128: =SUM(T129:T143) -> 0 | AR128: 1 | AT128: D | AU128: 1 | AY128: ROZPOCET | BK128: =SUM(BK129:BK143) -> 0
C129: 1 | D129: M | E129: RK-MCU | F129: LDA One ridici jednotka s vestav. 500W zesilovač | G129: ks | H129: 1 | N129: znížená | O129: 0 | P129: =O129*H129 -> 0 | Q129: 0 | R129: =Q129*H129 -> 0 | S129: 0 | T129: =S129*H129 -> 0 | AR129: 8 | AT129: M | AU129: 2 | AY129: ROZPOCET | BE129: =IF(N129="základná",J129,0) -> 0 | BF129: =IF(N129="znížená",J129,0) -> 0 | BG129: =IF(N129="zákl. prenesená",J129,0) -> 0 | BH129: =IF(N129="zníž. prenesená",J129,0) -> 0 | BI129: =IF(N129="nulová",J129,0) -> 0 | BJ129: 2 | BK129: =ROUND(I129*H129,2) -> 0 | BL129: 4 | BM129: 2
C130: 2 | D130: M | E130: RK-AMP500 | F130: vykonovy zesilovac 500W, trida D - Obsahuje ústredňa | G130: ks | H130: 1 | N130: znížená | O130: 0 | P130: =O130*H130 -> 0 | Q130: 0 | R130: =Q130*H130 -> 0 | S130: 0 | T130: =S130*H130 -> 0 | AR130: 8 | AT130: M | AU130: 2 | AY130: ROZPOCET | BE130: =IF(N130="základná",J130,0) -> 0 | BF130: =IF(N130="znížená",J130,0) -> 0 | BG130: =IF(N130="zákl. prenesená",J130,0) -> 0 | BH130: =IF(N130="zníž. prenesená",J130,0) -> 0 | BI130: =IF(N130="nulová",J130,0) -> 0 | BJ130: 2 | BK130: =ROUND(I130*H130,2) -> 0 | BL130: 4 | BM130: 4
C131: 3 | D131: M | E131: RK-MIC | F131: LDAMPS8ZS02 stanice hlasatele | G131: ks | H131: 1 | N131: znížená | O131: 0 | P131: =O131*H131 -> 0 | Q131: 0 | R131: =Q131*H131 -> 0 | S131: 0 | T131: =S131*H131 -> 0 | AR131: 8 | AT131: M | AU131: 2 | AY131: ROZPOCET | BE131: =IF(N131="základná",J131,0) -> 0 | BF131: =IF(N131="znížená",J131,0) -> 0 | BG131: =IF(N131="zákl. prenesená",J131,0) -> 0 | BH131: =IF(N131="zníž. prenesená",J131,0) -> 0 | BI131: =IF(N131="nulová",J131,0) -> 0 | BJ131: 2 | BK131: =ROUND(I131*H131,2) -> 0 | BL131: 4 | BM131: 6
C132: 4 | D132: M | E132: 583505.RE | F132: Dig. stan. hlas. LDAVAP1S02 EN54-16 pro hasice | G132: ks | H132: 1 | N132: znížená | O132: 0 | P132: =O132*H132 -> 0 | Q132: 0 | R132: =Q132*H132 -> 0 | S132: 0 | T132: =S132*H132 -> 0 | AR132: 8 | AT132: M | AU132: 2 | AY132: ROZPOCET | BE132: =IF(N132="základná",J132,0) -> 0 | BF132: =IF(N132="znížená",J132,0) -> 0 | BG132: =IF(N132="zákl. prenesená",J132,0) -> 0 | BH132: =IF(N132="zníž. prenesená",J132,0) -> 0 | BI132: =IF(N132="nulová",J132,0) -> 0 | BJ132: 2 | BK132: =ROUND(I132*H132,2) -> 0 | BL132: 4 | BM132: 8
C133: 5 | D133: M | E133: 581726 | F133: Nouzovy napajeci zdroj PSU 24V-1 - Obsahuje ústredňa | G133: ks | H133: 1 | N133: znížená | O133: 0 | P133: =O133*H133 -> 0 | Q133: 0 | R133: =Q133*H133 -> 0 | S133: 0 | T133: =S133*H133 -> 0 | AR133: 8 | AT133: M | AU133: 2 | AY133: ROZPOCET | BE133: =IF(N133="základná",J133,0) -> 0 | BF133: =IF(N133="znížená",J133,0) -> 0 | BG133: =IF(N133="zákl. prenesená",J133,0) -> 0 | BH133: =IF(N133="zníž. prenesená",J133,0) -> 0 | BI133: =IF(N133="nulová",J133,0) -> 0 | BJ133: 2 | BK133: =ROUND(I133*H133,2) -> 0 | BL133: 4 | BM133: 10
C134: 6 | D134: M | E134: 581732 | F134: Akumulator 12V / 65 Ah pro PSU - Stačí 1 ks a 20Ah | G134: ks | H134: 1 | N134: znížená | O134: 0 | P134: =O134*H134 -> 0 | Q134: 0 | R134: =Q134*H134 -> 0 | S134: 0 | T134: =S134*H134 -> 0 | AR134: 8 | AT134: M | AU134: 2 | AY134: ROZPOCET | BE134: =IF(N134="základná",J134,0) -> 0 | BF134: =IF(N134="znížená",J134,0) -> 0 | BG134: =IF(N134="zákl. prenesená",J134,0) -> 0 | BH134: =IF(N134="zníž. prenesená",J134,0) -> 0 | BI134: =IF(N134="nulová",J134,0) -> 0 | BJ134: 2 | BK134: =ROUND(I134*H134,2) -> 0 | BL134: 4 | BM134: 12
C135: 7 | D135: M | E135: 584927 | F135: sada dvou montaznich drzaku - Obsahuje ústredňa | G135: ks | H135: 2 | N135: znížená | O135: 0 | P135: =O135*H135 -> 0 | Q135: 0 | R135: =Q135*H135 -> 0 | S135: 0 | T135: =S135*H135 -> 0 | AR135: 8 | AT135: M | AU135: 2 | AY135: ROZPOCET | BE135: =IF(N135="základná",J135,0) -> 0 | BF135: =IF(N135="znížená",J135,0) -> 0 | BG135: =IF(N135="zákl. prenesená",J135,0) -> 0 | BH135: =IF(N135="zníž. prenesená",J135,0) -> 0 | BI135: =IF(N135="nulová",J135,0) -> 0 | BJ135: 2 | BK135: =ROUND(I135*H135,2) -> 0 | BL135: 4 | BM135: 14
C136: 8 | D136: M | E136: 583415 | F136: pojistka 200A pro kabelaz zaloznich aku - Nie je treba | G136: ks | H136: 1 | N136: znížená | O136: 0 | P136: =O136*H136 -> 0 | Q136: 0 | R136: =Q136*H136 -> 0 | S136: 0 | T136: =S136*H136 -> 0 | AR136: 8 | AT136: M | AU136: 2 | AY136: ROZPOCET | BE136: =IF(N136="základná",J136,0) -> 0 | BF136: =IF(N136="znížená",J136,0) -> 0 | BG136: =IF(N136="zákl. prenesená",J136,0) -> 0 | BH136: =IF(N136="zníž. prenesená",J136,0) -> 0 | BI136: =IF(N136="nulová",J136,0) -> 0 | BJ136: 2 | BK136: =ROUND(I136*H136,2) -> 0 | BL136: 4 | BM136: 16
C137: 9 | D137: M | E137: 582470 | F137: Nast. repro.WA 06-165/T-EN54 - doplnené 3 ks | G137: ks | H137: 10 | N137: znížená | O137: 0 | P137: =O137*H137 -> 0 | Q137: 0 | R137: =Q137*H137 -> 0 | S137: 0 | T137: =S137*H137 -> 0 | AR137: 8 | AT137: M | AU137: 2 | AY137: ROZPOCET | BE137: =IF(N137="základná",J137,0) -> 0 | BF137: =IF(N137="znížená",J137,0) -> 0 | BG137: =IF(N137="zákl. prenesená",J137,0) -> 0 | BH137: =IF(N137="zníž. prenesená",J137,0) -> 0 | BI137: =IF(N137="nulová",J137,0) -> 0 | BJ137: 2 | BK137: =ROUND(I137*H137,2) -> 0 | BL137: 4 | BM137: 18
C138: 10 | D138: M | E138: 582441 | F138: Zvukovy proj.DA-P 20-130/T-EN54 | G138: ks | H138: 8 | N138: znížená | O138: 0 | P138: =O138*H138 -> 0 | Q138: 0 | R138: =Q138*H138 -> 0 | S138: 0 | T138: =S138*H138 -> 0 | AR138: 8 | AT138: M | AU138: 2 | AY138: ROZPOCET | BE138: =IF(N138="základná",J138,0) -> 0 | BF138: =IF(N138="znížená",J138,0) -> 0 | BG138: =IF(N138="zákl. prenesená",J138,0) -> 0 | BH138: =IF(N138="zníž. prenesená",J138,0) -> 0 | BI138: =IF(N138="nulová",J138,0) -> 0 | BJ138: 2 | BK138: =ROUND(I138*H138,2) -> 0 | BL138: 4 | BM138: 20
C139: 11 | D139: M | E139: 583496 | F139: Konc. clen repr. linky EOL LDATFL2S01 | G139: ks | H139: 2 | N139: znížená | O139: 0 | P139: =O139*H139 -> 0 | Q139: 0 | R139: =Q139*H139 -> 0 | S139: 0 | T139: =S139*H139 -> 0 | AR139: 8 | AT139: M | AU139: 2 | AY139: ROZPOCET | BE139: =IF(N139="základná",J139,0) -> 0 | BF139: =IF(N139="znížená",J139,0) -> 0 | BG139: =IF(N139="zákl. prenesená",J139,0) -> 0 | BH139: =IF(N139="zníž. prenesená",J139,0) -> 0 | BI139: =IF(N139="nulová",J139,0) -> 0 | BJ139: 2 | BK139: =ROUND(I139*H139,2) -> 0 | BL139: 4 | BM139: 22
C140: 12 | D140: M | E140: 583497 | F140: 600x600 26U dátový rozvádzač s príslušenstvom, presklené dvere, kompletný - Nie je treba | G140: ks | H140: 1 | N140: znížená | O140: 0 | P140: =O140*H140 -> 0 | Q140: 0 | R140: =Q140*H140 -> 0 | S140: 0 | T140: =S140*H140 -> 0 | AR140: 8 | AT140: M | AU140: 2 | AY140: ROZPOCET | BE140: =IF(N140="základná",J140,0) -> 0 | BF140: =IF(N140="znížená",J140,0) -> 0 | BG140: =IF(N140="zákl. prenesená",J140,0) -> 0 | BH140: =IF(N140="zníž. prenesená",J140,0) -> 0 | BI140: =IF(N140="nulová",J140,0) -> 0 | BJ140: 2 | BK140: =ROUND(I140*H140,2) -> 0 | BL140: 4 | BM140: 24
... C143: 15 | D143: M | E143: 583450 | F143: Rozvodný panel ACAR 5x230V, 2U, 3m | G143: ks | H143: 1 | N143: znížená | O143: 0 | P143: =O143*H143 -> 0 | Q143: 0 | R143: =Q143*H143 -> 0 | S143: 0 | T143: =S143*H143 -> 0 | AR143: 8 | AT143: M | AU143: 2 | AY143: ROZPOCET | BE143: =IF(N143="základná",J143,0) -> 0 | BF143: =IF(N143="znížená",J143,0) -> 0 | BG143: =IF(N143="zákl. prenesená",J143,0) -> 0 | BH143: =IF(N143="zníž. prenesená",J143,0) -> 0 | BI143: =IF(N143="nulová",J143,0) -> 0 | BJ143: 2 | BK143: =ROUND(I143*H143,2) -> 0 | BL143: 4 | BM143: 30
D144: D | E144: 36b | F144: Montážny materiál | P144: =SUM(P145:P151) -> 0 | R144: =SUM(R145:R151) -> 0 | T144: =SUM(T145:T151) -> 0 | AR144: 1 | AT144: D | AU144: 1 | AY144: ROZPOCET | BK144: =SUM(BK145:BK151) -> 0
C145: 16 | D145: K | E145: 01 | F145: JE-H(ST)H 1x2x0,8 FE180/PS60 B2cas1d1a1 | G145: m | H145: 20 | N145: znížená | O145: 0 | P145: =O145*H145 -> 0 | Q145: 0 | R145: =Q145*H145 -> 0 | S145: 0 | T145: =S145*H145 -> 0 | AR145: 4 | AT145: K | AU145: 2 | AY145: ROZPOCET | BE145: =IF(N145="základná",J145,0) -> 0 | BF145: =IF(N145="znížená",J145,0) -> 0 | BG145: =IF(N145="zákl. prenesená",J145,0) -> 0 | BH145: =IF(N145="zníž. prenesená",J145,0) -> 0 | BI145: =IF(N145="nulová",J145,0) -> 0 | BJ145: 2 | BK145: =ROUND(I145*H145,2) -> 0 | BL145: 4 | BM145: 32
C146: 17 | D146: K | E146: 02 | F146: NHXH-O FE180/PS60 2x1,5 kábel, bezhalogénový požiarne odolný B2ca - a1, d1, s1 | G146: m | H146: 300 | N146: znížená | O146: 0 | P146: =O146*H146 -> 0 | Q146: 0 | R146: =Q146*H146 -> 0 | S146: 0 | T146: =S146*H146 -> 0 | AR146: 4 | AT146: K | AU146: 2 | AY146: ROZPOCET | BE146: =IF(N146="základná",J146,0) -> 0 | BF146: =IF(N146="znížená",J146,0) -> 0 | BG146: =IF(N146="zákl. prenesená",J146,0) -> 0 | BH146: =IF(N146="zníž. prenesená",J146,0) -> 0 | BI146: =IF(N146="nulová",J146,0) -> 0 | BJ146: 2 | BK146: =ROUND(I146*H146,2) -> 0 | BL146: 4 | BM146: 34
C147: 18 | D147: K | E147: 03 | F147: Protipožiarna kovová káblová príchytka | G147: ks | H147: 900 | N147: znížená | O147: 0 | P147: =O147*H147 -> 0 | Q147: 0 | R147: =Q147*H147 -> 0 | S147: 0 | T147: =S147*H147 -> 0 | AR147: 4 | AT147: K | AU147: 2 | AY147: ROZPOCET | BE147: =IF(N147="základná",J147,0) -> 0 | BF147: =IF(N147="znížená",J147,0) -> 0 | BG147: =IF(N147="zákl. prenesená",J147,0) -> 0 | BH147: =IF(N147="zníž. prenesená",J147,0) -> 0 | BI147: =IF(N147="nulová",J147,0) -> 0 | BJ147: 2 | BK147: =ROUND(I147*H147,2) -> 0 | BL147: 4 | BM147: 36
C148: 19 | D148: K | E148: 04 | F148: Protipožiarna kovová kotva | G148: ks | H148: 900 | N148: znížená | O148: 0 | P148: =O148*H148 -> 0 | Q148: 0 | R148: =Q148*H148 -> 0 | S148: 0 | T148: =S148*H148 -> 0 | AR148: 4 | AT148: K | AU148: 2 | AY148: ROZPOCET | BE148: =IF(N148="základná",J148,0) -> 0 | BF148: =IF(N148="znížená",J148,0) -> 0 | BG148: =IF(N148="zákl. prenesená",J148,0) -> 0 | BH148: =IF(N148="zníž. prenesená",J148,0) -> 0 | BI148: =IF(N148="nulová",J148,0) -> 0 | BJ148: 2 | BK148: =ROUND(I148*H148,2) -> 0 | BL148: 4 | BM148: 38
C149: 20 | D149: K | E149: 05 | F149: Požiarna prepojovacia krabica | G149: ks | H149: 15 | N149: znížená | O149: 0 | P149: =O149*H149 -> 0 | Q149: 0 | R149: =Q149*H149 -> 0 | S149: 0 | T149: =S149*H149 -> 0 | AR149: 4 | AT149: K | AU149: 2 | AY149: ROZPOCET | BE149: =IF(N149="základná",J149,0) -> 0 | BF149: =IF(N149="znížená",J149,0) -> 0 | BG149: =IF(N149="zákl. prenesená",J149,0) -> 0 | BH149: =IF(N149="zníž. prenesená",J149,0) -> 0 | BI149: =IF(N149="nulová",J149,0) -> 0 | BJ149: 2 | BK149: =ROUND(I149*H149,2) -> 0 | BL149: 4 | BM149: 40
C150: 21 | D150: K | E150: 06 | F150: Protipožiarna ucpávka | G150: ks | H150: 1 | N150: znížená | O150: 0 | P150: =O150*H150 -> 0 | Q150: 0 | R150: =Q150*H150 -> 0 | S150: 0 | T150: =S150*H150 -> 0 | AR150: 4 | AT150: K | AU150: 2 | AY150: ROZPOCET | BE150: =IF(N150="základná",J150,0) -> 0 | BF150: =IF(N150="znížená",J150,0) -> 0 | BG150: =IF(N150="zákl. prenesená",J150,0) -> 0 | BH150: =IF(N150="zníž. prenesená",J150,0) -> 0 | BI150: =IF(N150="nulová",J150,0) -> 0 | BJ150: 2 | BK150: =ROUND(I150*H150,2) -> 0 | BL150: 4 | BM150: 42
C151: 22 | D151: K | E151: 07 | F151: Drobný inštalačný materiál (hmoždinky, skrutky a pod.) | G151: kpl | H151: 1 | N151: znížená | O151: 0 | P151: =O151*H151 -> 0 | Q151: 0 | R151: =Q151*H151 -> 0 | S151: 0 | T151: =S151*H151 -> 0 | AR151: 4 | AT151: K | AU151: 2 | AY151: ROZPOCET | BE151: =IF(N151="základná",J151,0) -> 0 | BF151: =IF(N151="znížená",J151,0) -> 0 | BG151: =IF(N151="zákl. prenesená",J151,0) -> 0 | BH151: =IF(N151="zníž. prenesená",J151,0) -> 0 | BI151: =IF(N151="nulová",J151,0) -> 0 | BJ151: 2 | BK151: =ROUND(I151*H151,2) -> 0 | BL151: 4 | BM151: 44
D152: D | E152: OST | F152: Ostatné | P152: =SUM(P153:P159) -> 0 | R152: =SUM(R153:R159) -> 0 | T152: =SUM(T153:T159) -> 0 | AR152: 4 | AT152: D | AU152: 1 | AY152: ROZPOCET | BK152: =SUM(BK153:BK159) -> 0
C153: 23 | D153: K | E153: A | F153: Oživenie, programovanie, test | G153: kpl | H153: 1 | N153: znížená | O153: 0 | P153: =O153*H153 -> 0 | Q153: 0 | R153: =Q153*H153 -> 0 | S153: 0 | T153: =S153*H153 -> 0 | AR153: 262144 | AT153: K | AU153: 2 | AY153: ROZPOCET | BE153: =IF(N153="základná",J153,0) -> 0 | BF153: =IF(N153="znížená",J153,0) -> 0 | BG153: =IF(N153="zákl. prenesená",J153,0) -> 0 | BH153: =IF(N153="zníž. prenesená",J153,0) -> 0 | BI153: =IF(N153="nulová",J153,0) -> 0 | BJ153: 2 | BK153: =ROUND(I153*H153,2) -> 0 | BL153: 262144 | BM153: 46
C154: 24 | D154: K | E154: B | F154: Inštalácia kabeláže | G154: kpl | H154: 1 | N154: znížená | O154: 0 | P154: =O154*H154 -> 0 | Q154: 0 | R154: =Q154*H154 -> 0 | S154: 0 | T154: =S154*H154 -> 0 | AR154: 262144 | AT154: K | AU154: 2 | AY154: ROZPOCET | BE154: =IF(N154="základná",J154,0) -> 0 | BF154: =IF(N154="znížená",J154,0) -> 0 | BG154: =IF(N154="zákl. prenesená",J154,0) -> 0 | BH154: =IF(N154="zníž. prenesená",J154,0) -> 0 | BI154: =IF(N154="nulová",J154,0) -> 0 | BJ154: 2 | BK154: =ROUND(I154*H154,2) -> 0 | BL154: 262144 | BM154: 48
C155: 25 | D155: K | E155: C | F155: Inštalácia zariadení | G155: kpl | H155: 1 | N155: znížená | O155: 0 | P155: =O155*H155 -> 0 | Q155: 0 | R155: =Q155*H155 -> 0 | S155: 0 | T155: =S155*H155 -> 0 | AR155: 262144 | AT155: K | AU155: 2 | AY155: ROZPOCET | BE155: =IF(N155="základná",J155,0) -> 0 | BF155: =IF(N155="znížená",J155,0) -> 0 | BG155: =IF(N155="zákl. prenesená",J155,0) -> 0 | BH155: =IF(N155="zníž. prenesená",J155,0) -> 0 | BI155: =IF(N155="nulová",J155,0) -> 0 | BJ155: 2 | BK155: =ROUND(I155*H155,2) -> 0 | BL155: 262144 | BM155: 50
C156: 26 | D156: K | E156: D | F156: Prvá odborná prehliadka a skúška ústrední, hlásičov | G156: jed | H156: 1 | N156: znížená | O156: 0 | P156: =O156*H156 -> 0 | Q156: 0 | R156: =Q156*H156 -> 0 | S156: 0 | T156: =S156*H156 -> 0 | AR156: 262144 | AT156: K | AU156: 2 | AY156: ROZPOCET | BE156: =IF(N156="základná",J156,0) -> 0 | BF156: =IF(N156="znížená",J156,0) -> 0 | BG156: =IF(N156="zákl. prenesená",J156,0) -> 0 | BH156: =IF(N156="zníž. prenesená",J156,0) -> 0 | BI156: =IF(N156="nulová",J156,0) -> 0 | BJ156: 2 | BK156: =ROUND(I156*H156,2) -> 0 | BL156: 262144 | BM156: 52
C157: 27 | D157: K | E157: E | F157: Projekt skutkového vyhotovenia | G157: jed. | H157: 1 | N157: znížená | O157: 0 | P157: =O157*H157 -> 0 | Q157: 0 | R157: =Q157*H157 -> 0 | S157: 0 | T157: =S157*H157 -> 0 | AR157: 262144 | AT157: K | AU157: 2 | AY157: ROZPOCET | BE157: =IF(N157="základná",J157,0) -> 0 | BF157: =IF(N157="znížená",J157,0) -> 0 | BG157: =IF(N157="zákl. prenesená",J157,0) -> 0 | BH157: =IF(N157="zníž. prenesená",J157,0) -> 0 | BI157: =IF(N157="nulová",J157,0) -> 0 | BJ157: 2 | BK157: =ROUND(I157*H157,2) -> 0 | BL157: 262144 | BM157: 54
C158: 28 | D158: K | E158: F | F158: Inžinierska činnosť a technický dozor | G158: kpl | H158: 1 | N158: znížená | O158: 0 | P158: =O158*H158 -> 0 | Q158: 0 | R158: =Q158*H158 -> 0 | S158: 0 | T158: =S158*H158 -> 0 | AR158: 262144 | AT158: K | AU158: 2 | AY158: ROZPOCET | BE158: =IF(N158="základná",J158,0) -> 0 | BF158: =IF(N158="znížená",J158,0) -> 0 | BG158: =IF(N158="zákl. prenesená",J158,0) -> 0 | BH158: =IF(N158="zníž. prenesená",J158,0) -> 0 | BI158: =IF(N158="nulová",J158,0) -> 0 | BJ158: 2 | BK158: =ROUND(I158*H158,2) -> 0 | BL158: 262144 | BM158: 56
C159: 29 | D159: K | E159: G | F159: Zaškolenie obsluhy j | G159: jed. | H159: 1 | N159: znížená | O159: 0 | P159: =O159*H159 -> 0 | Q159: 0 | R159: =Q159*H159 -> 0 | S159: 0 | T159: =S159*H159 -> 0 | AR159: 262144 | AT159: K | AU159: 2 | AY159: ROZPOCET | BE159: =IF(N159="základná",J159,0) -> 0 | BF159: =IF(N159="znížená",J159,0) -> 0 | BG159: =IF(N159="zákl. prenesená",J159,0) -> 0 | BH159: =IF(N159="zníž. prenesená",J159,0) -> 0 | BI159: =IF(N159="nulová",J159,0) -> 0 | BJ159: 2 | BK159: =ROUND(I159*H159,2) -> 0 | BL159: 262144 | BM159: 58

Sheet ZOT - ZOTa SH
L2: >> skryté stĺpce << | AT2: {c1c7a227-9371-43ec-9bed-baff6eca22df}
AT3: 0
D4: KRYCÍ LIST ROZPOČTU | M4: v --- nižšie sa nachádzajú doplnkové a pomocné údaje k zostavám --- v | AT4: False
D6: Stavba:
E7: ='Rekapitulácia stavby'!K6 -> Športová hala OLYMPIA v Nitre
D8: Objekt:
E9: SO01 - Športová hala, Nitra
D10: Časť:
E11: ZOT - ZOTa SH
D13: JKSO: | I13: ČS:
D14: Miesto: | F14: Nitra | I14: Dátum: | J14: ='Rekapitulácia stavby'!AN8 -> 8. 7. 2025
D16: Objednávateľ: | I16: IČO:
E17: Športová hala OLYMPIA s.r.o. | I17: IČ DPH:
D19: Zhotoviteľ: | I19: IČO:
I20: IČ DPH:
D22: Projektant: | I22: IČO:
E23: Ing. Stanislav Karas | I23: IČ DPH:
D25: Spracovateľ: | I25: IČO:
I26: IČ DPH:
D28: Poznámka:
D32: Cena bez DPH | J32: =ROUND(J121, 2) -> 0
F34: Základ dane | I34: Sadzba dane | J34: Výška dane
D35: DPH | E35: základná | F35: =ROUND((SUM(BE121:BE127)), 2) -> 0 | I35: 0.23 | J35: =ROUND(((SUM(BE121:BE127))*I35), 2) -> 0
E36: znížená | F36: =ROUND((SUM(BF121:BF127)), 2) -> 0 | I36: 0.23 | J36: =ROUND(((SUM(BF121:BF127))*I36), 2) -> 0
E37: zákl. prenesená | F37: =ROUND((SUM(BG121:BG127)), 2) -> 0 | I37: 0.23 | J37: =0 -> 0
E38: zníž. prenesená | F38: =ROUND((SUM(BH121:BH127)), 2) -> 0 | I38: 0.23 | J38: =0 -> 0
E39: nulová | F39: =ROUND((SUM(BI121:BI127)), 2) -> 0 | I39: 0 | J39: =0 -> 0
D41: Cena s DPH | G41: v | H41: EUR | J41: =SUM(J32:J39) -> 0
D50: Projektant | G50: Spracovateľ
D61: Dátum a podpis: | F61: Pečiatka | G61: Dátum a podpis: | J61: Pečiatka
D65: Objednávateľ | G65: Zhotoviteľ
D76: Dátum a podpis: | F76: Pečiatka | G76: Dátum a podpis: | J76: Pečiatka
C82: REKAPITULÁCIA ROZPOČTU
C84: Stavba:
E85: =E7 -> Športová hala OLYMPIA v Nitre
C86: Objekt:
E87: SO01 - Športová hala, Nitra
C88: Časť:
E89: =E11 -> ZOT - ZOTa SH
C91: Miesto: | F91: =F14 -> Nitra | I91: Dátum: | J91: =IF(J14="","",J14) -> 8. 7. 2025
C93: Objednávateľ: | F93: =E17 -> Športová hala OLYMPIA s.r.o. | I93: Projektant: | J93: =E23 -> Ing. Stanislav Karas
C94: Zhotoviteľ: | F94: =IF(E20="","",E20) | I94: Spracovateľ: | J94: =E26 -> 0
C96: Kód dielu - Popis | J96: Cena celkom [EUR]
C98: Náklady z rozpočtu | J98: =J121 -> 0 | AU98: -1
D99: ZOT - Zariadenie na odvod tepla a spodín | J99: =J122 -> 0
C106: ROZPOČET
C108: Stavba:
E109: =E7 -> Športová hala OLYMPIA v Nitre
C110: Objekt:
E111: SO01 - Športová hala, Nitra
C112: Časť:
E113: =E11 -> ZOT - ZOTa SH
C115: Miesto: | F115: =F14 -> Nitra | I115: Dátum: | J115: =IF(J14="","",J14) -> 8. 7. 2025
C117: Objednávateľ: | F117: =E17 -> Športová hala OLYMPIA s.r.o. | I117: Projektant: | J117: =E23 -> Ing. Stanislav Karas
C118: Zhotoviteľ: | F118: =IF(E20="","",E20) | I118: Spracovateľ: | J118: =E26 -> 0
C120: PČ | D120: Typ | E120: Kód | F120: Popis | G120: MJ | H120: Množstvo | I120: J.cena [EUR] | J120: Cena celkom [EUR] | K120: Cenová sústava | N120: DPH | O120: J. Nh [h] | P120: Nh celkom [h] | Q120: J. hmotnosť [t] | R120: Hmotnosť celkom [t] | S120: J. suť [t] | T120: Suť Celkom [t]
C121: Náklady z rozpočtu | J121: =BK121 -> 0 | P121: =P122 -> 0 | R121: =R122 -> 0 | T121: =T122 -> 0 | AT121: D | AU121: -1 | BK121: =BK122 -> 0
D122: D | E122: ZOT | F122: Zariadenie na odvod tepla a spodín | J122: =BK122 -> 0 | P122: =SUM(P123:P127) -> 0 | R122: =SUM(R123:R127) -> 0 | T122: =SUM(T123:T127) -> 0 | AR122: 3 | AT122: D | AU122: 0 | AY122: ROZPOCET | BK122: =SUM(BK123:BK127) -> 0
C123: 1 | D123: K | E123: Pol1 | F123: Dodávka a montáž 2 - krídlová klapka Firelock DUO FD / 1C / I2 / 1500 / 1800 / PO20 / P2 / TV93 / F5 / W0 / X - klapka pre odvod tepla a splodín horenia - otvor v streche 1500x1800mm - vrátanej kolmej pozinkovanej systémovej podsady o výške 500mm, osadeni | G123: ks | H123: 4 | N123: znížená | O123: 0 | P123: =O123*H123 -> 0 | Q123: 0 | R123: =Q123*H123 -> 0 | S123: 0 | T123: =S123*H123 -> 0 | AR123: 64 | AT123: K | AU123: 1 | AY123: ROZPOCET | BE123: =IF(N123="základná",J123,0) -> 0 | BF123: =IF(N123="znížená",J123,0) -> 0 | BG123: =IF(N123="zákl. prenesená",J123,0) -> 0 | BH123: =IF(N123="zníž. prenesená",J123,0) -> 0 | BI123: =IF(N123="nulová",J123,0) -> 0 | BJ123: 2 | BK123: =ROUND(I123*H123,2) -> 0 | BL123: 64 | BM123: 2
C124: 2 | D124: K | E124: Pol2 | F124: Dodávka a montáž 2 - krídlová klapka Firelock DUO FD / 1C / I2 / 1500 / 2600 / PO20 / P2 / TV93 / F5 / W0 / X - klapka pre odvod tepla a splodín horenia - otvor v streche 1500x1800mm - vrátanej kolmej pozinkovanej systémovej podsady o výške 500mm, osadeni | G124: ks | H124: 2 | N124: znížená | O124: 0 | P124: =O124*H124 -> 0 | Q124: 0 | R124: =Q124*H124 -> 0 | S124: 0 | T124: =S124*H124 -> 0 | AR124: 64 | AT124: K | AU124: 1 | AY124: ROZPOCET | BE124: =IF(N124="základná",J124,0) -> 0 | BF124: =IF(N124="znížená",J124,0) -> 0 | BG124: =IF(N124="zákl. prenesená",J124,0) -> 0 | BH124: =IF(N124="zníž. prenesená",J124,0) -> 0 | BI124: =IF(N124="nulová",J124,0) -> 0 | BJ124: 2 | BK124: =ROUND(I124*H124,2) -> 0 | BL124: 64 | BM124: 4
C125: 3 | D125: K | E125: Pol3 | F125: Ovládací panel - pre ovládanie zariadení ZOTaSH - ovládanie: Pneumatické - napojenie na EPS (dodávka stavby) | G125: ks | H125: 2 | N125: znížená | O125: 0 | P125: =O125*H125 -> 0 | Q125: 0 | R125: =Q125*H125 -> 0 | S125: 0 | T125: =S125*H125 -> 0 | AR125: 64 | AT125: K | AU125: 1 | AY125: ROZPOCET | BE125: =IF(N125="základná",J125,0) -> 0 | BF125: =IF(N125="znížená",J125,0) -> 0 | BG125: =IF(N125="zákl. prenesená",J125,0) -> 0 | BH125: =IF(N125="zníž. prenesená",J125,0) -> 0 | BI125: =IF(N125="nulová",J125,0) -> 0 | BJ125: 2 | BK125: =ROUND(I125*H125,2) -> 0 | BL125: 64 | BM125: 6
C126: 4 | D126: K | E126: Pol4 | F126: Dodávka a montáž medených rozvodov pre distribúciu stlačeného vzduchu do klapiek | G126: m | H126: 350 | N126: znížená | O126: 0 | P126: =O126*H126 -> 0 | Q126: 0 | R126: =Q126*H126 -> 0 | S126: 0 | T126: =S126*H126 -> 0 | AR126: 64 | AT126: K | AU126: 1 | AY126: ROZPOCET | BE126: =IF(N126="základná",J126,0) -> 0 | BF126: =IF(N126="znížená",J126,0) -> 0 | BG126: =IF(N126="zákl. prenesená",J126,0) -> 0 | BH126: =IF(N126="zníž. prenesená",J126,0) -> 0 | BI126: =IF(N126="nulová",J126,0) -> 0 | BJ126: 2 | BK126: =ROUND(I126*H126,2) -> 0 | BL126: 64 | BM126: 8
C127: 5 | D127: K | E127: Pol5 | F127: Doprava, montážnici, mechanizácia, uvedenie do prevádzky a kolaudačná dokumentácia | G127: ks | H127: 1 | N127: znížená | O127: 0 | P127: =O127*H127 -> 0 | Q127: 0 | R127: =Q127*H127 -> 0 | S127: 0 | T127: =S127*H127 -> 0 | AR127: 64 | AT127: K | AU127: 1 | AY127: ROZPOCET | BE127: =IF(N127="základná",J127,0) -> 0 | BF127: =IF(N127="znížená",J127,0) -> 0 | BG127: =IF(N127="zákl. prenesená",J127,0) -> 0 | BH127: =IF(N127="zníž. prenesená",J127,0) -> 0 | BI127: =IF(N127="nulová",J127,0) -> 0 | BJ127: 2 | BK127: =ROUND(I127*H127,2) -> 0 | BL127: 64 | BM127: 10

Sheet ZT - Zdravotechnika
L2: >> skryté stĺpce << | AT2: {59ad852f-ebe3-4382-81d4-e7090fa9e922}
AT3: 0
D4: KRYCÍ LIST ROZPOČTU | M4: v --- nižšie sa nachádzajú doplnkové a pomocné údaje k zostavám --- v | AT4: False
D6: Stavba:
E7: ='Rekapitulácia stavby'!K6 -> Športová hala OLYMPIA v Nitre
D8: Objekt:
E9: SO01 - Športová hala, Nitra
D10: Časť:
E11: ZT - Zdravotechnika
D13: JKSO: | I13: ČS:
D14: Miesto: | F14: Nitra | I14: Dátum: | J14: ='Rekapitulácia stavby'!AN8 -> 8. 7. 2025
D16: Objednávateľ: | I16: IČO:
E17: Športová hala OLYMPIA s.r.o. | I17: IČ DPH:
D19: Zhotoviteľ: | I19: IČO:
I20: IČ DPH:
D22: Projektant: | I22: IČO:
E23: Ing. Stanislav Karas | I23: IČ DPH:
D25: Spracovateľ: | I25: IČO:
I26: IČ DPH:
D28: Poznámka:
D32: Cena bez DPH | J32: =ROUND(J130, 2) -> 0
F34: Základ dane | I34: Sadzba dane | J34: Výška dane
D35: DPH | E35: základná | F35: =ROUND((SUM(BE130:BE318)), 2) -> 0 | I35: 0.23 | J35: =ROUND(((SUM(BE130:BE318))*I35), 2) -> 0
E36: znížená | F36: =ROUND((SUM(BF130:BF318)), 2) -> 0 | I36: 0.23 | J36: =ROUND(((SUM(BF130:BF318))*I36), 2) -> 0
E37: zákl. prenesená | F37: =ROUND((SUM(BG130:BG318)), 2) -> 0 | I37: 0.23 | J37: =0 -> 0
E38: zníž. prenesená | F38: =ROUND((SUM(BH130:BH318)), 2) -> 0 | I38: 0.23 | J38: =0 -> 0
E39: nulová | F39: =ROUND((SUM(BI130:BI318)), 2) -> 0 | I39: 0 | J39: =0 -> 0
D41: Cena s DPH | G41: v | H41: EUR | J41: =SUM(J32:J39) -> 0
D50: Projektant | G50: Spracovateľ
D61: Dátum a podpis: | F61: Pečiatka | G61: Dátum a podpis: | J61: Pečiatka
D65: Objednávateľ | G65: Zhotoviteľ
D76: Dátum a podpis: | F76: Pečiatka | G76: Dátum a podpis: | J76: Pečiatka
C82: REKAPITULÁCIA ROZPOČTU
C84: Stavba:
E85: =E7 -> Športová hala OLYMPIA v Nitre
C86: Objekt:
E87: SO01 - Športová hala, Nitra
C88: Časť:
E89: =E11 -> ZT - Zdravotechnika
C91: Miesto: | F91: =F14 -> Nitra | I91: Dátum: | J91: =IF(J14="","",J14) -> 8. 7. 2025
C93: Objednávateľ: | F93: =E17 -> Športová hala OLYMPIA s.r.o. | I93: Projektant: | J93: =E23 -> Ing. Stanislav Karas
C94: Zhotoviteľ: | F94: =IF(E20="","",E20) | I94: Spracovateľ: | J94: =E26 -> 0
C96: Kód dielu - Popis | J96: Cena celkom [EUR]
C98: Náklady z rozpočtu | J98: =J130 -> 0 | AU98: -1
D99: HSV - Práce a dodávky HSV | J99: =J131 -> 0
D100: 9 - Ostatné konštrukcie a práce-búranie | J100: =J132 -> 0
D101: PSV - Práce a dodávky PSV | J101: =J137 -> 0
D102: 713 - Izolácie tepelné | J102: =J138 -> 0
D103: 721 - Zdravotech. vnútorná kanalizácia | J103: =J155 -> 0
D104: 722 - Zdravotechnika - vnútorný vodovod | J104: =J178 -> 0
D105: 724 - Zdravotechnika - strojné vybavenie | J105: =J235 -> 0
D106: 725 - Zdravotechnika - zariaď. predmety | J106: =J243 -> 0
D107: 732 - Ústredné kúrenie, strojovne | J107: =J308 -> 0
D108: 767 - Konštrukcie doplnkové kovové | J108: =J314 -> 0
C115: ROZPOČET
C117: Stavba:
E118: =E7 -> Športová hala OLYMPIA v Nitre
C119: Objekt:
E120: SO01 - Športová hala, Nitra
C121: Časť:
E122: =E11 -> ZT - Zdravotechnika
C124: Miesto: | F124: =F14 -> Nitra | I124: Dátum: | J124: =IF(J14="","",J14) -> 8. 7. 2025
C126: Objednávateľ: | F126: =E17 -> Športová hala OLYMPIA s.r.o. | I126: Projektant: | J126: =E23 -> Ing. Stanislav Karas
C127: Zhotoviteľ: | F127: =IF(E20="","",E20) | I127: Spracovateľ: | J127: =E26 -> 0
C129: PČ | D129: Typ | E129: Kód | F129: Popis | G129: MJ | H129: Množstvo | I129: J.cena [EUR] | J129: Cena celkom [EUR] | K129: Cenová sústava | N129: DPH | O129: J. Nh [h] | P129: Nh celkom [h] | Q129: J. hmotnosť [t] | R129: Hmotnosť celkom [t] | S129: J. suť [t] | T129: Suť Celkom [t]
C130: Náklady z rozpočtu | J130: =BK130 -> 0 | P130: =P131+P137 -> 1093.0477 | R130: =R131+R137 -> 3.5734365 | T130: =T131+T137 -> 0 | AT130: D | AU130: -1 | BK130: =BK131+BK137 -> 0
D131: D | E131: HSV | F131: Práce a dodávky HSV | J131: =BK131 -> 0 | P131: =P132 -> 4.2498 | R131: =R132 -> 0.99424206 | T131: =T132 -> 0 | AR131: 1 | AT131: D | AU131: 0 | AY131: ROZPOCET | BK131: =BK132 -> 0
D132: D | E132: 9 | F132: Ostatné konštrukcie a práce-búranie | J132: =BK132 -> 0 | P132: =SUM(P133:P136) -> 4.2498 | R132: =SUM(R133:R136) -> 0.99424206 | T132: =SUM(T133:T136) -> 0 | AR132: 1 | AT132: D | AU132: 1 | AY132: ROZPOCET | BK132: =SUM(BK133:BK136) -> 0
C133: 1 | D133: K | E133: 935114493.S | F133: Osadenie vpustu pre odvodňovací betónový žľab univerzálny s ochrannou hranou svetlej šírky 200 mm | G133: ks | H133: 6 | N133: znížená | O133: 0.7083 | P133: =O133*H133 -> 4.2498 | Q133: 0.16570701 | R133: =Q133*H133 -> 0.99424206 | S133: 0 | T133: =S133*H133 -> 0 | AR133: 4 | AT133: K | AU133: 2 | AY133: ROZPOCET | BE133: =IF(N133="základná",J133,0) -> 0 | BF133: =IF(N133="znížená",J133,0) -> 0 | BG133: =IF(N133="zákl. prenesená",J133,0) -> 0 | BH133: =IF(N133="zníž. prenesená",J133,0) -> 0 | BI133: =IF(N133="nulová",J133,0) -> 0 | BJ133: 2 | BK133: =ROUND(I133*H133,2) -> 0 | BL133: 4 | BM133: 2
C134: 2 | D134: M | E134: 59212700 | F134: BGF-Z Plytký žľab SV G NW 200, s liatinovou hranou, výška 100, bez spádu ks 6,000 74,64 | G134: ks | H134: 6 | N134: znížená | O134: 0 | P134: =O134*H134 -> 0 | Q134: 0 | R134: =Q134*H134 -> 0 | S134: 0 | T134: =S134*H134 -> 0 | AR134: 8 | AT134: M | AU134: 2 | AY134: ROZPOCET | BE134: =IF(N134="základná",J134,0) -> 0 | BF134: =IF(N134="znížená",J134,0) -> 0 | BG134: =IF(N134="zákl. prenesená",J134,0) -> 0 | BH134: =IF(N134="zníž. prenesená",J134,0) -> 0 | BI134: =IF(N134="nulová",J134,0) -> 0 | BJ134: 2 | BK134: =ROUND(I134*H134,2) -> 0 | BL134: 4 | BM134: 4
C135: 3 | D135: M | E135: 59222242 | F135: Čelná, koncová stena NW 200, výška 10 cm, pozinkovaná (BGF-Z SV) | G135: ks | H135: 2 | N135: znížená | O135: 0 | P135: =O135*H135 -> 0 | Q135: 0 | R135: =Q135*H135 -> 0 | S135: 0 | T135: =S135*H135 -> 0 | AR135: 8 | AT135: M | AU135: 2 | AY135: ROZPOCET | BE135: =IF(N135="základná",J135,0) -> 0 | BF135: =IF(N135="znížená",J135,0) -> 0 | BG135: =IF(N135="zákl. prenesená",J135,0) -> 0 | BH135: =IF(N135="zníž. prenesená",J135,0) -> 0 | BI135: =IF(N135="nulová",J135,0) -> 0 | BJ135: 2 | BK135: =ROUND(I135*H135,2) -> 0 | BL135: 4 | BM135: 6
C136: 4 | D136: M | E136: 59222174 | F136: BG-SV Mriežkový rošt NW 200, 1000/247/25, MW 30/10, tr. C 250 kN, pozinkovaný s rýchlouzáverom | G136: ks | H136: 6 | N136: znížená | O136: 0 | P136: =O136*H136 -> 0 | Q136: 0 | R136: =Q136*H136 -> 0 | S136: 0 | T136: =S136*H136 -> 0 | AR136: 8 | AT136: M | AU136: 2 | AY136: ROZPOCET | BE136: =IF(N136="základná",J136,0) -> 0 | BF136: =IF(N136="znížená",J136,0) -> 0 | BG136: =IF(N136="zákl. prenesená",J136,0) -> 0 | BH136: =IF(N136="zníž. prenesená",J136,0) -> 0 | BI136: =IF(N136="nulová",J136,0) -> 0 | BJ136: 2 | BK136: =ROUND(I136*H136,2) -> 0 | BL136: 4 | BM136: 8
D137: D | E137: PSV | F137: Práce a dodávky PSV | P137: =P138+P155+P178+P235+P243+P308+P314 -> 1088.7979 | R137: =R138+R155+R178+R235+R243+R308+R314 -> 2.5791945 | T137: =T138+T155+T178+T235+T243+T308+T314 -> 0 | AR137: 2 | AT137: D | AU137: 0 | AY137: ROZPOCET | BK137: =BK138+BK155+BK178+BK235+BK243+BK308+BK314 -> 0
D138: D | E138: 713 | F138: Izolácie tepelné | P138: =SUM(P139:P154) -> 119.21766 | R138: =SUM(R139:R154) -> 0.0707426 | T138: =SUM(T139:T154) -> 0 | AR138: 2 | AT138: D | AU138: 1 | AY138: ROZPOCET | BK138: =SUM(BK139:BK154) -> 0
C139: 5 | D139: K | E139: 713482111.S | F139: Montáž trubíc z PE, hr.do 10 mm,vnút.priemer do 38 mm | G139: m | H139: 291 | N139: znížená | O139: 0.13102 | P139: =O139*H139 -> 38.12682 | Q139: 9e-06 | R139: =Q139*H139 -> 0.002619 | S139: 0 | T139: =S139*H139 -> 0 | AR139: 16 | AT139: K | AU139: 2 | AY139: ROZPOCET | BE139: =IF(N139="základná",J139,0) -> 0 | BF139: =IF(N139="znížená",J139,0) -> 0 | BG139: =IF(N139="zákl. prenesená",J139,0) -> 0 | BH139: =IF(N139="zníž. prenesená",J139,0) -> 0 | BI139: =IF(N139="nulová",J139,0) -> 0 | BJ139: 2 | BK139: =ROUND(I139*H139,2) -> 0 | BL139: 16 | BM139: 10
C140: 6 | D140: M | E140: 283310001300 | F140: Izolačná PE trubica TUBOLIT DG 22x9 mm (d potrubia x hr. izolácie), nadrezaná, AZ FLEX | G140: m | H140: 296.82 | N140: znížená | O140: 0 | P140: =O140*H140 -> 0 | Q140: 1e-05 | R140: =Q140*H140 -> 0.0029682 | S140: 0 | T140: =S140*H140 -> 0 | AR140: 32 | AT140: M | AU140: 2 | AY140: ROZPOCET | BE140: =IF(N140="základná",J140,0) -> 0 | BF140: =IF(N140="znížená",J140,0) -> 0 | BG140: =IF(N140="zákl. prenesená",J140,0) -> 0 | BH140: =IF(N140="zníž. prenesená",J140,0) -> 0 | BI140: =IF(N140="nulová",J140,0) -> 0 | BJ140: 2 | BK140: =ROUND(I140*H140,2) -> 0 | BL140: 16 | BM140: 12
C141: 7 | D141: K | E141: 713482121.S | F141: Montáž trubíc z PE, hr.15-20 mm,vnút.priemer do 38 mm | G141: m | H141: 489 | N141: znížená | O141: 0.13402 | P141: =O141*H141 -> 65.53578 | Q141: 2e-05 | R141: =Q141*H141 -> 0.00978 | S141: 0 | T141: =S141*H141 -> 0 | AR141: 16 | AT141: K | AU141: 2 | AY141: ROZPOCET | BE141: =IF(N141="základná",J141,0) -> 0 | BF141: =IF(N141="znížená",J141,0) -> 0 | BG141: =IF(N141="zákl. prenesená",J141,0) -> 0 | BH141: =IF(N141="zníž. prenesená",J141,0) -> 0 | BI141: =IF(N141="nulová",J141,0) -> 0 | BJ141: 2 | BK141: =ROUND(I141*H141,2) -> 0 | BL141: 16 | BM141: 14
C142: 8 | D142: M | E142: 283310003100 | F142: Izolačná PE trubica TUBOLIT DG 28x13 mm (d potrubia x hr. izolácie), nadrezaná, AZ FLEX | G142: m | H142: 86.7 | N142: znížená | O142: 0 | P142: =O142*H142 -> 0 | Q142: 0.00015 | R142: =Q142*H142 -> 0.013005 | S142: 0 | T142: =S142*H142 -> 0 | AR142: 32 | AT142: M | AU142: 2 | AY142: ROZPOCET | BE142: =IF(N142="základná",J142,0) -> 0 | BF142: =IF(N142="znížená",J142,0) -> 0 | BG142: =IF(N142="zákl. prenesená",J142,0) -> 0 | BH142: =IF(N142="zníž. prenesená",J142,0) -> 0 | BI142: =IF(N142="nulová",J142,0) -> 0 | BJ142: 2 | BK142: =ROUND(I142*H142,2) -> 0 | BL142: 16 | BM142: 16
C143: 9 | D143: M | E143: 283310003300 | F143: Izolačná PE trubica TUBOLIT DG 35x13 mm (d potrubia x hr. izolácie), nadrezaná, AZ FLEX | G143: m | H143: 20.4 | N143: znížená | O143: 0 | P143: =O143*H143 -> 0 | Q143: 2e-05 | R143: =Q143*H143 -> 0.000408 | S143: 0 | T143: =S143*H143 -> 0 | AR143: 32 | AT143: M | AU143: 2 | AY143: ROZPOCET | BE143: =IF(N143="základná",J143,0) -> 0 | BF143: =IF(N143="znížená",J143,0) -> 0 | BG143: =IF(N143="zákl. prenesená",J143,0) -> 0 | BH143: =IF(N143="zníž. prenesená",J143,0) -> 0 | BI143: =IF(N143="nulová",J143,0) -> 0 | BJ143: 2 | BK143: =ROUND(I143*H143,2) -> 0 | BL143: 16 | BM143: 18
C144: 10 | D144: M | E144: 283310003500 | F144: Izolačná PE trubica TUBOLIT DG 42x13 mm (d potrubia x hr. izolácie), nadrezaná, AZ FLEX | G144: m | H144: 7.14 | N144: znížená | O144: 0 | P144: =O144*H144 -> 0 | Q144: 4e-05 | R144: =Q144*H144 -> 0.0002856 | S144: 0 | T144: =S144*H144 -> 0 | AR144: 32 | AT144: M | AU144: 2 | AY144: ROZPOCET | BE144: =IF(N144="základná",J144,0) -> 0 | BF144: =IF(N144="znížená",J144,0) -> 0 | BG144: =IF(N144="zákl. prenesená",J144,0) -> 0 | BH144: =IF(N144="zníž. prenesená",J144,0) -> 0 | BI144: =IF(N144="nulová",J144,0) -> 0 | BJ144: 2 | BK144: =ROUND(I144*H144,2) -> 0 | BL144: 16 | BM144: 20
C145: 11 | D145: M | E145: 283310004700 | F145: Izolačná PE trubica TUBOLIT DG 22x20 mm (d potrubia x hr. izolácie), nadrezaná, AZ FLEX | G145: m | H145: 86.7 | N145: znížená | O145: 0 | P145: =O145*H145 -> 0 | Q145: 1e-05 | R145: =Q145*H145 -> 0.000867 | S145: 0 | T145: =S145*H145 -> 0 | AR145: 32 | AT145: M | AU145: 2 | AY145: ROZPOCET | BE145: =IF(N145="základná",J145,0) -> 0 | BF145: =IF(N145="znížená",J145,0) -> 0 | BG145: =IF(N145="zákl. prenesená",J145,0) -> 0 | BH145: =IF(N145="zníž. prenesená",J145,0) -> 0 | BI145: =IF(N145="nulová",J145,0) -> 0 | BJ145: 2 | BK145: =ROUND(I145*H145,2) -> 0 | BL145: 16 | BM145: 22
C146: 12 | D146: M | E146: 283310005000 | F146: Izolačná PE trubica TUBOLIT DG 42x20 mm (d potrubia x hr. izolácie), nadrezaná, AZ FLEX | G146: m | H146: 20.4 | N146: znížená | O146: 0 | P146: =O146*H146 -> 0 | Q146: 9e-05 | R146: =Q146*H146 -> 0.001836 | S146: 0 | T146: =S146*H146 -> 0 | AR146: 32 | AT146: M | AU146: 2 | AY146: ROZPOCET | BE146: =IF(N146="základná",J146,0) -> 0 | BF146: =IF(N146="znížená",J146,0) -> 0 | BG146: =IF(N146="zákl. prenesená",J146,0) -> 0 | BH146: =IF(N146="zníž. prenesená",J146,0) -> 0 | BI146: =IF(N146="nulová",J146,0) -> 0 | BJ146: 2 | BK146: =ROUND(I146*H146,2) -> 0 | BL146: 16 | BM146: 24
C147: 13 | D147: M | E147: 283310006400 | F147: Izolačná PE trubica TUBOLIT DG 35x30 mm (d potrubia x hr. izolácie), rozrezaná, AZ FLEX | G147: m | H147: 223.38 | N147: znížená | O147: 0 | P147: =O147*H147 -> 0 | Q147: 4e-05 | R147: =Q147*H147 -> 0.0089352 | S147: 0 | T147: =S147*H147 -> 0 | AR147: 32 | AT147: M | AU147: 2 | AY147: ROZPOCET | BE147: =IF(N147="základná",J147,0) -> 0 | BF147: =IF(N147="znížená",J147,0) -> 0 | BG147: =IF(N147="zákl. prenesená",J147,0) -> 0 | BH147: =IF(N147="zníž. prenesená",J147,0) -> 0 | BI147: =IF(N147="nulová",J147,0) -> 0 | BJ147: 2 | BK147: =ROUND(I147*H147,2) -> 0 | BL147: 16 | BM147: 26
C148: 14 | D148: M | E148: 283310006500 | F148: Izolačná PE trubica TUBOLIT DG 42x30 mm (d potrubia x hr. izolácie), rozrezaná, AZ FLEX | G148: m | H148: 47.94 | N148: znížená | O148: 0 | P148: =O148*H148 -> 0 | Q148: 0.00018 | R148: =Q148*H148 -> 0.0086292 | S148: 0 | T148: =S148*H148 -> 0 | AR148: 32 | AT148: M | AU148: 2 | AY148: ROZPOCET | BE148: =IF(N148="základná",J148,0) -> 0 | BF148: =IF(N148="znížená",J148,0) -> 0 | BG148: =IF(N148="zákl. prenesená",J148,0) -> 0 | BH148: =IF(N148="zníž. prenesená",J148,0) -> 0 | BI148: =IF(N148="nulová",J148,0) -> 0 | BJ148: 2 | BK148: =ROUND(I148*H148,2) -> 0 | BL148: 16 | BM148: 28
C149: 15 | D149: K | E149: 713482122.S | F149: Montáž trubíc z PE, hr.15-20 mm,vnút.priemer 39-70 mm | G149: m | H149: 103 | N149: znížená | O149: 0.15102 | P149: =O149*H149 -> 15.55506 | Q149: 2e-05 | R149: =Q149*H149 -> 0.00206 | S149: 0 | T149: =S149*H149 -> 0 | AR149: 16 | AT149: K | AU149: 2 | AY149: ROZPOCET | BE149: =IF(N149="základná",J149,0) -> 0 | BF149: =IF(N149="znížená",J149,0) -> 0 | BG149: =IF(N149="zákl. prenesená",J149,0) -> 0 | BH149: =IF(N149="zníž. prenesená",J149,0) -> 0 | BI149: =IF(N149="nulová",J149,0) -> 0 | BJ149: 2 | BK149: =ROUND(I149*H149,2) -> 0 | BL149: 16 | BM149: 30
C150: 16 | D150: M | E150: 283310005800 | F150: Izolačná PE trubica TUBOLIT DG 48x25 mm (d potrubia x hr. izolácie), rozrezaná, AZ FLEX | G150: m | H150: 62.22 | N150: znížená | O150: 0 | P150: =O150*H150 -> 0 | Q150: 0.00017 | R150: =Q150*H150 -> 0.0105774 | S150: 0 | T150: =S150*H150 -> 0 | AR150: 32 | AT150: M | AU150: 2 | AY150: ROZPOCET | BE150: =IF(N150="základná",J150,0) -> 0 | BF150: =IF(N150="znížená",J150,0) -> 0 | BG150: =IF(N150="zákl. prenesená",J150,0) -> 0 | BH150: =IF(N150="zníž. prenesená",J150,0) -> 0 | BI150: =IF(N150="nulová",J150,0) -> 0 | BJ150: 2 | BK150: =ROUND(I150*H150,2) -> 0 | BL150: 16 | BM150: 32
... C154: 20 | D154: K | E154: 998713293.S | F154: Izolácie tepelné, prípl.za presun nad vymedz. najväčšiu dopravnú vzdial. do 500 m | G154: % | H154: 75.928 | N154: znížená | O154: 0 | P154: =O154*H154 -> 0 | Q154: 0 | R154: =Q154*H154 -> 0 | S154: 0 | T154: =S154*H154 -> 0 | AR154: 16 | AT154: K | AU154: 2 | AY154: ROZPOCET | BE154: =IF(N154="základná",J154,0) -> 0 | BF154: =IF(N154="znížená",J154,0) -> 0 | BG154: =IF(N154="zákl. prenesená",J154,0) -> 0 | BH154: =IF(N154="zníž. prenesená",J154,0) -> 0 | BI154: =IF(N154="nulová",J154,0) -> 0 | BJ154: 2 | BK154: =ROUND(I154*H154,2) -> 0 | BL154: 16 | BM154: 40
D155: D | E155: 721 | F155: Zdravotech. vnútorná kanalizácia | P155: =SUM(P156:P177) -> 153.26683 | R155: =SUM(R156:R177) -> 0.33460857 | T155: =SUM(T156:T177) -> 0 | AR155: 2 | AT155: D | AU155: 1 | AY155: ROZPOCET | BK155: =SUM(BK156:BK177) -> 0
C156: 21 | D156: K | E156: 721171110.S | F156: Potrubie z PVC - U odpadové ležaté hrdlové D 125 mm | G156: m | H156: 36 | N156: znížená | O156: 0.64229 | P156: =O156*H156 -> 23.12244 | Q156: 0.00191492 | R156: =Q156*H156 -> 0.06893712 | S156: 0 | T156: =S156*H156 -> 0 | AR156: 16 | AT156: K | AU156: 2 | AY156: ROZPOCET | BE156: =IF(N156="základná",J156,0) -> 0 | BF156: =IF(N156="znížená",J156,0) -> 0 | BG156: =IF(N156="zákl. prenesená",J156,0) -> 0 | BH156: =IF(N156="zníž. prenesená",J156,0) -> 0 | BI156: =IF(N156="nulová",J156,0) -> 0 | BJ156: 2 | BK156: =ROUND(I156*H156,2) -> 0 | BL156: 16 | BM156: 42
C157: 22 | D157: K | E157: 721172357.S | F157: Montáž čistiaceho kusu HT potrubia DN 100 | G157: ks | H157: 3 | N157: znížená | O157: 0.29028 | P157: =O157*H157 -> 0.87084 | Q157: 0.000204 | R157: =Q157*H157 -> 0.000612 | S157: 0 | T157: =S157*H157 -> 0 | AR157: 16 | AT157: K | AU157: 2 | AY157: ROZPOCET | BE157: =IF(N157="základná",J157,0) -> 0 | BF157: =IF(N157="znížená",J157,0) -> 0 | BG157: =IF(N157="zákl. prenesená",J157,0) -> 0 | BH157: =IF(N157="zníž. prenesená",J157,0) -> 0 | BI157: =IF(N157="nulová",J157,0) -> 0 | BJ157: 2 | BK157: =ROUND(I157*H157,2) -> 0 | BL157: 16 | BM157: 44
C158: 23 | D158: M | E158: 286540019100.S | F158: Čistiaci kus HT DN 100, PP systém pre beztlakový rozvod vnútorného odpadu | G158: ks | H158: 3 | N158: znížená | O158: 0 | P158: =O158*H158 -> 0 | Q158: 0.00035 | R158: =Q158*H158 -> 0.00105 | S158: 0 | T158: =S158*H158 -> 0 | AR158: 32 | AT158: M | AU158: 2 | AY158: ROZPOCET | BE158: =IF(N158="základná",J158,0) -> 0 | BF158: =IF(N158="znížená",J158,0) -> 0 | BG158: =IF(N158="zákl. prenesená",J158,0) -> 0 | BH158: =IF(N158="zníž. prenesená",J158,0) -> 0 | BI158: =IF(N158="nulová",J158,0) -> 0 | BJ158: 2 | BK158: =ROUND(I158*H158,2) -> 0 | BL158: 16 | BM158: 46
C159: 24 | D159: K | E159: 721173205.S | F159: Potrubie z PVC - U odpadné pripájacie D 50 mm | G159: m | H159: 82 | N159: znížená | O159: 0.34243 | P159: =O159*H159 -> 28.07926 | Q159: 0.0006392876 | R159: =Q159*H159 -> 0.052421583 | S159: 0 | T159: =S159*H159 -> 0 | AR159: 16 | AT159: K | AU159: 2 | AY159: ROZPOCET | BE159: =IF(N159="základná",J159,0) -> 0 | BF159: =IF(N159="znížená",J159,0) -> 0 | BG159: =IF(N159="zákl. prenesená",J159,0) -> 0 | BH159: =IF(N159="zníž. prenesená",J159,0) -> 0 | BI159: =IF(N159="nulová",J159,0) -> 0 | BJ159: 2 | BK159: =ROUND(I159*H159,2) -> 0 | BL159: 16 | BM159: 48
C160: 25 | D160: K | E160: 721173208.S | F160: Potrubie z PVC - U odpadné pripájacie D 110 mm | G160: m | H160: 110 | N160: znížená | O160: 0.58843 | P160: =O160*H160 -> 64.7273 | Q160: 0.0015700306 | R160: =Q160*H160 -> 0.17270337 | S160: 0 | T160: =S160*H160 -> 0 | AR160: 16 | AT160: K | AU160: 2 | AY160: ROZPOCET | BE160: =IF(N160="základná",J160,0) -> 0 | BF160: =IF(N160="znížená",J160,0) -> 0 | BG160: =IF(N160="zákl. prenesená",J160,0) -> 0 | BH160: =IF(N160="zníž. prenesená",J160,0) -> 0 | BI160: =IF(N160="nulová",J160,0) -> 0 | BJ160: 2 | BK160: =ROUND(I160*H160,2) -> 0 | BL160: 16 | BM160: 50
C161: 26 | D161: K | E161: 721175015.S | F161: Montáž zápachového uzáveru (sifónu) pre klimatizačné zariadenia | G161: ks | H161: 11 | N161: znížená | O161: 0.46015 | P161: =O161*H161 -> 5.06165 | Q161: 0 | R161: =Q161*H161 -> 0 | S161: 0 | T161: =S161*H161 -> 0 | AR161: 16 | AT161: K | AU161: 2 | AY161: ROZPOCET | BE161: =IF(N161="základná",J161,0) -> 0 | BF161: =IF(N161="znížená",J161,0) -> 0 | BG161: =IF(N161="zákl. prenesená",J161,0) -> 0 | BH161: =IF(N161="zníž. prenesená",J161,0) -> 0 | BI161: =IF(N161="nulová",J161,0) -> 0 | BJ161: 2 | BK161: =ROUND(I161*H161,2) -> 0 | BL161: 16 | BM161: 52
C162: 27 | D162: M | E162: 551620015600 | F162: Zápachová uzávierka podomietková UP HL138, DN32, krytka 100x100 mm, prídavná zápachová uzávierka, vetranie a klimatizácia, PP/ABS | G162: ks | H162: 4 | N162: znížená | O162: 0 | P162: =O162*H162 -> 0 | Q162: 0.00028 | R162: =Q162*H162 -> 0.00112 | S162: 0 | T162: =S162*H162 -> 0 | AR162: 32 | AT162: M | AU162: 2 | AY162: ROZPOCET | BE162: =IF(N162="základná",J162,0) -> 0 | BF162: =IF(N162="znížená",J162,0) -> 0 | BG162: =IF(N162="zákl. prenesená",J162,0) -> 0 | BH162: =IF(N162="zníž. prenesená",J162,0) -> 0 | BI162: =IF(N162="nulová",J162,0) -> 0 | BJ162: 2 | BK162: =ROUND(I162*H162,2) -> 0 | BL162: 16 | BM162: 54
C163: 28 | D163: M | E163: 551620015200 | F163: Zápachová uzávierka HL136N, DN 40, kondezačný sifón 60 mm, horizontálne pripojenie 5/4", prídavná protizápachová uzávierka, pre vetranie a klimatizáciu, PP | G163: ks | H163: 2 | N163: znížená | O163: 0 | P163: =O163*H163 -> 0 | Q163: 0.00023 | R163: =Q163*H163 -> 0.00046 | S163: 0 | T163: =S163*H163 -> 0 | AR163: 32 | AT163: M | AU163: 2 | AY163: ROZPOCET | BE163: =IF(N163="základná",J163,0) -> 0 | BF163: =IF(N163="znížená",J163,0) -> 0 | BG163: =IF(N163="zákl. prenesená",J163,0) -> 0 | BH163: =IF(N163="zníž. prenesená",J163,0) -> 0 | BI163: =IF(N163="nulová",J163,0) -> 0 | BJ163: 2 | BK163: =ROUND(I163*H163,2) -> 0 | BL163: 16 | BM163: 56
C164: 29 | D164: M | E164: 551620027100 | F164: Vtokový lievik HL21, DN 32, (0,17 l/s), s protizápachovým uzáverom, vetranie a klimatizácia, PP | G164: ks | H164: 5 | N164: znížená | O164: 0 | P164: =O164*H164 -> 0 | Q164: 0.0009 | R164: =Q164*H164 -> 0.0045 | S164: 0 | T164: =S164*H164 -> 0 | AR164: 32 | AT164: M | AU164: 2 | AY164: ROZPOCET | BE164: =IF(N164="základná",J164,0) -> 0 | BF164: =IF(N164="znížená",J164,0) -> 0 | BG164: =IF(N164="zákl. prenesená",J164,0) -> 0 | BH164: =IF(N164="zníž. prenesená",J164,0) -> 0 | BI164: =IF(N164="nulová",J164,0) -> 0 | BJ164: 2 | BK164: =ROUND(I164*H164,2) -> 0 | BL164: 16 | BM164: 58
C165: 30 | D165: K | E165: 721194103.S | F165: Zriadenie prípojky na potrubí vyvedenie a upevnenie odpadových výpustiek D 32 mm | G165: ks | H165: 11 | N165: znížená | O165: 0.14 | P165: =O165*H165 -> 1.54 | Q165: 0 | R165: =Q165*H165 -> 0 | S165: 0 | T165: =S165*H165 -> 0 | AR165: 16 | AT165: K | AU165: 2 | AY165: ROZPOCET | BE165: =IF(N165="základná",J165,0) -> 0 | BF165: =IF(N165="znížená",J165,0) -> 0 | BG165: =IF(N165="zákl. prenesená",J165,0) -> 0 | BH165: =IF(N165="zníž. prenesená",J165,0) -> 0 | BI165: =IF(N165="nulová",J165,0) -> 0 | BJ165: 2 | BK165: =ROUND(I165*H165,2) -> 0 | BL165: 16 | BM165: 60
C166: 31 | D166: K | E166: 721194104.S | F166: Zriadenie prípojky na potrubí vyvedenie a upevnenie odpadových výpustiek D 40 mm | G166: ks | H166: 40 | N166: znížená | O166: 0.149 | P166: =O166*H166 -> 5.96 | Q166: 0 | R166: =Q166*H166 -> 0 | S166: 0 | T166: =S166*H166 -> 0 | AR166: 16 | AT166: K | AU166: 2 | AY166: ROZPOCET | BE166: =IF(N166="základná",J166,0) -> 0 | BF166: =IF(N166="znížená",J166,0) -> 0 | BG166: =IF(N166="zákl. prenesená",J166,0) -> 0 | BH166: =IF(N166="zníž. prenesená",J166,0) -> 0 | BI166: =IF(N166="nulová",J166,0) -> 0 | BJ166: 2 | BK166: =ROUND(I166*H166,2) -> 0 | BL166: 16 | BM166: 62
C167: 32 | D167: K | E167: 721194105.S | F167: Zriadenie prípojky na potrubí vyvedenie a upevnenie odpadových výpustiek D 50 mm | G167: ks | H167: 28 | N167: znížená | O167: 0.165 | P167: =O167*H167 -> 4.62 | Q167: 0 | R167: =Q167*H167 -> 0 | S167: 0 | T167: =S167*H167 -> 0 | AR167: 16 | AT167: K | AU167: 2 | AY167: ROZPOCET | BE167: =IF(N167="základná",J167,0) -> 0 | BF167: =IF(N167="znížená",J167,0) -> 0 | BG167: =IF(N167="zákl. prenesená",J167,0) -> 0 | BH167: =IF(N167="zníž. prenesená",J167,0) -> 0 | BI167: =IF(N167="nulová",J167,0) -> 0 | BJ167: 2 | BK167: =ROUND(I167*H167,2) -> 0 | BL167: 16 | BM167: 64
...

Sheet Plyn - Plynoinštalácia
L2: >> skryté stĺpce << | AT2: {73d7cc10-db4b-4785-8fe1-9007809fd360}
AT3: 0
D4: KRYCÍ LIST ROZPOČTU | M4: v --- nižšie sa nachádzajú doplnkové a pomocné údaje k zostavám --- v | AT4: False
D6: Stavba:
E7: ='Rekapitulácia stavby'!K6 -> Športová hala OLYMPIA v Nitre
D8: Objekt:
E9: SO01 - Športová hala, Nitra
D10: Časť:
E11: Plyn - Plynoinštalácia
D13: JKSO: | I13: ČS:
D14: Miesto: | F14: Nitra | I14: Dátum: | J14: ='Rekapitulácia stavby'!AN8 -> 8. 7. 2025
D16: Objednávateľ: | I16: IČO:
E17: Športová hala OLYMPIA s.r.o. | I17: IČ DPH:
D19: Zhotoviteľ: | I19: IČO:
I20: IČ DPH:
D22: Projektant: | I22: IČO:
E23: Ing. Stanislav Karas | I23: IČ DPH:
D25: Spracovateľ: | I25: IČO:
I26: IČ DPH:
D28: Poznámka:
D32: Cena bez DPH | J32: =ROUND(J130, 2) -> 0
F34: Základ dane | I34: Sadzba dane | J34: Výška dane
D35: DPH | E35: základná | F35: =ROUND((SUM(BE130:BE181)), 2) -> 0 | I35: 0.23 | J35: =ROUND(((SUM(BE130:BE181))*I35), 2) -> 0
E36: znížená | F36: =ROUND((SUM(BF130:BF181)), 2) -> 0 | I36: 0.23 | J36: =ROUND(((SUM(BF130:BF181))*I36), 2) -> 0
E37: zákl. prenesená | F37: =ROUND((SUM(BG130:BG181)), 2) -> 0 | I37: 0.23 | J37: =0 -> 0
E38: zníž. prenesená | F38: =ROUND((SUM(BH130:BH181)), 2) -> 0 | I38: 0.23 | J38: =0 -> 0
E39: nulová | F39: =ROUND((SUM(BI130:BI181)), 2) -> 0 | I39: 0 | J39: =0 -> 0
D41: Cena s DPH | G41: v | H41: EUR | J41: =SUM(J32:J39) -> 0
D50: Projektant | G50: Spracovateľ
D61: Dátum a podpis: | F61: Pečiatka | G61: Dátum a podpis: | J61: Pečiatka
D65: Objednávateľ | G65: Zhotoviteľ
D76: Dátum a podpis: | F76: Pečiatka | G76: Dátum a podpis: | J76: Pečiatka
C82: REKAPITULÁCIA ROZPOČTU
C84: Stavba:
E85: =E7 -> Športová hala OLYMPIA v Nitre
C86: Objekt:
E87: SO01 - Športová hala, Nitra
C88: Časť:
E89: =E11 -> Plyn - Plynoinštalácia
C91: Miesto: | F91: =F14 -> Nitra | I91: Dátum: | J91: =IF(J14="","",J14) -> 8. 7. 2025
C93: Objednávateľ: | F93: =E17 -> Športová hala OLYMPIA s.r.o. | I93: Projektant: | J93: =E23 -> Ing. Stanislav Karas
C94: Zhotoviteľ: | F94: =IF(E20="","",E20) | I94: Spracovateľ: | J94: =E26 -> 0
C96: Kód dielu - Popis | J96: Cena celkom [EUR]
C98: Náklady z rozpočtu | J98: =J130 -> 0 | AU98: -1
D99: HSV - Práce a dodávky HSV | J99: =J131 -> 0
D100: 9 - Ostatné konštrukcie a práce-búranie | J100: =J132 -> 0
D101: PSV - Práce a dodávky PSV | J101: =J134 -> 0
D102: 723 - Zdravotechnika - plynovod | J102: =J135 -> 0
D103: 734 - Ústredné kúrenie, armatúry. | J103: =J159 -> 0
D104: 767 - Konštrukcie doplnkové kovové | J104: =J166 -> 0
D105: 783 - Dokončovacie práce - nátery | J105: =J171 -> 0
D106: M - Práce a dodávky M | J106: =J173 -> 0
D107: 23-M - Montáže potrubia | J107: =J174 -> 0
D108: OST - Hodinové zúčtovacie sadzby | J108: =J179 -> 0
C115: ROZPOČET
C117: Stavba:
E118: =E7 -> Športová hala OLYMPIA v Nitre
C119: Objekt:
E120: SO01 - Športová hala, Nitra
C121: Časť:
E122: =E11 -> Plyn - Plynoinštalácia
C124: Miesto: | F124: =F14 -> Nitra | I124: Dátum: | J124: =IF(J14="","",J14) -> 8. 7. 2025
C126: Objednávateľ: | F126: =E17 -> Športová hala OLYMPIA s.r.o. | I126: Projektant: | J126: =E23 -> Ing. Stanislav Karas
C127: Zhotoviteľ: | F127: =IF(E20="","",E20) | I127: Spracovateľ: | J127: =E26 -> 0
C129: PČ | D129: Typ | E129: Kód | F129: Popis | G129: MJ | H129: Množstvo | I129: J.cena [EUR] | J129: Cena celkom [EUR] | K129: Cenová sústava | N129: DPH | O129: J. Nh [h] | P129: Nh celkom [h] | Q129: J. hmotnosť [t] | R129: Hmotnosť celkom [t] | S129: J. suť [t] | T129: Suť Celkom [t]
C130: Náklady z rozpočtu | J130: =BK130 -> 0 | P130: =P131+P134+P173+P179 -> 192.25082 | R130: =R131+R134+R173+R179 -> 0.54563936 | T130: =T131+T134+T173+T179 -> 0 | AT130: D | AU130: -1 | BK130: =BK131+BK134+BK173+BK179 -> 0
D131: D | E131: HSV | F131: Práce a dodávky HSV | J131: =BK131 -> 0 | P131: =P132 -> 0 | R131: =R132 -> 0 | T131: =T132 -> 0 | AR131: 1 | AT131: D | AU131: 0 | AY131: ROZPOCET | BK131: =BK132 -> 0
D132: D | E132: 9 | F132: Ostatné konštrukcie a práce-búranie | J132: =BK132 -> 0 | P132: =P133 -> 0 | R132: =R133 -> 0 | T132: =T133 -> 0 | AR132: 1 | AT132: D | AU132: 1 | AY132: ROZPOCET | BK132: =BK133 -> 0
C133: 1 | D133: K | E133: 94994210.S | F133: Prenájom pracovnej plošiny | G133: sub | H133: 1 | N133: znížená | O133: 0 | P133: =O133*H133 -> 0 | Q133: 0 | R133: =Q133*H133 -> 0 | S133: 0 | T133: =S133*H133 -> 0 | AR133: 4 | AT133: K | AU133: 2 | AY133: ROZPOCET | BE133: =IF(N133="základná",J133,0) -> 0 | BF133: =IF(N133="znížená",J133,0) -> 0 | BG133: =IF(N133="zákl. prenesená",J133,0) -> 0 | BH133: =IF(N133="zníž. prenesená",J133,0) -> 0 | BI133: =IF(N133="nulová",J133,0) -> 0 | BJ133: 2 | BK133: =ROUND(I133*H133,2) -> 0 | BL133: 4 | BM133: 2
D134: D | E134: PSV | F134: Práce a dodávky PSV | J134: =BK134 -> 0 | P134: =P135+P159+P166+P171 -> 123.81966 | R134: =R135+R159+R166+R171 -> 0.54563936 | T134: =T135+T159+T166+T171 -> 0 | AR134: 2 | AT134: D | AU134: 0 | AY134: ROZPOCET | BK134: =BK135+BK159+BK166+BK171 -> 0
D135: D | E135: 723 | F135: Zdravotechnika - plynovod | J135: =BK135 -> 0 | P135: =SUM(P136:P158) -> 67.70984 | R135: =SUM(R136:R158) -> 0.5227064 | T135: =SUM(T136:T158) -> 0 | AR135: 2 | AT135: D | AU135: 1 | AY135: ROZPOCET | BK135: =SUM(BK136:BK158) -> 0
C136: 2 | D136: K | E136: 723120204.S | F136: Potrubie z oceľových rúrok závitových čiernych spájaných zvarovaním - akosť 11 353.0 DN 25 | G136: m | H136: 8 | N136: znížená | O136: 0.42572 | P136: =O136*H136 -> 3.40576 | Q136: 0.002740912 | R136: =Q136*H136 -> 0.021927296 | S136: 0 | T136: =S136*H136 -> 0 | AR136: 16 | AT136: K | AU136: 2 | AY136: ROZPOCET | BE136: =IF(N136="základná",J136,0) -> 0 | BF136: =IF(N136="znížená",J136,0) -> 0 | BG136: =IF(N136="zákl. prenesená",J136,0) -> 0 | BH136: =IF(N136="zníž. prenesená",J136,0) -> 0 | BI136: =IF(N136="nulová",J136,0) -> 0 | BJ136: 2 | BK136: =ROUND(I136*H136,2) -> 0 | BL136: 16 | BM136: 4
C137: 3 | D137: K | E137: 723120206.S | F137: Potrubie z oceľových rúrok závitových čiernych spájaných zvarovaním - akosť 11 353.0 DN 40 | G137: m | H137: 64 | N137: znížená | O137: 0.49196 | P137: =O137*H137 -> 31.48544 | Q137: 0.004088362 | R137: =Q137*H137 -> 0.26165517 | S137: 0 | T137: =S137*H137 -> 0 | AR137: 16 | AT137: K | AU137: 2 | AY137: ROZPOCET | BE137: =IF(N137="základná",J137,0) -> 0 | BF137: =IF(N137="znížená",J137,0) -> 0 | BG137: =IF(N137="zákl. prenesená",J137,0) -> 0 | BH137: =IF(N137="zníž. prenesená",J137,0) -> 0 | BI137: =IF(N137="nulová",J137,0) -> 0 | BJ137: 2 | BK137: =ROUND(I137*H137,2) -> 0 | BL137: 16 | BM137: 6
C138: 4 | D138: K | E138: 723150312.S | F138: Potrubie z oceľových rúrok hladkých čiernych spájaných zvarov. akosť 11 353.0 Dxt 57x2, 9 mm | G138: m | H138: 23 | N138: znížená | O138: 0.44576 | P138: =O138*H138 -> 10.25248 | Q138: 0.004795725 | R138: =Q138*H138 -> 0.11030168 | S138: 0 | T138: =S138*H138 -> 0 | AR138: 16 | AT138: K | AU138: 2 | AY138: ROZPOCET | BE138: =IF(N138="základná",J138,0) -> 0 | BF138: =IF(N138="znížená",J138,0) -> 0 | BG138: =IF(N138="zákl. prenesená",J138,0) -> 0 | BH138: =IF(N138="zníž. prenesená",J138,0) -> 0 | BI138: =IF(N138="nulová",J138,0) -> 0 | BJ138: 2 | BK138: =ROUND(I138*H138,2) -> 0 | BL138: 16 | BM138: 8
C139: 5 | D139: K | E139: 723150367.S | F139: Potrubie z oceľových rúrok hladkých čiernych, chránička Dxt 57x2,9 mm | G139: m | H139: 0.5 | N139: znížená | O139: 0.36504 | P139: =O139*H139 -> 0.18252 | Q139: 0.004288836 | R139: =Q139*H139 -> 0.002144418 | S139: 0 | T139: =S139*H139 -> 0 | AR139: 16 | AT139: K | AU139: 2 | AY139: ROZPOCET | BE139: =IF(N139="základná",J139,0) -> 0 | BF139: =IF(N139="znížená",J139,0) -> 0 | BG139: =IF(N139="zákl. prenesená",J139,0) -> 0 | BH139: =IF(N139="zníž. prenesená",J139,0) -> 0 | BI139: =IF(N139="nulová",J139,0) -> 0 | BJ139: 2 | BK139: =ROUND(I139*H139,2) -> 0 | BL139: 16 | BM139: 10
C140: 6 | D140: K | E140: 723150368.S | F140: Potrubie z oceľových rúrok hladkých čiernych, chránička Dxt 76x3,2 mm | G140: m | H140: 1 | N140: znížená | O140: 0.41499 | P140: =O140*H140 -> 0.41499 | Q140: 0.00632794 | R140: =Q140*H140 -> 0.00632794 | S140: 0 | T140: =S140*H140 -> 0 | AR140: 16 | AT140: K | AU140: 2 | AY140: ROZPOCET | BE140: =IF(N140="základná",J140,0) -> 0 | BF140: =IF(N140="znížená",J140,0) -> 0 | BG140: =IF(N140="zákl. prenesená",J140,0) -> 0 | BH140: =IF(N140="zníž. prenesená",J140,0) -> 0 | BI140: =IF(N140="nulová",J140,0) -> 0 | BJ140: 2 | BK140: =ROUND(I140*H140,2) -> 0 | BL140: 16 | BM140: 12
C141: 7 | D141: K | E141: 723170010.S | F141: Montáž plynovej nerezovej vlnovcovej rúry DN 25 | G141: m | H141: 10 | N141: znížená | O141: 0.21075 | P141: =O141*H141 -> 2.1075 | Q141: 5.19e-05 | R141: =Q141*H141 -> 0.000519 | S141: 0 | T141: =S141*H141 -> 0 | AR141: 16 | AT141: K | AU141: 2 | AY141: ROZPOCET | BE141: =IF(N141="základná",J141,0) -> 0 | BF141: =IF(N141="znížená",J141,0) -> 0 | BG141: =IF(N141="zákl. prenesená",J141,0) -> 0 | BH141: =IF(N141="zníž. prenesená",J141,0) -> 0 | BI141: =IF(N141="nulová",J141,0) -> 0 | BJ141: 2 | BK141: =ROUND(I141*H141,2) -> 0 | BL141: 16 | BM141: 14
C142: 8 | D142: M | E142: 141310100190 | F142: Rúra ohybná vlnovcová z ušľachtilej ocele PLT, DN 25 (1"), balenie 15 m, systém BOAGAZ, TZB-komplet | G142: m | H142: 10 | N142: znížená | O142: 0 | P142: =O142*H142 -> 0 | Q142: 0.00046 | R142: =Q142*H142 -> 0.0046 | S142: 0 | T142: =S142*H142 -> 0 | AR142: 32 | AT142: M | AU142: 2 | AY142: ROZPOCET | BE142: =IF(N142="základná",J142,0) -> 0 | BF142: =IF(N142="znížená",J142,0) -> 0 | BG142: =IF(N142="zákl. prenesená",J142,0) -> 0 | BH142: =IF(N142="zníž. prenesená",J142,0) -> 0 | BI142: =IF(N142="nulová",J142,0) -> 0 | BJ142: 2 | BK142: =ROUND(I142*H142,2) -> 0 | BL142: 16 | BM142: 16
C143: 9 | D143: M | E143: 197730059716 | F143: Spojka PLT, DN 25, mosadz, systém BOAGAZ, TZB-komplet | G143: ks | H143: 14 | N143: znížená | O143: 0 | P143: =O143*H143 -> 0 | Q143: 0.0004 | R143: =Q143*H143 -> 0.0056 | S143: 0 | T143: =S143*H143 -> 0 | AR143: 32 | AT143: M | AU143: 2 | AY143: ROZPOCET | BE143: =IF(N143="základná",J143,0) -> 0 | BF143: =IF(N143="znížená",J143,0) -> 0 | BG143: =IF(N143="zákl. prenesená",J143,0) -> 0 | BH143: =IF(N143="zníž. prenesená",J143,0) -> 0 | BI143: =IF(N143="nulová",J143,0) -> 0 | BJ143: 2 | BK143: =ROUND(I143*H143,2) -> 0 | BL143: 16 | BM143: 18
C144: 10 | D144: K | E144: 723190204.S | F144: Prípojka plynovodná z oceľových rúrok závitových čiernych spájaných na závit DN 25 | G144: súb. | H144: 7 | N144: znížená | O144: 1.69761 | P144: =O144*H144 -> 11.88327 | Q144: 0.006817097 | R144: =Q144*H144 -> 0.047719679 | S144: 0 | T144: =S144*H144 -> 0 | AR144: 16 | AT144: K | AU144: 2 | AY144: ROZPOCET | BE144: =IF(N144="základná",J144,0) -> 0 | BF144: =IF(N144="znížená",J144,0) -> 0 | BG144: =IF(N144="zákl. prenesená",J144,0) -> 0 | BH144: =IF(N144="zníž. prenesená",J144,0) -> 0 | BI144: =IF(N144="nulová",J144,0) -> 0 | BJ144: 2 | BK144: =ROUND(I144*H144,2) -> 0 | BL144: 16 | BM144: 20
C145: 11 | D145: K | E145: 723221024.S | F145: Montáž vzorkovacieho guľového uzáveru rohového G 1/2 | G145: ks | H145: 5 | N145: znížená | O145: 0.21016 | P145: =O145*H145 -> 1.0508 | Q145: 4.2e-06 | R145: =Q145*H145 -> 2.1e-05 | S145: 0 | T145: =S145*H145 -> 0 | AR145: 16 | AT145: K | AU145: 2 | AY145: ROZPOCET | BE145: =IF(N145="základná",J145,0) -> 0 | BF145: =IF(N145="znížená",J145,0) -> 0 | BG145: =IF(N145="zákl. prenesená",J145,0) -> 0 | BH145: =IF(N145="zníž. prenesená",J145,0) -> 0 | BI145: =IF(N145="nulová",J145,0) -> 0 | BJ145: 2 | BK145: =ROUND(I145*H145,2) -> 0 | BL145: 16 | BM145: 22
C146: 12 | D146: M | E146: 551551340009800.S | F146: Vzorkovací uzáver plynu rohový d 9,8 mm, 1/2", niklovaná mosadz | G146: ks | H146: 5 | N146: znížená | O146: 0 | P146: =O146*H146 -> 0 | Q146: 0.00025 | R146: =Q146*H146 -> 0.00125 | S146: 0 | T146: =S146*H146 -> 0 | AR146: 32 | AT146: M | AU146: 2 | AY146: ROZPOCET | BE146: =IF(N146="základná",J146,0) -> 0 | BF146: =IF(N146="znížená",J146,0) -> 0 | BG146: =IF(N146="zákl. prenesená",J146,0) -> 0 | BH146: =IF(N146="zníž. prenesená",J146,0) -> 0 | BI146: =IF(N146="nulová",J146,0) -> 0 | BJ146: 2 | BK146: =ROUND(I146*H146,2) -> 0 | BL146: 16 | BM146: 24
C147: 13 | D147: K | E147: 723230103.S | F147: Montáž poistnej vsuvky G 1 FM s protipožiarnou armatúrou a vnútorným a vonkajším závitom | G147: ks | H147: 7 | N147: znížená | O147: 0.24926 | P147: =O147*H147 -> 1.74482 | Q147: 2.8e-07 | R147: =Q147*H147 -> 1.96e-06 | S147: 0 | T147: =S147*H147 -> 0 | AR147: 16 | AT147: K | AU147: 2 | AY147: ROZPOCET | BE147: =IF(N147="základná",J147,0) -> 0 | BF147: =IF(N147="znížená",J147,0) -> 0 | BG147: =IF(N147="zákl. prenesená",J147,0) -> 0 | BH147: =IF(N147="zníž. prenesená",J147,0) -> 0 | BI147: =IF(N147="nulová",J147,0) -> 0 | BJ147: 2 | BK147: =ROUND(I147*H147,2) -> 0 | BL147: 16 | BM147: 26
... C158: 24 | D158: K | E158: 998723293.S | F158: Plynovod, prípl.za presun nad vymedz. najväčšiu dopravnú vzdialenosť do 500 m | G158: % | H158: 74.752 | N158: znížená | O158: 0 | P158: =O158*H158 -> 0 | Q158: 0 | R158: =Q158*H158 -> 0 | S158: 0 | T158: =S158*H158 -> 0 | AR158: 16 | AT158: K | AU158: 2 | AY158: ROZPOCET | BE158: =IF(N158="základná",J158,0) -> 0 | BF158: =IF(N158="znížená",J158,0) -> 0 | BG158: =IF(N158="zákl. prenesená",J158,0) -> 0 | BH158: =IF(N158="zníž. prenesená",J158,0) -> 0 | BI158: =IF(N158="nulová",J158,0) -> 0 | BJ158: 2 | BK158: =ROUND(I158*H158,2) -> 0 | BL158: 16 | BM158: 48
D159: D | E159: 734 | F159: Ústredné kúrenie, armatúry. | P159: =SUM(P160:P165) -> 1.05472 | R159: =SUM(R160:R165) -> 0.0063176 | T159: =SUM(T160:T165) -> 0 | AR159: 2 | AT159: D | AU159: 1 | AY159: ROZPOCET | BK159: =SUM(BK160:BK165) -> 0
C160: 25 | D160: K | E160: 734391124.S | F160: Ostatné horúcovodné armatúry, kondenzačná slučka na privarenie STN 13 7533.1 - stočené | G160: ks | H160: 4 | N160: znížená | O160: 0.19545 | P160: =O160*H160 -> 0.7818 | Q160: 0.0007794 | R160: =Q160*H160 -> 0.0031176 | S160: 0 | T160: =S160*H160 -> 0 | AR160: 16 | AT160: K | AU160: 2 | AY160: ROZPOCET | BE160: =IF(N160="základná",J160,0) -> 0 | BF160: =IF(N160="znížená",J160,0) -> 0 | BG160: =IF(N160="zákl. prenesená",J160,0) -> 0 | BH160: =IF(N160="zníž. prenesená",J160,0) -> 0 | BI160: =IF(N160="nulová",J160,0) -> 0 | BJ160: 2 | BK160: =ROUND(I160*H160,2) -> 0 | BL160: 16 | BM160: 50
C161: 26 | D161: K | E161: 734421161.S | F161: Montáž tlakomeru deformačného kruhového 0-6 kPa priemer 100 | G161: ks | H161: 4 | N161: znížená | O161: 0 | P161: =O161*H161 -> 0 | Q161: 0 | R161: =Q161*H161 -> 0 | S161: 0 | T161: =S161*H161 -> 0 | AR161: 16 | AT161: K | AU161: 2 | AY161: ROZPOCET | BE161: =IF(N161="základná",J161,0) -> 0 | BF161: =IF(N161="znížená",J161,0) -> 0 | BG161: =IF(N161="zákl. prenesená",J161,0) -> 0 | BH161: =IF(N161="zníž. prenesená",J161,0) -> 0 | BI161: =IF(N161="nulová",J161,0) -> 0 | BJ161: 2 | BK161: =ROUND(I161*H161,2) -> 0 | BL161: 16 | BM161: 52
C162: 27 | D162: K | E162: 734424912.S | F162: Kohútik čapový M 20 x 1, 5 | G162: ks | H162: 4 | N162: znížená | O162: 0.06823 | P162: =O162*H162 -> 0.27292 | Q162: 0.0004 | R162: =Q162*H162 -> 0.0016 | S162: 0 | T162: =S162*H162 -> 0 | AR162: 16 | AT162: K | AU162: 2 | AY162: ROZPOCET | BE162: =IF(N162="základná",J162,0) -> 0 | BF162: =IF(N162="znížená",J162,0) -> 0 | BG162: =IF(N162="zákl. prenesená",J162,0) -> 0 | BH162: =IF(N162="zníž. prenesená",J162,0) -> 0 | BI162: =IF(N162="nulová",J162,0) -> 0 | BJ162: 2 | BK162: =ROUND(I162*H162,2) -> 0 | BL162: 16 | BM162: 54
C163: 28 | D163: M | E163: 551240012200.S | F163: Kohút tlakomerový obyčajný M 20x1,5 mm | G163: ks | H163: 4 | N163: znížená | O163: 0 | P163: =O163*H163 -> 0 | Q163: 0.0004 | R163: =Q163*H163 -> 0.0016 | S163: 0 | T163: =S163*H163 -> 0 | AR163: 32 | AT163: M | AU163: 2 | AY163: ROZPOCET | BE163: =IF(N163="základná",J163,0) -> 0 | BF163: =IF(N163="znížená",J163,0) -> 0 | BG163: =IF(N163="zákl. prenesená",J163,0) -> 0 | BH163: =IF(N163="zníž. prenesená",J163,0) -> 0 | BI163: =IF(N163="nulová",J163,0) -> 0 | BJ163: 2 | BK163: =ROUND(I163*H163,2) -> 0 | BL163: 16 | BM163: 56
C164: 29 | D164: K | E164: 998734201.S | F164: Presun hmôt pre armatúry v objektoch výšky do 6 m | G164: % | H164: 6.621 | N164: znížená | O164: 0 | P164: =O164*H164 -> 0 | Q164: 0 | R164: =Q164*H164 -> 0 | S164: 0 | T164: =S164*H164 -> 0 | AR164: 16 | AT164: K | AU164: 2 | AY164: ROZPOCET | BE164: =IF(N164="základná",J164,0) -> 0 | BF164: =IF(N164="znížená",J164,0) -> 0 | BG164: =IF(N164="zákl. prenesená",J164,0) -> 0 | BH164: =IF(N164="zníž. prenesená",J164,0) -> 0 | BI164: =IF(N164="nulová",J164,0) -> 0 | BJ164: 2 | BK164: =ROUND(I164*H164,2) -> 0 | BL164: 16 | BM164: 58
C165: 30 | D165: K | E165: 998734293.S | F165: Armatúry, prípl.za presun nad vymedz. najväčšiu dopravnú vzdialenosť do 500 m | G165: % | H165: 6.621 | N165: znížená | O165: 0 | P165: =O165*H165 -> 0 | Q165: 0 | R165: =Q165*H165 -> 0 | S165: 0 | T165: =S165*H165 -> 0 | AR165: 16 | AT165: K | AU165: 2 | AY165: ROZPOCET | BE165: =IF(N165="základná",J165,0) -> 0 | BF165: =IF(N165="znížená",J165,0) -> 0 | BG165: =IF(N165="zákl. prenesená",J165,0) -> 0 | BH165: =IF(N165="zníž. prenesená",J165,0) -> 0 | BI165: =IF(N165="nulová",J165,0) -> 0 | BJ165: 2 | BK165: =ROUND(I165*H165,2) -> 0 | BL165: 16 | BM165: 60
D166: D | E166: 767 | F166: Konštrukcie doplnkové kovové | P166: =SUM(P167:P170) -> 42.213 | R166: =SUM(R167:R170) -> 0.00728541 | T166: =SUM(T167:T170) -> 0 | AR166: 2 | AT166: D | AU166: 1 | AY166: ROZPOCET | BK166: =SUM(BK167:BK170) -> 0
C167: 31 | D167: K | E167: 767995101.S | F167: Montáž ostatných atypických kovových stavebných doplnkových konštrukcií do 5 kg | G167: kg | H167: 100 | N167: znížená | O167: 0.42213 | P167: =O167*H167 -> 42.213 | Q167: 7.28541e-05 | R167: =Q167*H167 -> 0.00728541 | S167: 0 | T167: =S167*H167 -> 0 | AR167: 16 | AT167: K | AU167: 2 | AY167: ROZPOCET | BE167: =IF(N167="základná",J167,0) -> 0 | BF167: =IF(N167="znížená",J167,0) -> 0 | BG167: =IF(N167="zákl. prenesená",J167,0) -> 0 | BH167: =IF(N167="zníž. prenesená",J167,0) -> 0 | BI167: =IF(N167="nulová",J167,0) -> 0 | BJ167: 2 | BK167: =ROUND(I167*H167,2) -> 0 | BL167: 16 | BM167: 62
C168: 32 | D168: M | E168: 33950041 | F168: Závesy a konzoly pre zavesenie potrubí | G168: sub | H168: 1 | N168: znížená | O168: 0 | P168: =O168*H168 -> 0 | Q168: 0 | R168: =Q168*H168 -> 0 | S168: 0 | T168: =S168*H168 -> 0 | AR168: 32 | AT168: M | AU168: 2 | AY168: ROZPOCET | BE168: =IF(N168="základná",J168,0) -> 0 | BF168: =IF(N168="znížená",J168,0) -> 0 | BG168: =IF(N168="zákl. prenesená",J168,0) -> 0 | BH168: =IF(N168="zníž. prenesená",J168,0) -> 0 | BI168: =IF(N168="nulová",J168,0) -> 0 | BJ168: 2 | BK168: =ROUND(I168*H168,2) -> 0 | BL168: 16 | BM168: 64
C169: 33 | D169: K | E169: 998767201.S | F169: Presun hmôt pre kovové stavebné doplnkové konštrukcie v objektoch výšky do 6 m | G169: % | H169: 15.458 | N169: znížená | O169: 0 | P169: =O169*H169 -> 0 | Q169: 0 | R169: =Q169*H169 -> 0 | S169: 0 | T169: =S169*H169 -> 0 | AR169: 16 | AT169: K | AU169: 2 | AY169: ROZPOCET | BE169: =IF(N169="základná",J169,0) -> 0 | BF169: =IF(N169="znížená",J169,0) -> 0 | BG169: =IF(N169="zákl. prenesená",J169,0) -> 0 | BH169: =IF(N169="zníž. prenesená",J169,0) -> 0 | BI169: =IF(N169="nulová",J169,0) -> 0 | BJ169: 2 | BK169: =ROUND(I169*H169,2) -> 0 | BL169: 16 | BM169: 66
C170: 34 | D170: K | E170: 998767293.S | F170: Kovové stav.dopln.konštr., prípl.za presun nad najväčšiu dopr. vzdial. do 500 m | G170: % | H170: 15.458 | N170: znížená | O170: 0 | P170: =O170*H170 -> 0 | Q170: 0 | R170: =Q170*H170 -> 0 | S170: 0 | T170: =S170*H170 -> 0 | AR170: 16 | AT170: K | AU170: 2 | AY170: ROZPOCET | BE170: =IF(N170="základná",J170,0) -> 0 | BF170: =IF(N170="znížená",J170,0) -> 0 | BG170: =IF(N170="zákl. prenesená",J170,0) -> 0 | BH170: =IF(N170="zníž. prenesená",J170,0) -> 0 | BI170: =IF(N170="nulová",J170,0) -> 0 | BJ170: 2 | BK170: =ROUND(I170*H170,2) -> 0 | BL170: 16 | BM170: 68
D171: D | E171: 783 | F171: Dokončovacie práce - nátery | P171: =P172 -> 12.8421 | R171: =R172 -> 0.00932995 | T171: =T172 -> 0 | AR171: 2 | AT171: D | AU171: 1 | AY171: ROZPOCET | BK171: =BK172 -> 0
C172: 35 | D172: K | E172: 783424341.S | F172: Nátery kov.potr.a armatúr v kanáloch a šachtách syntetické potrubie do DN 50 mm dvojnás. 1x email a základný náter - 140µm | G172: m | H172: 95 | N172: znížená | O172: 0.13518 | P172: =O172*H172 -> 12.8421 | Q172: 9.821e-05 | R172: =Q172*H172 -> 0.00932995 | S172: 0 | T172: =S172*H172 -> 0 | AR172: 16 | AT172: K | AU172: 2 | AY172: ROZPOCET | BE172: =IF(N172="základná",J172,0) -> 0 | BF172: =IF(N172="znížená",J172,0) -> 0 | BG172: =IF(N172="zákl. prenesená",J172,0) -> 0 | BH172: =IF(N172="zníž. prenesená",J172,0) -> 0 | BI172: =IF(N172="nulová",J172,0) -> 0 | BJ172: 2 | BK172: =ROUND(I172*H172,2) -> 0 | BL172: 16 | BM172: 70
D173: D | E173: M | F173: Práce a dodávky M | P173: =P174 -> 68.43116 | R173: =R174 -> 0 | T173: =T174 -> 0 | AR173: 3 | AT173: D | AU173: 0 | AY173: ROZPOCET | BK173: =BK174 -> 0
D174: D | E174: 23-M | F174: Montáže potrubia | P174: =SUM(P175:P178) -> 68.43116 | R174: =SUM(R175:R178) -> 0 | T174: =SUM(T175:T178) -> 0 | AR174: 3 | AT174: D | AU174: 1 | AY174: ROZPOCET | BK174: =SUM(BK175:BK178) -> 0
...

Sheet ÚK - Ústredné vykurovanie
L2: >> skryté stĺpce << | AT2: {582c97e2-d97a-47ac-b0c7-80025cf17c1a}
AT3: 0
D4: KRYCÍ LIST ROZPOČTU | M4: v --- nižšie sa nachádzajú doplnkové a pomocné údaje k zostavám --- v | AT4: False
D6: Stavba:
E7: ='Rekapitulácia stavby'!K6 -> Športová hala OLYMPIA v Nitre
D8: Objekt:
E9: SO01 - Športová hala, Nitra
D10: Časť:
E11: ÚK - Ústredné vykurovanie
D13: JKSO: | I13: ČS:
D14: Miesto: | F14: Nitra | I14: Dátum: | J14: ='Rekapitulácia stavby'!AN8 -> 8. 7. 2025
D16: Objednávateľ: | I16: IČO:
E17: Športová hala OLYMPIA s.r.o. | I17: IČ DPH:
D19: Zhotoviteľ: | I19: IČO:
I20: IČ DPH:
D22: Projektant: | I22: IČO:
E23: Ing. Stanislav Karas | I23: IČ DPH:
D25: Spracovateľ: | I25: IČO:
I26: IČ DPH:
D28: Poznámka:
D32: Cena bez DPH | J32: =ROUND(J129, 2) -> 0
F34: Základ dane | I34: Sadzba dane | J34: Výška dane
D35: DPH | E35: základná | F35: =ROUND((SUM(BE129:BE274)), 2) -> 0 | I35: 0.23 | J35: =ROUND(((SUM(BE129:BE274))*I35), 2) -> 0
E36: znížená | F36: =ROUND((SUM(BF129:BF274)), 2) -> 0 | I36: 0.23 | J36: =ROUND(((SUM(BF129:BF274))*I36), 2) -> 0
E37: zákl. prenesená | F37: =ROUND((SUM(BG129:BG274)), 2) -> 0 | I37: 0.23 | J37: =0 -> 0
E38: zníž. prenesená | F38: =ROUND((SUM(BH129:BH274)), 2) -> 0 | I38: 0.23 | J38: =0 -> 0
E39: nulová | F39: =ROUND((SUM(BI129:BI274)), 2) -> 0 | I39: 0 | J39: =0 -> 0
D41: Cena s DPH | G41: v | H41: EUR | J41: =SUM(J32:J39) -> 0
D50: Projektant | G50: Spracovateľ
D61: Dátum a podpis: | F61: Pečiatka | G61: Dátum a podpis: | J61: Pečiatka
D65: Objednávateľ | G65: Zhotoviteľ
D76: Dátum a podpis: | F76: Pečiatka | G76: Dátum a podpis: | J76: Pečiatka
C82: REKAPITULÁCIA ROZPOČTU
C84: Stavba:
E85: =E7 -> Športová hala OLYMPIA v Nitre
C86: Objekt:
E87: SO01 - Športová hala, Nitra
C88: Časť:
E89: =E11 -> ÚK - Ústredné vykurovanie
C91: Miesto: | F91: =F14 -> Nitra | I91: Dátum: | J91: =IF(J14="","",J14) -> 8. 7. 2025
C93: Objednávateľ: | F93: =E17 -> Športová hala OLYMPIA s.r.o. | I93: Projektant: | J93: =E23 -> Ing. Stanislav Karas
C94: Zhotoviteľ: | F94: =IF(E20="","",E20) | I94: Spracovateľ: | J94: =E26 -> 0
C96: Kód dielu - Popis | J96: Cena celkom [EUR]
C98: Náklady z rozpočtu | J98: =J129 -> 0 | AU98: -1
D99: HSV - Práce a dodávky HSV | J99: =J130 -> 0
D100: 9 - Ostatné konštrukcie a práce-búranie | J100: =J131 -> 0
D101: 713 - Izolácie tepelné | J101: =J133 -> 0
D102: 731 - Ústredné kúrenie - kotolne | J102: =J142 -> 0
D103: 732 - Ústredné kúrenie - strojovne | J103: =J179 -> 0
D104: 733 - Ústredné vykurovanie - potrubie | J104: =J203 -> 0
D105: 734 - Ústredné vykurovanie - armatúry | J105: =J213 -> 0
D106: 735 - Ústredné vykurovanie - vykurovacie telesá | J106: =J241 -> 0
D107: HZS - Hodinové zúčtovacie sadzby | J107: =J266 -> 0
C114: ROZPOČET
C116: Stavba:
E117: =E7 -> Športová hala OLYMPIA v Nitre
C118: Objekt:
E119: SO01 - Športová hala, Nitra
C120: Časť:
E121: =E11 -> ÚK - Ústredné vykurovanie
C123: Miesto: | F123: =F14 -> Nitra | I123: Dátum: | J123: =IF(J14="","",J14) -> 8. 7. 2025
C125: Objednávateľ: | F125: =E17 -> Športová hala OLYMPIA s.r.o. | I125: Projektant: | J125: =E23 -> Ing. Stanislav Karas
C126: Zhotoviteľ: | F126: =IF(E20="","",E20) | I126: Spracovateľ: | J126: =E26 -> 0
C128: PČ | D128: Typ | E128: Kód | F128: Popis | G128: MJ | H128: Množstvo | I128: J.cena [EUR] | J128: Cena celkom [EUR] | K128: Cenová sústava | N128: DPH | O128: J. Nh [h] | P128: Nh celkom [h] | Q128: J. hmotnosť [t] | R128: Hmotnosť celkom [t] | S128: J. suť [t] | T128: Suť Celkom [t]
C129: Náklady z rozpočtu | J129: =BK129 -> 0 | P129: =P130+P133+P142+P179+P203+P213+P241+P266 -> 0 | R129: =R130+R133+R142+R179+R203+R213+R241+R266 -> 0 | T129: =T130+T133+T142+T179+T203+T213+T241+T266 -> 0 | AT129: D | AU129: -1 | BK129: =BK130+BK133+BK142+BK179+BK203+BK213+BK241+BK266 -> 0
D130: D | E130: HSV | F130: Práce a dodávky HSV | J130: =BK130 -> 0 | P130: =P131 -> 0 | R130: =R131 -> 0 | T130: =T131 -> 0 | AR130: 1 | AT130: D | AU130: 0 | AY130: ROZPOCET | BK130: =BK131 -> 0
D131: D | E131: 9 | F131: Ostatné konštrukcie a práce-búranie | J131: =BK131 -> 0 | P131: =P132 -> 0 | R131: =R132 -> 0 | T131: =T132 -> 0 | AR131: 1 | AT131: D | AU131: 1 | AY131: ROZPOCET | BK131: =BK132 -> 0
C132: 1 | D132: K | E132: 94994210.S | F132: Prenájom pracovnej plošiny | G132: sub | H132: 1 | N132: znížená | O132: 0 | P132: =O132*H132 -> 0 | Q132: 0 | R132: =Q132*H132 -> 0 | S132: 0 | T132: =S132*H132 -> 0 | AR132: 4 | AT132: K | AU132: 2 | AY132: ROZPOCET | BE132: =IF(N132="základná",J132,0) -> 0 | BF132: =IF(N132="znížená",J132,0) -> 0 | BG132: =IF(N132="zákl. prenesená",J132,0) -> 0 | BH132: =IF(N132="zníž. prenesená",J132,0) -> 0 | BI132: =IF(N132="nulová",J132,0) -> 0 | BJ132: 2 | BK132: =ROUND(I132*H132,2) -> 0 | BL132: 4 | BM132: 2
D133: D | E133: 713 | F133: Izolácie tepelné | J133: =BK133 -> 0 | P133: =SUM(P134:P141) -> 0 | R133: =SUM(R134:R141) -> 0 | T133: =SUM(T134:T141) -> 0 | AR133: 2 | AT133: D | AU133: 0 | AY133: ROZPOCET | BK133: =SUM(BK134:BK141) -> 0
C134: 2 | D134: K | E134: 713482111.S | F134: Montáž trubíc z PE, hr.do 10 mm,vnút.priemer do 38 mm | G134: m | H134: 50 | N134: znížená | O134: 0 | P134: =O134*H134 -> 0 | Q134: 0 | R134: =Q134*H134 -> 0 | S134: 0 | T134: =S134*H134 -> 0 | AR134: 16 | AT134: K | AU134: 1 | AY134: ROZPOCET | BE134: =IF(N134="základná",J134,0) -> 0 | BF134: =IF(N134="znížená",J134,0) -> 0 | BG134: =IF(N134="zákl. prenesená",J134,0) -> 0 | BH134: =IF(N134="zníž. prenesená",J134,0) -> 0 | BI134: =IF(N134="nulová",J134,0) -> 0 | BJ134: 2 | BK134: =ROUND(I134*H134,2) -> 0 | BL134: 16 | BM134: 4
C135: 3 | D135: M | E135: 283310001100 | F135: Izolačná PE trubica TUBOLIT DG 18x9 mm (d potrubia x hr. izolácie), nadrezaná, AZ FLEX | G135: m | H135: 51 | N135: znížená | O135: 0 | P135: =O135*H135 -> 0 | Q135: 0 | R135: =Q135*H135 -> 0 | S135: 0 | T135: =S135*H135 -> 0 | AR135: 32 | AT135: M | AU135: 1 | AY135: ROZPOCET | BE135: =IF(N135="základná",J135,0) -> 0 | BF135: =IF(N135="znížená",J135,0) -> 0 | BG135: =IF(N135="zákl. prenesená",J135,0) -> 0 | BH135: =IF(N135="zníž. prenesená",J135,0) -> 0 | BI135: =IF(N135="nulová",J135,0) -> 0 | BJ135: 2 | BK135: =ROUND(I135*H135,2) -> 0 | BL135: 16 | BM135: 6
C136: 4 | D136: K | E136: 713482121.S | F136: Montáž trubíc z PE, hr.15-20 mm,vnút.priemer do 38 mm | G136: m | H136: 320 | N136: znížená | O136: 0 | P136: =O136*H136 -> 0 | Q136: 0 | R136: =Q136*H136 -> 0 | S136: 0 | T136: =S136*H136 -> 0 | AR136: 16 | AT136: K | AU136: 1 | AY136: ROZPOCET | BE136: =IF(N136="základná",J136,0) -> 0 | BF136: =IF(N136="znížená",J136,0) -> 0 | BG136: =IF(N136="zákl. prenesená",J136,0) -> 0 | BH136: =IF(N136="zníž. prenesená",J136,0) -> 0 | BI136: =IF(N136="nulová",J136,0) -> 0 | BJ136: 2 | BK136: =ROUND(I136*H136,2) -> 0 | BL136: 16 | BM136: 8
C137: 5 | D137: M | E137: 283310004900 | F137: Izolačná PE trubica TUBOLIT DG 35x20 mm (d potrubia x hr. izolácie), nadrezaná, AZ FLEX | G137: m | H137: 326.4 | N137: znížená | O137: 0 | P137: =O137*H137 -> 0 | Q137: 0 | R137: =Q137*H137 -> 0 | S137: 0 | T137: =S137*H137 -> 0 | AR137: 32 | AT137: M | AU137: 1 | AY137: ROZPOCET | BE137: =IF(N137="základná",J137,0) -> 0 | BF137: =IF(N137="znížená",J137,0) -> 0 | BG137: =IF(N137="zákl. prenesená",J137,0) -> 0 | BH137: =IF(N137="zníž. prenesená",J137,0) -> 0 | BI137: =IF(N137="nulová",J137,0) -> 0 | BJ137: 2 | BK137: =ROUND(I137*H137,2) -> 0 | BL137: 16 | BM137: 10
C138: 6 | D138: K | E138: 713482152.S | F138: Montáž trubíc z EPDM, hr.38-50,vnút.priemer 39-73 mm | G138: m | H138: 80 | N138: znížená | O138: 0 | P138: =O138*H138 -> 0 | Q138: 0 | R138: =Q138*H138 -> 0 | S138: 0 | T138: =S138*H138 -> 0 | AR138: 16 | AT138: K | AU138: 1 | AY138: ROZPOCET | BE138: =IF(N138="základná",J138,0) -> 0 | BF138: =IF(N138="znížená",J138,0) -> 0 | BG138: =IF(N138="zákl. prenesená",J138,0) -> 0 | BH138: =IF(N138="zníž. prenesená",J138,0) -> 0 | BI138: =IF(N138="nulová",J138,0) -> 0 | BJ138: 2 | BK138: =ROUND(I138*H138,2) -> 0 | BL138: 16 | BM138: 12
C139: 7 | D139: M | E139: azf2807 | F139: Rockwool 800 54x50 izolácia-skruž s hliníkovou fóliou (ALS) AZ FLEX Rockwool | G139: m | H139: 81.6 | N139: znížená | O139: 0 | P139: =O139*H139 -> 0 | Q139: 0 | R139: =Q139*H139 -> 0 | S139: 0 | T139: =S139*H139 -> 0 | AR139: 32 | AT139: M | AU139: 1 | AY139: ROZPOCET | BE139: =IF(N139="základná",J139,0) -> 0 | BF139: =IF(N139="znížená",J139,0) -> 0 | BG139: =IF(N139="zákl. prenesená",J139,0) -> 0 | BH139: =IF(N139="zníž. prenesená",J139,0) -> 0 | BI139: =IF(N139="nulová",J139,0) -> 0 | BJ139: 2 | BK139: =ROUND(I139*H139,2) -> 0 | BL139: 16 | BM139: 14
C140: 8 | D140: K | E140: 998713202.S | F140: Presun hmôt pre izolácie tepelné v objektoch výšky nad 6 m do 12 m | G140: % | H140: 31.972 | N140: znížená | O140: 0 | P140: =O140*H140 -> 0 | Q140: 0 | R140: =Q140*H140 -> 0 | S140: 0 | T140: =S140*H140 -> 0 | AR140: 16 | AT140: K | AU140: 1 | AY140: ROZPOCET | BE140: =IF(N140="základná",J140,0) -> 0 | BF140: =IF(N140="znížená",J140,0) -> 0 | BG140: =IF(N140="zákl. prenesená",J140,0) -> 0 | BH140: =IF(N140="zníž. prenesená",J140,0) -> 0 | BI140: =IF(N140="nulová",J140,0) -> 0 | BJ140: 2 | BK140: =ROUND(I140*H140,2) -> 0 | BL140: 16 | BM140: 16
C141: 9 | D141: K | E141: 998713293.S | F141: Izolácie tepelné, prípl.za presun nad vymedz. najväčšiu dopravnú vzdial. do 500 m | G141: % | H141: 31.972 | N141: znížená | O141: 0 | P141: =O141*H141 -> 0 | Q141: 0 | R141: =Q141*H141 -> 0 | S141: 0 | T141: =S141*H141 -> 0 | AR141: 16 | AT141: K | AU141: 1 | AY141: ROZPOCET | BE141: =IF(N141="základná",J141,0) -> 0 | BF141: =IF(N141="znížená",J141,0) -> 0 | BG141: =IF(N141="zákl. prenesená",J141,0) -> 0 | BH141: =IF(N141="zníž. prenesená",J141,0) -> 0 | BI141: =IF(N141="nulová",J141,0) -> 0 | BJ141: 2 | BK141: =ROUND(I141*H141,2) -> 0 | BL141: 16 | BM141: 18
D142: D | E142: 731 | F142: Ústredné kúrenie - kotolne | P142: =SUM(P143:P178) -> 0 | R142: =SUM(R143:R178) -> 0 | T142: =SUM(T143:T178) -> 0 | AR142: 2 | AT142: D | AU142: 0 | AY142: ROZPOCET | BK142: =SUM(BK143:BK178) -> 0
C143: 10 | D143: K | E143: 731261070.S | F143: Montáž plynového kotla nástenného kondenzačného vykurovacieho bez zásobníka | G143: ks | H143: 1 | N143: znížená | O143: 0 | P143: =O143*H143 -> 0 | Q143: 0 | R143: =Q143*H143 -> 0 | S143: 0 | T143: =S143*H143 -> 0 | AR143: 16 | AT143: K | AU143: 1 | AY143: ROZPOCET | BE143: =IF(N143="základná",J143,0) -> 0 | BF143: =IF(N143="znížená",J143,0) -> 0 | BG143: =IF(N143="zákl. prenesená",J143,0) -> 0 | BH143: =IF(N143="zníž. prenesená",J143,0) -> 0 | BI143: =IF(N143="nulová",J143,0) -> 0 | BJ143: 2 | BK143: =ROUND(I143*H143,2) -> 0 | BL143: 16 | BM143: 20
C144: 11 | D144: M | E144: B2HA 009 | F144: Kotol nástenný, plynový, oceľový, kondenzačný, vykurovací, pre prevádzku závislú/nezávislú na vzduchu v miestnosti, výkon 12-49 kW (50/30 °C) | G144: ks | H144: 1 | N144: znížená | O144: 0 | P144: =O144*H144 -> 0 | Q144: 0 | R144: =Q144*H144 -> 0 | S144: 0 | T144: =S144*H144 -> 0 | AR144: 32 | AT144: M | AU144: 1 | AY144: ROZPOCET | BE144: =IF(N144="základná",J144,0) -> 0 | BF144: =IF(N144="znížená",J144,0) -> 0 | BG144: =IF(N144="zákl. prenesená",J144,0) -> 0 | BH144: =IF(N144="zníž. prenesená",J144,0) -> 0 | BI144: =IF(N144="nulová",J144,0) -> 0 | BJ144: 2 | BK144: =ROUND(I144*H144,2) -> 0 | BL144: 16 | BM144: 22
C145: 12 | D145: M | E145: ZK03663 | F145: Pripojovacia sada s obehovým čerpadlom, VIESSMANN | G145: ks | H145: 1 | N145: znížená | O145: 0 | P145: =O145*H145 -> 0 | Q145: 0 | R145: =Q145*H145 -> 0 | S145: 0 | T145: =S145*H145 -> 0 | AR145: 32 | AT145: M | AU145: 1 | AY145: ROZPOCET | BE145: =IF(N145="základná",J145,0) -> 0 | BF145: =IF(N145="znížená",J145,0) -> 0 | BG145: =IF(N145="zákl. prenesená",J145,0) -> 0 | BH145: =IF(N145="zníž. prenesená",J145,0) -> 0 | BI145: =IF(N145="nulová",J145,0) -> 0 | BJ145: 2 | BK145: =ROUND(I145*H145,2) -> 0 | BL145: 16 | BM145: 24
C146: 13 | D146: M | E146: ZK03678 | F146: Montážny rám, VIESSMANN | G146: ks | H146: 1 | N146: znížená | O146: 0 | P146: =O146*H146 -> 0 | Q146: 0 | R146: =Q146*H146 -> 0 | S146: 0 | T146: =S146*H146 -> 0 | AR146: 32 | AT146: M | AU146: 1 | AY146: ROZPOCET | BE146: =IF(N146="základná",J146,0) -> 0 | BF146: =IF(N146="znížená",J146,0) -> 0 | BG146: =IF(N146="zákl. prenesená",J146,0) -> 0 | BH146: =IF(N146="zníž. prenesená",J146,0) -> 0 | BI146: =IF(N146="nulová",J146,0) -> 0 | BJ146: 2 | BK146: =ROUND(I146*H146,2) -> 0 | BL146: 16 | BM146: 26
C147: 14 | D147: M | E147: 7179488 | F147: Ponorné čidlo teploty, VIESSMANN | G147: ks | H147: 1 | N147: znížená | O147: 0 | P147: =O147*H147 -> 0 | Q147: 0 | R147: =Q147*H147 -> 0 | S147: 0 | T147: =S147*H147 -> 0 | AR147: 32 | AT147: M | AU147: 1 | AY147: ROZPOCET | BE147: =IF(N147="základná",J147,0) -> 0 | BF147: =IF(N147="znížená",J147,0) -> 0 | BG147: =IF(N147="zákl. prenesená",J147,0) -> 0 | BH147: =IF(N147="zníž. prenesená",J147,0) -> 0 | BI147: =IF(N147="nulová",J147,0) -> 0 | BJ147: 2 | BK147: =ROUND(I147*H147,2) -> 0 | BL147: 16 | BM147: 28
C148: 15 | D148: M | E148: 7731598 | F148: Plynový filter Rp 3/4, VIESSMANN | G148: ks | H148: 1 | N148: znížená | O148: 0 | P148: =O148*H148 -> 0 | Q148: 0 | R148: =Q148*H148 -> 0 | S148: 0 | T148: =S148*H148 -> 0 | AR148: 32 | AT148: M | AU148: 1 | AY148: ROZPOCET | BE148: =IF(N148="základná",J148,0) -> 0 | BF148: =IF(N148="znížená",J148,0) -> 0 | BG148: =IF(N148="zákl. prenesená",J148,0) -> 0 | BH148: =IF(N148="zníž. prenesená",J148,0) -> 0 | BI148: =IF(N148="nulová",J148,0) -> 0 | BJ148: 2 | BK148: =ROUND(I148*H148,2) -> 0 | BL148: 16 | BM148: 30
C149: 16 | D149: M | E149: 7418012 | F149: paralelný adaptér 80/125 - 80/80 | G149: ks | H149: 1 | N149: znížená | O149: 0 | P149: =O149*H149 -> 0 | Q149: 0 | R149: =Q149*H149 -> 0 | S149: 0 | T149: =S149*H149 -> 0 | AR149: 32 | AT149: M | AU149: 1 | AY149: ROZPOCET | BE149: =IF(N149="základná",J149,0) -> 0 | BF149: =IF(N149="znížená",J149,0) -> 0 | BG149: =IF(N149="zákl. prenesená",J149,0) -> 0 | BH149: =IF(N149="zníž. prenesená",J149,0) -> 0 | BI149: =IF(N149="nulová",J149,0) -> 0 | BJ149: 2 | BK149: =ROUND(I149*H149,2) -> 0 | BL149: 16 | BM149: 32
C150: 17 | D150: M | E150: 7373338 | F150: rozšírenie D=60-80 | G150: ks | H150: 1 | N150: znížená | O150: 0 | P150: =O150*H150 -> 0 | Q150: 0 | R150: =Q150*H150 -> 0 | S150: 0 | T150: =S150*H150 -> 0 | AR150: 32 | AT150: M | AU150: 1 | AY150: ROZPOCET | BE150: =IF(N150="základná",J150,0) -> 0 | BF150: =IF(N150="znížená",J150,0) -> 0 | BG150: =IF(N150="zákl. prenesená",J150,0) -> 0 | BH150: =IF(N150="zníž. prenesená",J150,0) -> 0 | BI150: =IF(N150="nulová",J150,0) -> 0 | BJ150: 2 | BK150: =ROUND(I150*H150,2) -> 0 | BL150: 16 | BM150: 34
C151: 18 | D151: M | E151: 7194314 | F151: spalinové koleno 87° D=80 PPs (1ks) | G151: ks | H151: 1 | N151: znížená | O151: 0 | P151: =O151*H151 -> 0 | Q151: 0 | R151: =Q151*H151 -> 0 | S151: 0 | T151: =S151*H151 -> 0 | AR151: 32 | AT151: M | AU151: 1 | AY151: ROZPOCET | BE151: =IF(N151="základná",J151,0) -> 0 | BF151: =IF(N151="znížená",J151,0) -> 0 | BG151: =IF(N151="zákl. prenesená",J151,0) -> 0 | BH151: =IF(N151="zníž. prenesená",J151,0) -> 0 | BI151: =IF(N151="nulová",J151,0) -> 0 | BJ151: 2 | BK151: =ROUND(I151*H151,2) -> 0 | BL151: 16 | BM151: 36
C152: 19 | D152: M | E152: 7194313 | F152: revízny T-kus 87° PPs | G152: ks | H152: 1 | N152: znížená | O152: 0 | P152: =O152*H152 -> 0 | Q152: 0 | R152: =Q152*H152 -> 0 | S152: 0 | T152: =S152*H152 -> 0 | AR152: 32 | AT152: M | AU152: 1 | AY152: ROZPOCET | BE152: =IF(N152="základná",J152,0) -> 0 | BF152: =IF(N152="znížená",J152,0) -> 0 | BG152: =IF(N152="zákl. prenesená",J152,0) -> 0 | BH152: =IF(N152="zníž. prenesená",J152,0) -> 0 | BI152: =IF(N152="nulová",J152,0) -> 0 | BJ152: 2 | BK152: =ROUND(I152*H152,2) -> 0 | BL152: 16 | BM152: 38
C153: 20 | D153: M | E153: 7194315 | F153: spalinové koleno 45° D=80 PPs (2ks) | G153: bal | H153: 1 | N153: znížená | O153: 0 | P153: =O153*H153 -> 0 | Q153: 0 | R153: =Q153*H153 -> 0 | S153: 0 | T153: =S153*H153 -> 0 | AR153: 32 | AT153: M | AU153: 1 | AY153: ROZPOCET | BE153: =IF(N153="základná",J153,0) -> 0 | BF153: =IF(N153="znížená",J153,0) -> 0 | BG153: =IF(N153="zákl. prenesená",J153,0) -> 0 | BH153: =IF(N153="zníž. prenesená",J153,0) -> 0 | BI153: =IF(N153="nulová",J153,0) -> 0 | BJ153: 2 | BK153: =ROUND(I153*H153,2) -> 0 | BL153: 16 | BM153: 40
C154: 21 | D154: M | E154: 7194310 | F154: spalinová rúra D=80 L=1000 PPs (1ks) | G154: ks | H154: 4 | N154: znížená | O154: 0 | P154: =O154*H154 -> 0 | Q154: 0 | R154: =Q154*H154 -> 0 | S154: 0 | T154: =S154*H154 -> 0 | AR154: 32 | AT154: M | AU154: 1 | AY154: ROZPOCET | BE154: =IF(N154="základná",J154,0) -> 0 | BF154: =IF(N154="znížená",J154,0) -> 0 | BG154: =IF(N154="zákl. prenesená",J154,0) -> 0 | BH154: =IF(N154="zníž. prenesená",J154,0) -> 0 | BI154: =IF(N154="nulová",J154,0) -> 0 | BJ154: 2 | BK154: =ROUND(I154*H154,2) -> 0 | BL154: 16 | BM154: 42
... C178: 45 | D178: K | E178: 998731293.S | F178: Kotolne, prípl.za presun nad vymedz. najväčšiu dopravnú vzdialenosť do 500 m | G178: % | H178: 678.945 | N178: znížená | O178: 0 | P178: =O178*H178 -> 0 | Q178: 0 | R178: =Q178*H178 -> 0 | S178: 0 | T178: =S178*H178 -> 0 | AR178: 16 | AT178: K | AU178: 1 | AY178: ROZPOCET | BE178: =IF(N178="základná",J178,0) -> 0 | BF178: =IF(N178="znížená",J178,0) -> 0 | BG178: =IF(N178="zákl. prenesená",J178,0) -> 0 | BH178: =IF(N178="zníž. prenesená",J178,0) -> 0 | BI178: =IF(N178="nulová",J178,0) -> 0 | BJ178: 2 | BK178: =ROUND(I178*H178,2) -> 0 | BL178: 16 | BM178: 90
D179: D | E179: 732 | F179: Ústredné kúrenie - strojovne | P179: =SUM(P180:P202) -> 0 | R179: =SUM(R180:R202) -> 0 | T179: =SUM(T180:T202) -> 0 | AR179: 2 | AT179: D | AU179: 0 | AY179: ROZPOCET | BK179: =SUM(BK180:BK202) -> 0
C180: 46 | D180: K | E180: 732111402.S | F180: Montáž rozdeľovača a zberača združeného prietok Q 10 m3/h (modul 100 mm) | G180: ks | H180: 1 | N180: znížená | O180: 0 | P180: =O180*H180 -> 0 | Q180: 0 | R180: =Q180*H180 -> 0 | S180: 0 | T180: =S180*H180 -> 0 | AR180: 16 | AT180: K | AU180: 1 | AY180: ROZPOCET | BE180: =IF(N180="základná",J180,0) -> 0 | BF180: =IF(N180="znížená",J180,0) -> 0 | BG180: =IF(N180="zákl. prenesená",J180,0) -> 0 | BH180: =IF(N180="zníž. prenesená",J180,0) -> 0 | BI180: =IF(N180="nulová",J180,0) -> 0 | BJ180: 2 | BK180: =ROUND(I180*H180,2) -> 0 | BL180: 16 | BM180: 92
C181: 47 | D181: M | E181: 484650000200.S | F181: Rozdeľovač a zberač modul 100 mm, max. prietok 10 m3/hod, prevádzková teplota 110°C, pretlak 0,6 Mpa | G181: m | H181: 1 | N181: znížená | O181: 0 | P181: =O181*H181 -> 0 | Q181: 0 | R181: =Q181*H181 -> 0 | S181: 0 | T181: =S181*H181 -> 0 | AR181: 32 | AT181: M | AU181: 1 | AY181: ROZPOCET | BE181: =IF(N181="základná",J181,0) -> 0 | BF181: =IF(N181="znížená",J181,0) -> 0 | BG181: =IF(N181="zákl. prenesená",J181,0) -> 0 | BH181: =IF(N181="zníž. prenesená",J181,0) -> 0 | BI181: =IF(N181="nulová",J181,0) -> 0 | BJ181: 2 | BK181: =ROUND(I181*H181,2) -> 0 | BL181: 16 | BM181: 94
C182: 48 | D182: M | E182: 484650039400 | F182: Nastaviteľný stojan NS 80 - 100, výška 420 - 670 mm pre rozdeľovače a zberače RS KOMBI, RACEN | G182: ks | H182: 2 | N182: znížená | O182: 0 | P182: =O182*H182 -> 0 | Q182: 0 | R182: =Q182*H182 -> 0 | S182: 0 | T182: =S182*H182 -> 0 | AR182: 32 | AT182: M | AU182: 1 | AY182: ROZPOCET | BE182: =IF(N182="základná",J182,0) -> 0 | BF182: =IF(N182="znížená",J182,0) -> 0 | BG182: =IF(N182="zákl. prenesená",J182,0) -> 0 | BH182: =IF(N182="zníž. prenesená",J182,0) -> 0 | BI182: =IF(N182="nulová",J182,0) -> 0 | BJ182: 2 | BK182: =ROUND(I182*H182,2) -> 0 | BL182: 16 | BM182: 96
C183: 49 | D183: K | E183: 732230015.S | F183: Montáž akumulačnej nádoby vykurovacej vody bez výmenníka s izoláciou objem nad 1100 do 2000 l | G183: ks | H183: 1 | N183: znížená | O183: 0 | P183: =O183*H183 -> 0 | Q183: 0 | R183: =Q183*H183 -> 0 | S183: 0 | T183: =S183*H183 -> 0 | AR183: 16 | AT183: K | AU183: 1 | AY183: ROZPOCET | BE183: =IF(N183="základná",J183,0) -> 0 | BF183: =IF(N183="znížená",J183,0) -> 0 | BG183: =IF(N183="zákl. prenesená",J183,0) -> 0 | BH183: =IF(N183="zníž. prenesená",J183,0) -> 0 | BI183: =IF(N183="nulová",J183,0) -> 0 | BJ183: 2 | BK183: =ROUND(I183*H183,2) -> 0 | BL183: 16 | BM183: 98
C184: 50 | D184: M | E184: 241908 | F184: Akumulačná nádoba nesmaltovaná bez výmenníka Energy N 1500 AKU s odnímateľnou izoláciou Qtermo | G184: ks | H184: 1 | N184: znížená | O184: 0 | P184: =O184*H184 -> 0 | Q184: 0 | R184: =Q184*H184 -> 0 | S184: 0 | T184: =S184*H184 -> 0 | AR184: 32 | AT184: M | AU184: 1 | AY184: ROZPOCET | BE184: =IF(N184="základná",J184,0) -> 0 | BF184: =IF(N184="znížená",J184,0) -> 0 | BG184: =IF(N184="zákl. prenesená",J184,0) -> 0 | BH184: =IF(N184="zníž. prenesená",J184,0) -> 0 | BI184: =IF(N184="nulová",J184,0) -> 0 | BJ184: 2 | BK184: =ROUND(I184*H184,2) -> 0 | BL184: 16 | BM184: 100
C185: 51 | D185: K | E185: 732331057.S | F185: Montáž expanznej nádoby tlak 6 barov s membránou 250 l | G185: ks | H185: 1 | N185: znížená | O185: 0 | P185: =O185*H185 -> 0 | Q185: 0 | R185: =Q185*H185 -> 0 | S185: 0 | T185: =S185*H185 -> 0 | AR185: 16 | AT185: K | AU185: 1 | AY185: ROZPOCET | BE185: =IF(N185="základná",J185,0) -> 0 | BF185: =IF(N185="znížená",J185,0) -> 0 | BG185: =IF(N185="zákl. prenesená",J185,0) -> 0 | BH185: =IF(N185="zníž. prenesená",J185,0) -> 0 | BI185: =IF(N185="nulová",J185,0) -> 0 | BJ185: 2 | BK185: =ROUND(I185*H185,2) -> 0 | BL185: 16 | BM185: 102
C186: 52 | D186: M | E186: 484630007000 | F186: Nádoba expanzná s membránou typ N 250 l, D 634 mm, v 920 mm, pripojenie R 1", 6 bar, šedá, REFLEX | G186: ks | H186: 1 | N186: znížená | O186: 0 | P186: =O186*H186 -> 0 | Q186: 0 | R186: =Q186*H186 -> 0 | S186: 0 | T186: =S186*H186 -> 0 | AR186: 32 | AT186: M | AU186: 1 | AY186: ROZPOCET | BE186: =IF(N186="základná",J186,0) -> 0 | BF186: =IF(N186="znížená",J186,0) -> 0 | BG186: =IF(N186="zákl. prenesená",J186,0) -> 0 | BH186: =IF(N186="zníž. prenesená",J186,0) -> 0 | BI186: =IF(N186="nulová",J186,0) -> 0 | BJ186: 2 | BK186: =ROUND(I186*H186,2) -> 0 | BL186: 16 | BM186: 104
C187: 53 | D187: M | E187: 7613100 | F187: MK 1", guľový kohút so zaistením | G187: ks | H187: 1 | N187: znížená | O187: 0 | P187: =O187*H187 -> 0 | Q187: 0 | R187: =Q187*H187 -> 0 | S187: 0 | T187: =S187*H187 -> 0 | AR187: 32 | AT187: M | AU187: 1 | AY187: ROZPOCET | BE187: =IF(N187="základná",J187,0) -> 0 | BF187: =IF(N187="znížená",J187,0) -> 0 | BG187: =IF(N187="zákl. prenesená",J187,0) -> 0 | BH187: =IF(N187="zníž. prenesená",J187,0) -> 0 | BI187: =IF(N187="nulová",J187,0) -> 0 | BJ187: 2 | BK187: =ROUND(I187*H187,2) -> 0 | BL187: 16 | BM187: 106
...

Sheet VZT1 - Vzduchotechnika - ...
L2: >> skryté stĺpce << | AT2: {ca2632a8-cfaf-45cb-9672-69aadbebd068}
AT3: 0
D4: KRYCÍ LIST ROZPOČTU | M4: v --- nižšie sa nachádzajú doplnkové a pomocné údaje k zostavám --- v | AT4: False
D6: Stavba:
E7: ='Rekapitulácia stavby'!K6 -> Športová hala OLYMPIA v Nitre
D8: Objekt:
E9: SO01 - Športová hala, Nitra
D10: Časť:
E11: VZT1 - Vzduchotechnika - AXIMA
D13: JKSO: | I13: ČS:
D14: Miesto: | F14: Nitra | I14: Dátum: | J14: ='Rekapitulácia stavby'!AN8 -> 8. 7. 2025
D16: Objednávateľ: | I16: IČO: | J16: =IF('Rekapitulácia stavby'!AN10="","",'Rekapitulácia stavby'!AN10)
E17: =IF('Rekapitulácia stavby'!E11="","",'Rekapitulácia stavby'!E11) -> Športová hala OLYMPIA s.r.o. | I17: IČ DPH: | J17: =IF('Rekapitulácia stavby'!AN11="","",'Rekapitulácia stavby'!AN11)
D19: Zhotoviteľ: | I19: IČO:
I20: IČ DPH:
D22: Projektant: | I22: IČO: | J22: =IF('Rekapitulácia stavby'!AN16="","",'Rekapitulácia stavby'!AN16)
E23: =IF('Rekapitulácia stavby'!E17="","",'Rekapitulácia stavby'!E17) -> Ing. Stanislav Karas | I23: IČ DPH: | J23: =IF('Rekapitulácia stavby'!AN17="","",'Rekapitulácia stavby'!AN17)
D25: Spracovateľ: | I25: IČO: | J25: =IF('Rekapitulácia stavby'!AN19="","",'Rekapitulácia stavby'!AN19)
E26: =IF('Rekapitulácia stavby'!E20="","",'Rekapitulácia stavby'!E20) | I26: IČ DPH: | J26: =IF('Rekapitulácia stavby'!AN20="","",'Rekapitulácia stavby'!AN20)
D28: Poznámka:
D32: Cena bez DPH | J32: =ROUND(J128, 2) -> 0
F34: Základ dane | I34: Sadzba dane | J34: Výška dane
D35: DPH | E35: základná | F35: =ROUND((SUM(BE128:BE173)), 2) -> 0 | I35: 0.23 | J35: =ROUND(((SUM(BE128:BE173))*I35), 2) -> 0
E36: znížená | F36: =ROUND((SUM(BF128:BF173)), 2) -> 0 | I36: 0.23 | J36: =ROUND(((SUM(BF128:BF173))*I36), 2) -> 0
E37: zákl. prenesená | F37: =ROUND((SUM(BG128:BG173)), 2) -> 0 | I37: 0.23 | J37: =0 -> 0
E38: zníž. prenesená | F38: =ROUND((SUM(BH128:BH173)), 2) -> 0 | I38: 0.23 | J38: =0 -> 0
E39: nulová | F39: =ROUND((SUM(BI128:BI173)), 2) -> 0 | I39: 0 | J39: =0 -> 0
D41: Cena s DPH | G41: v | H41: EUR | J41: =SUM(J32:J39) -> 0
D50: Projektant | G50: Spracovateľ
D61: Dátum a podpis: | F61: Pečiatka | G61: Dátum a podpis: | J61: Pečiatka
D65: Objednávateľ | G65: Zhotoviteľ
D76: Dátum a podpis: | F76: Pečiatka | G76: Dátum a podpis: | J76: Pečiatka
C82: REKAPITULÁCIA ROZPOČTU
C84: Stavba:
E85: =E7 -> Športová hala OLYMPIA v Nitre
C86: Objekt:
E87: SO01 - Športová hala, Nitra
C88: Časť:
E89: =E11 -> VZT1 - Vzduchotechnika - AXIMA
C91: Miesto: | F91: =F14 -> Nitra | I91: Dátum: | J91: =IF(J14="","",J14) -> 8. 7. 2025
C93: Objednávateľ: | F93: =E17 -> Športová hala OLYMPIA s.r.o. | I93: Projektant: | J93: =E23 -> Ing. Stanislav Karas
C94: Zhotoviteľ: | F94: =IF(E20="","",E20) | I94: Spracovateľ: | J94: =E26
C96: Kód dielu - Popis | J96: Cena celkom [EUR]
