Workbook

Sheet Rekapitulácia stavby
A1: Export Komplet | BA1: 2.0 | BT1: False | BU1: False | BV1: {78117b04-890b-4791-bb3f-9724a829f88c}
AR2: >> skryté stĺpce << | BS2: 0,01 | BT2: 23
BS3: 0,01 | BT3: 23
D4: REKAPITULÁCIA STAVBY | AS4: v --- nižšie sa nachádzajú doplnkové a pomocné údaje k zostavám --- v | BS4: 0,001
D5: Kód: | K5: 25001b | BS5: 0,01
D6: Stavba: | K6: Športová hala OLYMPIA v Nitre | BS6: 0,01
D7: JKSO: | AK7: ČS: | BS7: 0,01
D8: Miesto: | K8: Nitra | AK8: Dátum: | AN8: 8. 7. 2025 | BS8: 0,01
BS9: 0,01
D10: Objednávateľ: | AK10: IČO: | BS10: 0,01
E11: Športová hala OLYMPIA s.r.o. | AK11: IČ DPH: | BS11: 0,01
BS12: 0,01
D13: Zhotoviteľ: | AK13: IČO: | BS13: 0,01
AK14: IČ DPH: | BS14: 0,01
BS15: False
D16: Projektant: | AK16: IČO: | BS16: False
E17: Ing. Stanislav Karas | AK17: IČ DPH: | BS17: True
BS18: 0,01
D19: Spracovateľ: | AK19: IČO: | BS19: 0,01
AK20: IČ DPH: | BS20: True
D22: Poznámka:
D26: Cena bez DPH | AK26: =ROUND(AG94,2) -> 0
L28: Sadzba dane | W28: Základ dane | AK28: Výška dane
D29: DPH | F29: základná | L29: 0.23 | W29: =ROUND(AZ94, 2) -> 0 | AK29: =ROUND(AV94, 2) -> 0
F30: znížená | L30: 0.23 | W30: =ROUND(BA94, 2) -> 0 | AK30: =ROUND(AW94, 2) -> 0
F31: zákl. prenesená | L31: 0.23 | W31: =ROUND(BB94, 2) -> 0 | AK31: 0
F32: zníž. prenesená | L32: 0.23 | W32: =ROUND(BC94, 2) -> 0 | AK32: 0
F33: nulová | L33: 0 | W33: =ROUND(BD94, 2) -> 0 | AK33: 0
D35: Cena s DPH | T35: v | X35: EUR | AK35: =SUM(AK26:AK33) -> 0
D49: Projektant | AH49: Spracovateľ
D60: Dátum a podpis: | V60: Pečiatka | AH60: Dátum a podpis: | AM60: Pečiatka
D64: Objednávateľ | AH64: Zhotoviteľ
D75: Dátum a podpis: | V75: Pečiatka | AH75: Dátum a podpis: | AM75: Pečiatka
C82: REKAPITULÁCIA OBJEKTOV STAVBY
C84: Kód: | L84: =K5 -> 25001b
C85: Stavba: | L85: =K6 -> Športová hala OLYMPIA v Nitre
C87: Miesto: | L87: =IF(K8="","",K8) -> Nitra | AI87: Dátum: | AM87: =IF(AN8= "","",AN8) -> 8. 7. 2025
C89: Objednávateľ: | L89: =IF(E11= "","",E11) -> Športová hala OLYMPIA s.r.o. | AI89: Projektant: | AM89: =IF(E17="","",E17) -> Ing. Stanislav Karas | AS89: Informatívne údaje z listov zákaziek
C90: Zhotoviteľ: | L90: =IF(E14="","",E14) | AI90: Spracovateľ: | AM90: =IF(E20="","",E20)
C92: Kód | I92: Popis | AG92: Cena bez DPH [EUR] | AN92: Cena s DPH [EUR] | AQ92: Typ | AS92: z toho Ostat._x000D_ náklady [EUR] | AT92: DPH [EUR] | AU92: Normohodiny [h] | AV92: DPH základná [EUR] | AW92: DPH znížená [EUR] | AX92: DPH základná prenesená_x000D_ [EUR] | AY92: DPH znížená prenesená_x000D_ [EUR] | AZ92: Základňa_x000D_ DPH základná | BA92: Základňa_x000D_ DPH znížená | BB92: Základňa_x000D_ DPH zákl. prenesená | BC92: Základňa_x000D_ DPH zníž. prenesená | BD92: Základňa_x000D_ DPH nulová
...

Sheet ARCH - Architektúra - sta...
L2: >> skryté stĺpce << | AT2: {a84b5676-3dad-4fd6-977d-601657506d24}
AT3: 0
D4: KRYCÍ LIST ROZPOČTU | M4: v --- nižšie sa nachádzajú doplnkové a pomocné údaje k zostavám --- v | AT4: False
D6: Stavba:
E7: ='Rekapitulácia stavby'!K6 -> Športová hala OLYMPIA v Nitre
D8: Objekt:
E9: SO01 - Športová hala, Nitra
D10: Časť:
E11: ARCH - Architektúra - stavebná časť
D13: JKSO: | I13: ČS:
D14: Miesto: | F14: Nitra | I14: Dátum: | J14: ='Rekapitulácia stavby'!AN8 -> 8. 7. 2025
D16: Objednávateľ: | I16: IČO:
E17: Športová hala OLYMPIA s.r.o. | I17: IČ DPH:
D19: Zhotoviteľ: | I19: IČO:
I20: IČ DPH:
D22: Projektant: | I22: IČO:
E23: Ing. Stanislav Karas | I23: IČ DPH:
D25: Spracovateľ: | I25: IČO:
I26: IČ DPH:
D28: Poznámka:
D32: Cena bez DPH | J32: =ROUND(J149, 2) -> 0
F34: Základ dane | I34: Sadzba dane | J34: Výška dane
D35: DPH | E35: základná | F35: =ROUND((SUM(BE149:BE409)), 2) -> 0 | I35: 0.23 | J35: =ROUND(((SUM(BE149:BE409))*I35), 2) -> 0
E36: znížená | F36: =ROUND((SUM(BF149:BF409)), 2) -> 0 | I36: 0.23 | J36: =ROUND(((SUM(BF149:BF409))*I36), 2) -> 0
E37: zákl. prenesená | F37: =ROUND((SUM(BG149:BG409)), 2) -> 0 | I37: 0.23 | J37: =0 -> 0
E38: zníž. prenesená | F38: =ROUND((SUM(BH149:BH409)), 2) -> 0 | I38: 0.23 | J38: =0 -> 0
E39: nulová | F39: =ROUND((SUM(BI149:BI409)), 2) -> 0 | I39: 0 | J39: =0 -> 0
D41: Cena s DPH | G41: v | H41: EUR | J41: =SUM(J32:J39) -> 0
D50: Projektant | G50: Spracovateľ
D61: Dátum a podpis: | F61: Pečiatka | G61: Dátum a podpis: | J61: Pečiatka
D65: Objednávateľ | G65: Zhotoviteľ
D76: Dátum a podpis: | F76: Pečiatka | G76: Dátum a podpis: | J76: Pečiatka
C82: REKAPITULÁCIA ROZPOČTU
C84: Stavba:
E85: =E7 -> Športová hala OLYMPIA v Nitre
C86: Objekt:
E87: SO01 - Športová hala, Nitra
C88: Časť:
E89: =E11 -> ARCH - Architektúra - stavebná časť
C91: Miesto: | F91: =F14 -> Nitra | I91: Dátum: | J91: =IF(J14="","",J14) -> 8. 7. 2025
...

Sheet EL1 - Elektroinštalácia
L2: >> skryté stĺpce << | AT2: {eeb7e030-68df-4fbf-a658-2618afee56d5}
AT3: 0
D4: KRYCÍ LIST ROZPOČTU | M4: v --- nižšie sa nachádzajú doplnkové a pomocné údaje k zostavám --- v | AT4: False
D6: Stavba:
E7: ='Rekapitulácia stavby'!K6 -> Športová hala OLYMPIA v Nitre
D8: Objekt:
E9: SO01 - Športová hala, Nitra
D10: Časť:
E11: EL - Elektroinštalácia
D12: Úroveň 3:
E13: EL1 - Elektroinštalácia
D15: JKSO: | I15: ČS:
D16: Miesto: | F16: Nitra | I16: Dátum: | J16: ='Rekapitulácia stavby'!AN8 -> 8. 7. 2025
D18: Objednávateľ: | I18: IČO:
E19: Športová hala OLYMPIA s.r.o. Nitra | I19: IČ DPH:
D21: Zhotoviteľ: | I21: IČO:
I22: IČ DPH:
D24: Projektant: | I24: IČO:
E25: Ing. Stanislav Karas | I25: IČ DPH:
D27: Spracovateľ: | I27: IČO:
I28: IČ DPH:
D30: Poznámka:
D34: Cena bez DPH | J34: =ROUND(J127, 2) -> 0
F36: Základ dane | I36: Sadzba dane | J36: Výška dane
D37: DPH | E37: základná | F37: =ROUND((SUM(BE127:BE202)), 2) -> 0 | I37: 0.23 | J37: =ROUND(((SUM(BE127:BE202))*I37), 2) -> 0
E38: znížená | F38: =ROUND((SUM(BF127:BF202)), 2) -> 0 | I38: 0.23 | J38: =ROUND(((SUM(BF127:BF202))*I38), 2) -> 0
E39: zákl. prenesená | F39: =ROUND((SUM(BG127:BG202)), 2) -> 0 | I39: 0.23 | J39: =0 -> 0
E40: zníž. prenesená | F40: =ROUND((SUM(BH127:BH202)), 2) -> 0 | I40: 0.23 | J40: =0 -> 0
E41: nulová | F41: =ROUND((SUM(BI127:BI202)), 2) -> 0 | I41: 0 | J41: =0 -> 0
D43: Cena s DPH | G43: v | H43: EUR | J43: =SUM(J34:J41) -> 0
D50: Projektant | G50: Spracovateľ
D61: Dátum a podpis: | F61: Pečiatka | G61: Dátum a podpis: | J61: Pečiatka
D65: Objednávateľ | G65: Zhotoviteľ
D76: Dátum a podpis: | F76: Pečiatka | G76: Dátum a podpis: | J76: Pečiatka
C82: REKAPITULÁCIA ROZPOČTU
C84: Stavba:
E85: =E7 -> Športová hala OLYMPIA v Nitre
C86: Objekt:
E87: SO01 - Športová hala, Nitra
C88: Časť:
...

Sheet EL2 - Bleskozvod + Uzemnenie
L2: >> skryté stĺpce << | AT2: {fd753120-6828-416c-90db-32f963bcef9f}
AT3: 0
D4: KRYCÍ LIST ROZPOČTU | M4: v --- nižšie sa nachádzajú doplnkové a pomocné údaje k zostavám --- v | AT4: False
D6: Stavba:
E7: ='Rekapitulácia stavby'!K6 -> Športová hala OLYMPIA v Nitre
D8: Objekt:
E9: SO01 - Športová hala, Nitra
D10: Časť:
E11: EL - Elektroinštalácia
D12: Úroveň 3:
E13: EL2 - Bleskozvod + Uzemnenie
D15: JKSO: | I15: ČS:
D16: Miesto: | F16: Nitra | I16: Dátum: | J16: ='Rekapitulácia stavby'!AN8 -> 8. 7. 2025
D18: Objednávateľ: | I18: IČO:
E19: Športová hala OLYMPIA s.r.o. | I19: IČ DPH:
D21: Zhotoviteľ: | I21: IČO:
I22: IČ DPH:
D24: Projektant: | I24: IČO:
E25: Ing. Stanislav Karas | I25: IČ DPH:
D27: Spracovateľ: | I27: IČO:
I28: IČ DPH:
D30: Poznámka:
D34: Cena bez DPH | J34: =ROUND(J127, 2) -> 0
F36: Základ dane | I36: Sadzba dane | J36: Výška dane
D37: DPH | E37: základná | F37: =ROUND((SUM(BE127:BE180)), 2) -> 0 | I37: 0.23 | J37: =ROUND(((SUM(BE127:BE180))*I37), 2) -> 0
E38: znížená | F38: =ROUND((SUM(BF127:BF180)), 2) -> 0 | I38: 0.23 | J38: =ROUND(((SUM(BF127:BF180))*I38), 2) -> 0
E39: zákl. prenesená | F39: =ROUND((SUM(BG127:BG180)), 2) -> 0 | I39: 0.23 | J39: =0 -> 0
E40: zníž. prenesená | F40: =ROUND((SUM(BH127:BH180)), 2) -> 0 | I40: 0.23 | J40: =0 -> 0
E41: nulová | F41: =ROUND((SUM(BI127:BI180)), 2) -> 0 | I41: 0 | J41: =0 -> 0
D43: Cena s DPH | G43: v | H43: EUR | J43: =SUM(J34:J41) -> 0
D50: Projektant | G50: Spracovateľ
D61: Dátum a podpis: | F61: Pečiatka | G61: Dátum a podpis: | J61: Pečiatka
D65: Objednávateľ | G65: Zhotoviteľ
D76: Dátum a podpis: | F76: Pečiatka | G76: Dátum a podpis: | J76: Pečiatka
C82: REKAPITULÁCIA ROZPOČTU
C84: Stavba:
E85: =E7 -> Športová hala OLYMPIA v Nitre
C86: Objekt:
E87: SO01 - Športová hala, Nitra
C88: Časť:
...

Sheet EL3 - Svietidlá
L2: >> skryté stĺpce << | AT2: {7528dafb-23a8-4f06-8317-ad9c46040f8d}
AT3: 0
D4: KRYCÍ LIST ROZPOČTU | M4: v --- nižšie sa nachádzajú doplnkové a pomocné údaje k zostavám --- v | AT4: False
D6: Stavba:
E7: ='Rekapitulácia stavby'!K6 -> Športová hala OLYMPIA v Nitre
D8: Objekt:
E9: SO01 - Športová hala, Nitra
D10: Časť:
E11: EL - Elektroinštalácia
D12: Úroveň 3:
E13: EL3 - Svietidlá
D15: JKSO: | I15: ČS:
D16: Miesto: | F16: Nitra | I16: Dátum: | J16: ='Rekapitulácia stavby'!AN8 -> 8. 7. 2025
D18: Objednávateľ: | I18: IČO:
E19: Športová hala OLYMPIA s.r.o. | I19: IČ DPH:
D21: Zhotoviteľ: | I21: IČO:
I22: IČ DPH:
D24: Projektant: | I24: IČO:
E25: Ing. Stanislav Karas | I25: IČ DPH:
D27: Spracovateľ: | I27: IČO:
I28: IČ DPH:
D30: Poznámka:
D34: Cena bez DPH | J34: =ROUND(J126, 2) -> 0
F36: Základ dane | I36: Sadzba dane | J36: Výška dane
D37: DPH | E37: základná | F37: =ROUND((SUM(BE126:BE174)), 2) -> 0 | I37: 0.23 | J37: =ROUND(((SUM(BE126:BE174))*I37), 2) -> 0
E38: znížená | F38: =ROUND((SUM(BF126:BF174)), 2) -> 0 | I38: 0.23 | J38: =ROUND(((SUM(BF126:BF174))*I38), 2) -> 0
E39: zákl. prenesená | F39: =ROUND((SUM(BG126:BG174)), 2) -> 0 | I39: 0.23 | J39: =0 -> 0
E40: zníž. prenesená | F40: =ROUND((SUM(BH126:BH174)), 2) -> 0 | I40: 0.23 | J40: =0 -> 0
E41: nulová | F41: =ROUND((SUM(BI126:BI174)), 2) -> 0 | I41: 0 | J41: =0 -> 0
D43: Cena s DPH | G43: v | H43: EUR | J43: =SUM(J34:J41) -> 0
D50: Projektant | G50: Spracovateľ
D61: Dátum a podpis: | F61: Pečiatka | G61: Dátum a podpis: | J61: Pečiatka
D65: Objednávateľ | G65: Zhotoviteľ
D76: Dátum a podpis: | F76: Pečiatka | G76: Dátum a podpis: | J76: Pečiatka
C82: REKAPITULÁCIA ROZPOČTU
C84: Stavba:
E85: =E7 -> Športová hala OLYMPIA v Nitre
C86: Objekt:
E87: SO01 - Športová hala, Nitra
C88: Časť:
...

Sheet EL4 - Vedenie 
L2: >> skryté stĺpce << | AT2: {0a52e7fe-dfe0-47d2-9bd0-5b3a0fc722bb}
AT3: 0
D4: KRYCÍ LIST ROZPOČTU | M4: v --- nižšie sa nachádzajú doplnkové a pomocné údaje k zostavám --- v | AT4: False
D6: Stavba:
E7: ='Rekapitulácia stavby'!K6 -> Športová hala OLYMPIA v Nitre
D8: Objekt:
E9: SO01 - Športová hala, Nitra
D10: Časť:
E11: EL - Elektroinštalácia
D12: Úroveň 3:
E13: EL4 - Vedenie
D15: JKSO: | I15: ČS:
D16: Miesto: | F16: Nitra | I16: Dátum: | J16: ='Rekapitulácia stavby'!AN8 -> 8. 7. 2025
D18: Objednávateľ: | I18: IČO:
E19: Športová hala OLYMPIA s.r.o. | I19: IČ DPH:
D21: Zhotoviteľ: | I21: IČO:
I22: IČ DPH:
D24: Projektant: | I24: IČO:
E25: Ing. Stanislav Karas | I25: IČ DPH:
D27: Spracovateľ: | I27: IČO:
I28: IČ DPH:
D30: Poznámka:
D34: Cena bez DPH | J34: =ROUND(J126, 2) -> 0
F36: Základ dane | I36: Sadzba dane | J36: Výška dane
D37: DPH | E37: základná | F37: =ROUND((SUM(BE126:BE196)), 2) -> 0 | I37: 0.23 | J37: =ROUND(((SUM(BE126:BE196))*I37), 2) -> 0
E38: znížená | F38: =ROUND((SUM(BF126:BF196)), 2) -> 0 | I38: 0.23 | J38: =ROUND(((SUM(BF126:BF196))*I38), 2) -> 0
E39: zákl. prenesená | F39: =ROUND((SUM(BG126:BG196)), 2) -> 0 | I39: 0.23 | J39: =0 -> 0
E40: zníž. prenesená | F40: =ROUND((SUM(BH126:BH196)), 2) -> 0 | I40: 0.23 | J40: =0 -> 0
E41: nulová | F41: =ROUND((SUM(BI126:BI196)), 2) -> 0 | I41: 0 | J41: =0 -> 0
D43: Cena s DPH | G43: v | H43: EUR | J43: =SUM(J34:J41) -> 0
D50: Projektant | G50: Spracovateľ
D61: Dátum a podpis: | F61: Pečiatka | G61: Dátum a podpis: | J61: Pečiatka
D65: Objednávateľ | G65: Zhotoviteľ
D76: Dátum a podpis: | F76: Pečiatka | G76: Dátum a podpis: | J76: Pečiatka
C82: REKAPITULÁCIA ROZPOČTU
C84: Stavba:
E85: =E7 -> Športová hala OLYMPIA v Nitre
C86: Objekt:
E87: SO01 - Športová hala, Nitra
C88: Časť:
...

Sheet EPS - EPS
L2: >> skryté stĺpce << | AT2: {be0f8268-45ba-4239-b254-86f8f23f5d19}
AT3: 0
D4: KRYCÍ LIST ROZPOČTU | M4: v --- nižšie sa nachádzajú doplnkové a pomocné údaje k zostavám --- v | AT4: False
D6: Stavba:
E7: ='Rekapitulácia stavby'!K6 -> Športová hala OLYMPIA v Nitre
D8: Objekt:
E9: SO01 - Športová hala, Nitra
D10: Časť:
E11: EPS - EPS
D13: JKSO: | I13: ČS:
D14: Miesto: | F14: Nitra | I14: Dátum: | J14: ='Rekapitulácia stavby'!AN8 -> 8. 7. 2025
D16: Objednávateľ: | I16: IČO:
E17: Športová hala OLYMPIA s.r.o. | I17: IČ DPH:
D19: Zhotoviteľ: | I19: IČO:
I20: IČ DPH:
D22: Projektant: | I22: IČO:
E23: Ing. Stanislav Karas | I23: IČ DPH:
D25: Spracovateľ: | I25: IČO:
I26: IČ DPH:
D28: Poznámka:
D32: Cena bez DPH | J32: =ROUND(J125, 2) -> 0
F34: Základ dane | I34: Sadzba dane | J34: Výška dane
D35: DPH | E35: základná | F35: =ROUND((SUM(BE125:BE173)), 2) -> 0 | I35: 0.23 | J35: =ROUND(((SUM(BE125:BE173))*I35), 2) -> 0
E36: znížená | F36: =ROUND((SUM(BF125:BF173)), 2) -> 0 | I36: 0.23 | J36: =ROUND(((SUM(BF125:BF173))*I36), 2) -> 0
E37: zákl. prenesená | F37: =ROUND((SUM(BG125:BG173)), 2) -> 0 | I37: 0.23 | J37: =0 -> 0
E38: zníž. prenesená | F38: =ROUND((SUM(BH125:BH173)), 2) -> 0 | I38: 0.23 | J38: =0 -> 0
E39: nulová | F39: =ROUND((SUM(BI125:BI173)), 2) -> 0 | I39: 0 | J39: =0 -> 0
D41: Cena s DPH | G41: v | H41: EUR | J41: =SUM(J32:J39) -> 0
D50: Projektant | G50: Spracovateľ
D61: Dátum a podpis: | F61: Pečiatka | G61: Dátum a podpis: | J61: Pečiatka
D65: Objednávateľ | G65: Zhotoviteľ
D76: Dátum a podpis: | F76: Pečiatka | G76: Dátum a podpis: | J76: Pečiatka
C82: REKAPITULÁCIA ROZPOČTU
C84: Stavba:
E85: =E7 -> Športová hala OLYMPIA v Nitre
C86: Objekt:
E87: SO01 - Športová hala, Nitra
C88: Časť:
E89: =E11 -> EPS - EPS
C91: Miesto: | F91: =F14 -> Nitra | I91: Dátum: | J91: =IF(J14="","",J14) -> 8. 7. 2025
...

Sheet HSP - HSP
L2: >> skryté stĺpce << | AT2: {1decfeaf-05d5-4d4f-90ee-c7c5f8f4625c}
AT3: 0
D4: KRYCÍ LIST ROZPOČTU | M4: v --- nižšie sa nachádzajú doplnkové a pomocné údaje k zostavám --- v | AT4: False
D6: Stavba:
E7: ='Rekapitulácia stavby'!K6 -> Športová hala OLYMPIA v Nitre
D8: Objekt:
E9: SO01 - Športová hala, Nitra
D10: Časť:
E11: HSP - HSP
D13: JKSO: | I13: ČS:
D14: Miesto: | F14: Nitra | I14: Dátum: | J14: ='Rekapitulácia stavby'!AN8 -> 8. 7. 2025
D16: Objednávateľ: | I16: IČO:
E17: Športová hala OLYMPIA s.r.o. | I17: IČ DPH:
D19: Zhotoviteľ: | I19: IČO:
I20: IČ DPH:
D22: Projektant: | I22: IČO:
E23: Ing. Stanislav Karas | I23: IČ DPH:
D25: Spracovateľ: | I25: IČO:
I26: IČ DPH:
D28: Poznámka:
D32: Cena bez DPH | J32: =ROUND(J125, 2) -> 0
F34: Základ dane | I34: Sadzba dane | J34: Výška dane
D35: DPH | E35: základná | F35: =ROUND((SUM(BE125:BE159)), 2) -> 0 | I35: 0.23 | J35: =ROUND(((SUM(BE125:BE159))*I35), 2) -> 0
E36: znížená | F36: =ROUND((SUM(BF125:BF159)), 2) -> 0 | I36: 0.23 | J36: =ROUND(((SUM(BF125:BF159))*I36), 2) -> 0
E37: zákl. prenesená | F37: =ROUND((SUM(BG125:BG159)), 2) -> 0 | I37: 0.23 | J37: =0 -> 0
E38: zníž. prenesená | F38: =ROUND((SUM(BH125:BH159)), 2) -> 0 | I38: 0.23 | J38: =0 -> 0
E39: nulová | F39: =ROUND((SUM(BI125:BI159)), 2) -> 0 | I39: 0 | J39: =0 -> 0
D41: Cena s DPH | G41: v | H41: EUR | J41: =SUM(J32:J39) -> 0
D50: Projektant | G50: Spracovateľ
D61: Dátum a podpis: | F61: Pečiatka | G61: Dátum a podpis: | J61: Pečiatka
D65: Objednávateľ | G65: Zhotoviteľ
D76: Dátum a podpis: | F76: Pečiatka | G76: Dátum a podpis: | J76: Pečiatka
C82: REKAPITULÁCIA ROZPOČTU
C84: Stavba:
E85: =E7 -> Športová hala OLYMPIA v Nitre
C86: Objekt:
E87: SO01 - Športová hala, Nitra
C88: Časť:
E89: =E11 -> HSP - HSP
C91: Miesto: | F91: =F14 -> Nitra | I91: Dátum: | J91: =IF(J14="","",J14) -> 8. 7. 2025
...

Sheet ZOT - ZOTa SH
L2: >> skryté stĺpce << | AT2: {c1c7a227-9371-43ec-9bed-baff6eca22df}
AT3: 0
D4: KRYCÍ LIST ROZPOČTU | M4: v --- nižšie sa nachádzajú doplnkové a pomocné údaje k zostavám --- v | AT4: False
D6: Stavba:
E7: ='Rekapitulácia stavby'!K6 -> Športová hala OLYMPIA v Nitre
D8: Objekt:
E9: SO01 - Športová hala, Nitra
D10: Časť:
E11: ZOT - ZOTa SH
D13: JKSO: | I13: ČS:
D14: Miesto: | F14: Nitra | I14: Dátum: | J14: ='Rekapitulácia stavby'!AN8 -> 8. 7. 2025
D16: Objednávateľ: | I16: IČO:
E17: Športová hala OLYMPIA s.r.o. | I17: IČ DPH:
D19: Zhotoviteľ: | I19: IČO:
I20: IČ DPH:
D22: Projektant: | I22: IČO:
E23: Ing. Stanislav Karas | I23: IČ DPH:
D25: Spracovateľ: | I25: IČO:
I26: IČ DPH:
D28: Poznámka:
D32: Cena bez DPH | J32: =ROUND(J121, 2) -> 0
F34: Základ dane | I34: Sadzba dane | J34: Výška dane
D35: DPH | E35: základná | F35: =ROUND((SUM(BE121:BE127)), 2) -> 0 | I35: 0.23 | J35: =ROUND(((SUM(BE121:BE127))*I35), 2) -> 0
E36: znížená | F36: =ROUND((SUM(BF121:BF127)), 2) -> 0 | I36: 0.23 | J36: =ROUND(((SUM(BF121:BF127))*I36), 2) -> 0
E37: zákl. prenesená | F37: =ROUND((SUM(BG121:BG127)), 2) -> 0 | I37: 0.23 | J37: =0 -> 0
E38: zníž. prenesená | F38: =ROUND((SUM(BH121:BH127)), 2) -> 0 | I38: 0.23 | J38: =0 -> 0
E39: nulová | F39: =ROUND((SUM(BI121:BI127)), 2) -> 0 | I39: 0 | J39: =0 -> 0
D41: Cena s DPH | G41: v | H41: EUR | J41: =SUM(J32:J39) -> 0
D50: Projektant | G50: Spracovateľ
D61: Dátum a podpis: | F61: Pečiatka | G61: Dátum a podpis: | J61: Pečiatka
D65: Objednávateľ | G65: Zhotoviteľ
D76: Dátum a podpis: | F76: Pečiatka | G76: Dátum a podpis: | J76: Pečiatka
C82: REKAPITULÁCIA ROZPOČTU
C84: Stavba:
E85: =E7 -> Športová hala OLYMPIA v Nitre
C86: Objekt:
E87: SO01 - Športová hala, Nitra
C88: Časť:
E89: =E11 -> ZOT - ZOTa SH
C91: Miesto: | F91: =F14 -> Nitra | I91: Dátum: | J91: =IF(J14="","",J14) -> 8. 7. 2025
...

Sheet ZT - Zdravotechnika
L2: >> skryté stĺpce << | AT2: {59ad852f-ebe3-4382-81d4-e7090fa9e922}
AT3: 0
D4: KRYCÍ LIST ROZPOČTU | M4: v --- nižšie sa nachádzajú doplnkové a pomocné údaje k zostavám --- v | AT4: False
D6: Stavba:
E7: ='Rekapitulácia stavby'!K6 -> Športová hala OLYMPIA v Nitre
D8: Objekt:
E9: SO01 - Športová hala, Nitra
D10: Časť:
E11: ZT - Zdravotechnika
D13: JKSO: | I13: ČS:
D14: Miesto: | F14: Nitra | I14: Dátum: | J14: ='Rekapitulácia stavby'!AN8 -> 8. 7. 2025
D16: Objednávateľ: | I16: IČO:
E17: Športová hala OLYMPIA s.r.o. | I17: IČ DPH:
D19: Zhotoviteľ: | I19: IČO:
I20: IČ DPH:
D22: Projektant: | I22: IČO:
E23: Ing. Stanislav Karas | I23: IČ DPH:
D25: Spracovateľ: | I25: IČO:
I26: IČ DPH:
D28: Poznámka:
D32: Cena bez DPH | J32: =ROUND(J130, 2) -> 0
F34: Základ dane | I34: Sadzba dane | J34: Výška dane
D35: DPH | E35: základná | F35: =ROUND((SUM(BE130:BE318)), 2) -> 0 | I35: 0.23 | J35: =ROUND(((SUM(BE130:BE318))*I35), 2) -> 0
E36: znížená | F36: =ROUND((SUM(BF130:BF318)), 2) -> 0 | I36: 0.23 | J36: =ROUND(((SUM(BF130:BF318))*I36), 2) -> 0
E37: zákl. prenesená | F37: =ROUND((SUM(BG130:BG318)), 2) -> 0 | I37: 0.23 | J37: =0 -> 0
E38: zníž. prenesená | F38: =ROUND((SUM(BH130:BH318)), 2) -> 0 | I38: 0.23 | J38: =0 -> 0
E39: nulová | F39: =ROUND((SUM(BI130:BI318)), 2) -> 0 | I39: 0 | J39: =0 -> 0
D41: Cena s DPH | G41: v | H41: EUR | J41: =SUM(J32:J39) -> 0
D50: Projektant | G50: Spracovateľ
D61: Dátum a podpis: | F61: Pečiatka | G61: Dátum a podpis: | J61: Pečiatka
D65: Objednávateľ | G65: Zhotoviteľ
D76: Dátum a podpis: | F76: Pečiatka | G76: Dátum a podpis: | J76: Pečiatka
C82: REKAPITULÁCIA ROZPOČTU
C84: Stavba:
E85: =E7 -> Športová hala OLYMPIA v Nitre
C86: Objekt:
E87: SO01 - Športová hala, Nitra
C88: Časť:
E89: =E11 -> ZT - Zdravotechnika
C91: Miesto: | F91: =F14 -> Nitra | I91: Dátum: | J91: =IF(J14="","",J14) -> 8. 7. 2025
...

Sheet Plyn - Plynoinštalácia
L2: >> skryté stĺpce << | AT2: {73d7cc10-db4b-4785-8fe1-9007809fd360}
AT3: 0
D4: KRYCÍ LIST ROZPOČTU | M4: v --- nižšie sa nachádzajú doplnkové a pomocné údaje k zostavám --- v | AT4: False
D6: Stavba:
E7: ='Rekapitulácia stavby'!K6 -> Športová hala OLYMPIA v Nitre
D8: Objekt:
E9: SO01 - Športová hala, Nitra
D10: Časť:
E11: Plyn - Plynoinštalácia
D13: JKSO: | I13: ČS:
D14: Miesto: | F14: Nitra | I14: Dátum: | J14: ='Rekapitulácia stavby'!AN8 -> 8. 7. 2025
D16: Objednávateľ: | I16: IČO:
E17: Športová hala OLYMPIA s.r.o. | I17: IČ DPH:
D19: Zhotoviteľ: | I19: IČO:
I20: IČ DPH:
D22: Projektant: | I22: IČO:
E23: Ing. Stanislav Karas | I23: IČ DPH:
D25: Spracovateľ: | I25: IČO:
I26: IČ DPH:
D28: Poznámka:
D32: Cena bez DPH | J32: =ROUND(J130, 2) -> 0
F34: Základ dane | I34: Sadzba dane | J34: Výška dane
D35: DPH | E35: základná | F35: =ROUND((SUM(BE130:BE181)), 2) -> 0 | I35: 0.23 | J35: =ROUND(((SUM(BE130:BE181))*I35), 2) -> 0
E36: znížená | F36: =ROUND((SUM(BF130:BF181)), 2) -> 0 | I36: 0.23 | J36: =ROUND(((SUM(BF130:BF181))*I36), 2) -> 0
E37: zákl. prenesená | F37: =ROUND((SUM(BG130:BG181)), 2) -> 0 | I37: 0.23 | J37: =0 -> 0
E38: zníž. prenesená | F38: =ROUND((SUM(BH130:BH181)), 2) -> 0 | I38: 0.23 | J38: =0 -> 0
E39: nulová | F39: =ROUND((SUM(BI130:BI181)), 2) -> 0 | I39: 0 | J39: =0 -> 0
D41: Cena s DPH | G41: v | H41: EUR | J41: =SUM(J32:J39) -> 0
D50: Projektant | G50: Spracovateľ
D61: Dátum a podpis: | F61: Pečiatka | G61: Dátum a podpis: | J61: Pečiatka
D65: Objednávateľ | G65: Zhotoviteľ
D76: Dátum a podpis: | F76: Pečiatka | G76: Dátum a podpis: | J76: Pečiatka
C82: REKAPITULÁCIA ROZPOČTU
C84: Stavba:
E85: =E7 -> Športová hala OLYMPIA v Nitre
C86: Objekt:
E87: SO01 - Športová hala, Nitra
C88: Časť:
E89: =E11 -> Plyn - Plynoinštalácia
C91: Miesto: | F91: =F14 -> Nitra | I91: Dátum: | J91: =IF(J14="","",J14) -> 8. 7. 2025
...

Sheet ÚK - Ústredné vykurovanie
L2: >> skryté stĺpce << | AT2: {582c97e2-d97a-47ac-b0c7-80025cf17c1a}
AT3: 0
D4: KRYCÍ LIST ROZPOČTU | M4: v --- nižšie sa nachádzajú doplnkové a pomocné údaje k zostavám --- v | AT4: False
D6: Stavba:
E7: ='Rekapitulácia stavby'!K6 -> Športová hala OLYMPIA v Nitre
D8: Objekt:
E9: SO01 - Športová hala, Nitra
D10: Časť:
E11: ÚK - Ústredné vykurovanie
D13: JKSO: | I13: ČS:
D14: Miesto: | F14: Nitra | I14: Dátum: | J14: ='Rekapitulácia stavby'!AN8 -> 8. 7. 2025
D16: Objednávateľ: | I16: IČO:
E17: Športová hala OLYMPIA s.r.o. | I17: IČ DPH:
D19: Zhotoviteľ: | I19: IČO:
I20: IČ DPH:
D22: Projektant: | I22: IČO:
E23: Ing. Stanislav Karas | I23: IČ DPH:
D25: Spracovateľ: | I25: IČO:
I26: IČ DPH:
D28: Poznámka:
D32: Cena bez DPH | J32: =ROUND(J129, 2) -> 0
F34: Základ dane | I34: Sadzba dane | J34: Výška dane
D35: DPH | E35: základná | F35: =ROUND((SUM(BE129:BE274)), 2) -> 0 | I35: 0.23 | J35: =ROUND(((SUM(BE129:BE274))*I35), 2) -> 0
E36: znížená | F36: =ROUND((SUM(BF129:BF274)), 2) -> 0 | I36: 0.23 | J36: =ROUND(((SUM(BF129:BF274))*I36), 2) -> 0
E37: zákl. prenesená | F37: =ROUND((SUM(BG129:BG274)), 2) -> 0 | I37: 0.23 | J37: =0 -> 0
E38: zníž. prenesená | F38: =ROUND((SUM(BH129:BH274)), 2) -> 0 | I38: 0.23 | J38: =0 -> 0
E39: nulová | F39: =ROUND((SUM(BI129:BI274)), 2) -> 0 | I39: 0 | J39: =0 -> 0
D41: Cena s DPH | G41: v | H41: EUR | J41: =SUM(J32:J39) -> 0
D50: Projektant | G50: Spracovateľ
D61: Dátum a podpis: | F61: Pečiatka | G61: Dátum a podpis: | J61: Pečiatka
D65: Objednávateľ | G65: Zhotoviteľ
D76: Dátum a podpis: | F76: Pečiatka | G76: Dátum a podpis: | J76: Pečiatka
C82: REKAPITULÁCIA ROZPOČTU
C84: Stavba:
E85: =E7 -> Športová hala OLYMPIA v Nitre
C86: Objekt:
E87: SO01 - Športová hala, Nitra
C88: Časť:
E89: =E11 -> ÚK - Ústredné vykurovanie
C91: Miesto: | F91: =F14 -> Nitra | I91: Dátum: | J91: =IF(J14="","",J14) -> 8. 7. 2025
...

Sheet VZT1 - Vzduchotechnika - ...
L2: >> skryté stĺpce << | AT2: {ca2632a8-cfaf-45cb-9672-69aadbebd068}
AT3: 0
D4: KRYCÍ LIST ROZPOČTU | M4: v --- nižšie sa nachádzajú doplnkové a pomocné údaje k zostavám --- v | AT4: False
D6: Stavba:
E7: ='Rekapitulácia stavby'!K6 -> Športová hala OLYMPIA v Nitre
D8: Objekt:
E9: SO01 - Športová hala, Nitra
D10: Časť:
E11: VZT1 - Vzduchotechnika - AXIMA
D13: JKSO: | I13: ČS:
D14: Miesto: | F14: Nitra | I14: Dátum: | J14: ='Rekapitulácia stavby'!AN8 -> 8. 7. 2025
D16: Objednávateľ: | I16: IČO: | J16: =IF('Rekapitulácia stavby'!AN10="","",'Rekapitulácia stavby'!AN10)
E17: =IF('Rekapitulácia stavby'!E11="","",'Rekapitulácia stavby'!E11) -> Športová hala OLYMPIA s.r.o. | I17: IČ DPH: | J17: =IF('Rekapitulácia stavby'!AN11="","",'Rekapitulácia stavby'!AN11)
D19: Zhotoviteľ: | I19: IČO:
I20: IČ DPH:
D22: Projektant: | I22: IČO: | J22: =IF('Rekapitulácia stavby'!AN16="","",'Rekapitulácia stavby'!AN16)
E23: =IF('Rekapitulácia stavby'!E17="","",'Rekapitulácia stavby'!E17) -> Ing. Stanislav Karas | I23: IČ DPH: | J23: =IF('Rekapitulácia stavby'!AN17="","",'Rekapitulácia stavby'!AN17)
D25: Spracovateľ: | I25: IČO: | J25: =IF('Rekapitulácia stavby'!AN19="","",'Rekapitulácia stavby'!AN19)
E26: =IF('Rekapitulácia stavby'!E20="","",'Rekapitulácia stavby'!E20) | I26: IČ DPH: | J26: =IF('Rekapitulácia stavby'!AN20="","",'Rekapitulácia stavby'!AN20)
D28: Poznámka:
D32: Cena bez DPH | J32: =ROUND(J128, 2) -> 0
F34: Základ dane | I34: Sadzba dane | J34: Výška dane
D35: DPH | E35: základná | F35: =ROUND((SUM(BE128:BE173)), 2) -> 0 | I35: 0.23 | J35: =ROUND(((SUM(BE128:BE173))*I35), 2) -> 0
E36: znížená | F36: =ROUND((SUM(BF128:BF173)), 2) -> 0 | I36: 0.23 | J36: =ROUND(((SUM(BF128:BF173))*I36), 2) -> 0
E37: zákl. prenesená | F37: =ROUND((SUM(BG128:BG173)), 2) -> 0 | I37: 0.23 | J37: =0 -> 0
E38: zníž. prenesená | F38: =ROUND((SUM(BH128:BH173)), 2) -> 0 | I38: 0.23 | J38: =0 -> 0
E39: nulová | F39: =ROUND((SUM(BI128:BI173)), 2) -> 0 | I39: 0 | J39: =0 -> 0
D41: Cena s DPH | G41: v | H41: EUR | J41: =SUM(J32:J39) -> 0
D50: Projektant | G50: Spracovateľ
D61: Dátum a podpis: | F61: Pečiatka | G61: Dátum a podpis: | J61: Pečiatka
D65: Objednávateľ | G65: Zhotoviteľ
D76: Dátum a podpis: | F76: Pečiatka | G76: Dátum a podpis: | J76: Pečiatka
C82: REKAPITULÁCIA ROZPOČTU
C84: Stavba:
E85: =E7 -> Športová hala OLYMPIA v Nitre
C86: Objekt:
E87: SO01 - Športová hala, Nitra
C88: Časť:
E89: =E11 -> VZT1 - Vzduchotechnika - AXIMA
C91: Miesto: | F91: =F14 -> Nitra | I91: Dátum: | J91: =IF(J14="","",J14) -> 8. 7. 2025
...

Sheet SO02 - Prípojka plynu
L2: >> skryté stĺpce << | AT2: {e61dfdaf-cce8-45ad-b9b7-3c578984b262}
AT3: 0
D4: KRYCÍ LIST ROZPOČTU | M4: v --- nižšie sa nachádzajú doplnkové a pomocné údaje k zostavám --- v | AT4: False
D6: Stavba:
E7: ='Rekapitulácia stavby'!K6 -> Športová hala OLYMPIA v Nitre
D8: Objekt:
E9: SO02 - Prípojka plynu
D11: JKSO: | I11: ČS:
D12: Miesto: | F12: Nitra | I12: Dátum: | J12: ='Rekapitulácia stavby'!AN8 -> 8. 7. 2025
D14: Objednávateľ: | I14: IČO:
E15: Športová hala OLYMPIA s.r.o. | I15: IČ DPH:
D17: Zhotoviteľ: | I17: IČO:
I18: IČ DPH:
D20: Projektant: | I20: IČO:
E21: Ing. Stanislav Karas | I21: IČ DPH:
D23: Spracovateľ: | I23: IČO:
I24: IČ DPH:
D26: Poznámka:
D30: Cena bez DPH | J30: =ROUND(J128, 2) -> 0
F32: Základ dane | I32: Sadzba dane | J32: Výška dane
D33: DPH | E33: základná | F33: =ROUND((SUM(BE128:BE213)), 2) -> 0 | I33: 0.23 | J33: =ROUND(((SUM(BE128:BE213))*I33), 2) -> 0
E34: znížená | F34: =ROUND((SUM(BF128:BF213)), 2) -> 0 | I34: 0.23 | J34: =ROUND(((SUM(BF128:BF213))*I34), 2) -> 0
E35: zákl. prenesená | F35: =ROUND((SUM(BG128:BG213)), 2) -> 0 | I35: 0.23 | J35: =0 -> 0
E36: zníž. prenesená | F36: =ROUND((SUM(BH128:BH213)), 2) -> 0 | I36: 0.23 | J36: =0 -> 0
E37: nulová | F37: =ROUND((SUM(BI128:BI213)), 2) -> 0 | I37: 0 | J37: =0 -> 0
D39: Cena s DPH | G39: v | H39: EUR | J39: =SUM(J30:J37) -> 0
D50: Projektant | G50: Spracovateľ
D61: Dátum a podpis: | F61: Pečiatka | G61: Dátum a podpis: | J61: Pečiatka
D65: Objednávateľ | G65: Zhotoviteľ
D76: Dátum a podpis: | F76: Pečiatka | G76: Dátum a podpis: | J76: Pečiatka
C82: REKAPITULÁCIA ROZPOČTU
C84: Stavba:
E85: =E7 -> Športová hala OLYMPIA v Nitre
C86: Objekt:
E87: =E9 -> SO02 - Prípojka plynu
C89: Miesto: | F89: =F12 -> Nitra | I89: Dátum: | J89: =IF(J12="","",J12) -> 8. 7. 2025
C91: Objednávateľ: | F91: =E15 -> Športová hala OLYMPIA s.r.o. | I91: Projektant: | J91: =E21 -> Ing. Stanislav Karas
C92: Zhotoviteľ: | F92: =IF(E18="","",E18) | I92: Spracovateľ: | J92: =E24 -> 0
C94: Kód dielu - Popis | J94: Cena celkom [EUR]
C96: Náklady z rozpočtu | J96: =J128 -> 0 | AU96: -1
...

Sheet SO03 - Elektrická prípojka
L2: >> skryté stĺpce << | AT2: {5b439e7e-f7a9-4439-823f-6becaa5910e0}
AT3: 0
D4: KRYCÍ LIST ROZPOČTU | M4: v --- nižšie sa nachádzajú doplnkové a pomocné údaje k zostavám --- v | AT4: False
D6: Stavba:
E7: ='Rekapitulácia stavby'!K6 -> Športová hala OLYMPIA v Nitre
D8: Objekt:
E9: SO03 - Elektrická prípojka
D11: JKSO: | I11: ČS:
D12: Miesto: | F12: Nitra | I12: Dátum: | J12: ='Rekapitulácia stavby'!AN8 -> 8. 7. 2025
D14: Objednávateľ: | I14: IČO:
E15: Športová hala OLYMPIA s.r.o. | I15: IČ DPH:
D17: Zhotoviteľ: | I17: IČO:
I18: IČ DPH:
D20: Projektant: | I20: IČO:
E21: Ing. Stanislav Karas | I21: IČ DPH:
D23: Spracovateľ: | I23: IČO:
I24: IČ DPH:
D26: Poznámka:
D30: Cena bez DPH | J30: =ROUND(J120, 2) -> 0
F32: Základ dane | I32: Sadzba dane | J32: Výška dane
D33: DPH | E33: základná | F33: =ROUND((SUM(BE120:BE155)), 2) -> 0 | I33: 0.23 | J33: =ROUND(((SUM(BE120:BE155))*I33), 2) -> 0
E34: znížená | F34: =ROUND((SUM(BF120:BF155)), 2) -> 0 | I34: 0.23 | J34: =ROUND(((SUM(BF120:BF155))*I34), 2) -> 0
E35: zákl. prenesená | F35: =ROUND((SUM(BG120:BG155)), 2) -> 0 | I35: 0.23 | J35: =0 -> 0
E36: zníž. prenesená | F36: =ROUND((SUM(BH120:BH155)), 2) -> 0 | I36: 0.23 | J36: =0 -> 0
E37: nulová | F37: =ROUND((SUM(BI120:BI155)), 2) -> 0 | I37: 0 | J37: =0 -> 0
D39: Cena s DPH | G39: v | H39: EUR | J39: =SUM(J30:J37) -> 0
D50: Projektant | G50: Spracovateľ
D61: Dátum a podpis: | F61: Pečiatka | G61: Dátum a podpis: | J61: Pečiatka
D65: Objednávateľ | G65: Zhotoviteľ
D76: Dátum a podpis: | F76: Pečiatka | G76: Dátum a podpis: | J76: Pečiatka
C82: REKAPITULÁCIA ROZPOČTU
C84: Stavba:
E85: =E7 -> Športová hala OLYMPIA v Nitre
C86: Objekt:
E87: =E9 -> SO03 - Elektrická prípojka
C89: Miesto: | F89: =F12 -> Nitra | I89: Dátum: | J89: =IF(J12="","",J12) -> 8. 7. 2025
C91: Objednávateľ: | F91: =E15 -> Športová hala OLYMPIA s.r.o. | I91: Projektant: | J91: =E21 -> Ing. Stanislav Karas
C92: Zhotoviteľ: | F92: =IF(E18="","",E18) | I92: Spracovateľ: | J92: =E24 -> 0
C94: Kód dielu - Popis | J94: Cena celkom [EUR]
C96: Náklady z rozpočtu | J96: =J120 -> 0 | AU96: -1
...

Sheet SO04 - Prípojka vody
L2: >> skryté stĺpce << | AT2: {353b3453-9b73-496f-b79b-465767a77d0e}
AT3: 0
D4: KRYCÍ LIST ROZPOČTU | M4: v --- nižšie sa nachádzajú doplnkové a pomocné údaje k zostavám --- v | AT4: False
D6: Stavba:
E7: ='Rekapitulácia stavby'!K6 -> Športová hala OLYMPIA v Nitre
D8: Objekt:
E9: SO04 - Prípojka vody
D11: JKSO: | I11: ČS:
D12: Miesto: | F12: Nitra | I12: Dátum: | J12: ='Rekapitulácia stavby'!AN8 -> 8. 7. 2025
D14: Objednávateľ: | I14: IČO:
E15: Športová hala OLYMPIA s.r.o. | I15: IČ DPH:
D17: Zhotoviteľ: | I17: IČO:
I18: IČ DPH:
D20: Projektant: | I20: IČO:
E21: Ing. Stanislav Karas | I21: IČ DPH:
D23: Spracovateľ: | I23: IČO:
I24: IČ DPH:
D26: Poznámka:
D30: Cena bez DPH | J30: =ROUND(J125, 2) -> 0
F32: Základ dane | I32: Sadzba dane | J32: Výška dane
D33: DPH | E33: základná | F33: =ROUND((SUM(BE125:BE166)), 2) -> 0 | I33: 0.23 | J33: =ROUND(((SUM(BE125:BE166))*I33), 2) -> 0
E34: znížená | F34: =ROUND((SUM(BF125:BF166)), 2) -> 0 | I34: 0.23 | J34: =ROUND(((SUM(BF125:BF166))*I34), 2) -> 0
E35: zákl. prenesená | F35: =ROUND((SUM(BG125:BG166)), 2) -> 0 | I35: 0.23 | J35: =0 -> 0
E36: zníž. prenesená | F36: =ROUND((SUM(BH125:BH166)), 2) -> 0 | I36: 0.23 | J36: =0 -> 0
E37: nulová | F37: =ROUND((SUM(BI125:BI166)), 2) -> 0 | I37: 0 | J37: =0 -> 0
D39: Cena s DPH | G39: v | H39: EUR | J39: =SUM(J30:J37) -> 0
D50: Projektant | G50: Spracovateľ
D61: Dátum a podpis: | F61: Pečiatka | G61: Dátum a podpis: | J61: Pečiatka
D65: Objednávateľ | G65: Zhotoviteľ
D76: Dátum a podpis: | F76: Pečiatka | G76: Dátum a podpis: | J76: Pečiatka
C82: REKAPITULÁCIA ROZPOČTU
C84: Stavba:
E85: =E7 -> Športová hala OLYMPIA v Nitre
C86: Objekt:
E87: =E9 -> SO04 - Prípojka vody
C89: Miesto: | F89: =F12 -> Nitra | I89: Dátum: | J89: =IF(J12="","",J12) -> 8. 7. 2025
C91: Objednávateľ: | F91: =E15 -> Športová hala OLYMPIA s.r.o. | I91: Projektant: | J91: =E21 -> Ing. Stanislav Karas
C92: Zhotoviteľ: | F92: =IF(E18="","",E18) | I92: Spracovateľ: | J92: =E24 -> 0
C94: Kód dielu - Popis | J94: Cena celkom [EUR]
C96: Náklady z rozpočtu | J96: =J125 -> 0 | AU96: -1
...

Sheet SO05 - Prípojka splaškove...
L2: >> skryté stĺpce << | AT2: {8db66a94-9887-4725-af92-e7460a6cf962}
AT3: 0
D4: KRYCÍ LIST ROZPOČTU | M4: v --- nižšie sa nachádzajú doplnkové a pomocné údaje k zostavám --- v | AT4: False
D6: Stavba:
E7: ='Rekapitulácia stavby'!K6 -> Športová hala OLYMPIA v Nitre
D8: Objekt:
E9: SO05 - Prípojka splaškovej kanalizácie
D11: JKSO: | I11: ČS:
D12: Miesto: | F12: Nitra | I12: Dátum: | J12: ='Rekapitulácia stavby'!AN8 -> 8. 7. 2025
D14: Objednávateľ: | I14: IČO:
E15: Športová hala OLYMPIA s.r.o. | I15: IČ DPH:
D17: Zhotoviteľ: | I17: IČO:
I18: IČ DPH:
D20: Projektant: | I20: IČO:
E21: Ing. Stanislav Karas | I21: IČ DPH:
D23: Spracovateľ: | I23: IČO:
I24: IČ DPH:
D26: Poznámka:
D30: Cena bez DPH | J30: =ROUND(J121, 2) -> 0
F32: Základ dane | I32: Sadzba dane | J32: Výška dane
D33: DPH | E33: základná | F33: =ROUND((SUM(BE121:BE161)), 2) -> 0 | I33: 0.23 | J33: =ROUND(((SUM(BE121:BE161))*I33), 2) -> 0
E34: znížená | F34: =ROUND((SUM(BF121:BF161)), 2) -> 0 | I34: 0.23 | J34: =ROUND(((SUM(BF121:BF161))*I34), 2) -> 0
E35: zákl. prenesená | F35: =ROUND((SUM(BG121:BG161)), 2) -> 0 | I35: 0.23 | J35: =0 -> 0
E36: zníž. prenesená | F36: =ROUND((SUM(BH121:BH161)), 2) -> 0 | I36: 0.23 | J36: =0 -> 0
E37: nulová | F37: =ROUND((SUM(BI121:BI161)), 2) -> 0 | I37: 0 | J37: =0 -> 0
D39: Cena s DPH | G39: v | H39: EUR | J39: =SUM(J30:J37) -> 0
D50: Projektant | G50: Spracovateľ
D61: Dátum a podpis: | F61: Pečiatka | G61: Dátum a podpis: | J61: Pečiatka
D65: Objednávateľ | G65: Zhotoviteľ
D76: Dátum a podpis: | F76: Pečiatka | G76: Dátum a podpis: | J76: Pečiatka
C82: REKAPITULÁCIA ROZPOČTU
C84: Stavba:
E85: =E7 -> Športová hala OLYMPIA v Nitre
C86: Objekt:
E87: =E9 -> SO05 - Prípojka splaškovej kanalizácie
C89: Miesto: | F89: =F12 -> Nitra | I89: Dátum: | J89: =IF(J12="","",J12) -> 8. 7. 2025
C91: Objednávateľ: | F91: =E15 -> Športová hala OLYMPIA s.r.o. | I91: Projektant: | J91: =E21 -> Ing. Stanislav Karas
C92: Zhotoviteľ: | F92: =IF(E18="","",E18) | I92: Spracovateľ: | J92: =E24 -> 0
C94: Kód dielu - Popis | J94: Cena celkom [EUR]
C96: Náklady z rozpočtu | J96: =J121 -> 0 | AU96: -1
...

Sheet SO06 - Prípojka dažďovej ...
L2: >> skryté stĺpce << | AT2: {0b123b59-8cda-42a5-8d49-1779220a718b}
AT3: 0
D4: KRYCÍ LIST ROZPOČTU | M4: v --- nižšie sa nachádzajú doplnkové a pomocné údaje k zostavám --- v | AT4: False
D6: Stavba:
E7: ='Rekapitulácia stavby'!K6 -> Športová hala OLYMPIA v Nitre
D8: Objekt:
E9: SO06 - Prípojka dažďovej kanalizácie + ORL
D11: JKSO: | I11: ČS:
D12: Miesto: | F12: Nitra | I12: Dátum: | J12: ='Rekapitulácia stavby'!AN8 -> 8. 7. 2025
D14: Objednávateľ: | I14: IČO:
E15: Športová hala OLYMPIA s.r.o. | I15: IČ DPH:
D17: Zhotoviteľ: | I17: IČO:
I18: IČ DPH:
D20: Projektant: | I20: IČO:
E21: Ing. Stanislav Karas | I21: IČ DPH:
D23: Spracovateľ: | I23: IČO:
I24: IČ DPH:
D26: Poznámka:
D30: Cena bez DPH | J30: =ROUND(J123, 2) -> 0
F32: Základ dane | I32: Sadzba dane | J32: Výška dane
D33: DPH | E33: základná | F33: =ROUND((SUM(BE123:BE208)), 2) -> 0 | I33: 0.23 | J33: =ROUND(((SUM(BE123:BE208))*I33), 2) -> 0
E34: znížená | F34: =ROUND((SUM(BF123:BF208)), 2) -> 0 | I34: 0.23 | J34: =ROUND(((SUM(BF123:BF208))*I34), 2) -> 0
E35: zákl. prenesená | F35: =ROUND((SUM(BG123:BG208)), 2) -> 0 | I35: 0.23 | J35: =0 -> 0
E36: zníž. prenesená | F36: =ROUND((SUM(BH123:BH208)), 2) -> 0 | I36: 0.23 | J36: =0 -> 0
E37: nulová | F37: =ROUND((SUM(BI123:BI208)), 2) -> 0 | I37: 0 | J37: =0 -> 0
D39: Cena s DPH | G39: v | H39: EUR | J39: =SUM(J30:J37) -> 0
D50: Projektant | G50: Spracovateľ
D61: Dátum a podpis: | F61: Pečiatka | G61: Dátum a podpis: | J61: Pečiatka
D65: Objednávateľ | G65: Zhotoviteľ
D76: Dátum a podpis: | F76: Pečiatka | G76: Dátum a podpis: | J76: Pečiatka
C82: REKAPITULÁCIA ROZPOČTU
C84: Stavba:
E85: =E7 -> Športová hala OLYMPIA v Nitre
C86: Objekt:
E87: =E9 -> SO06 - Prípojka dažďovej kanalizácie + ORL
C89: Miesto: | F89: =F12 -> Nitra | I89: Dátum: | J89: =IF(J12="","",J12) -> 8. 7. 2025
C91: Objednávateľ: | F91: =E15 -> Športová hala OLYMPIA s.r.o. | I91: Projektant: | J91: =E21 -> Ing. Stanislav Karas
C92: Zhotoviteľ: | F92: =IF(E18="","",E18) | I92: Spracovateľ: | J92: =E24 -> 0
C94: Kód dielu - Popis | J94: Cena celkom [EUR]
C96: Náklady z rozpočtu | J96: =J123 -> 0 | AU96: -1
...

Sheet SO07 - Komunikácie a spev...
L2: >> skryté stĺpce << | AT2: {6983dfd4-660b-48c2-a6e3-bb5d37b3ca43}
AT3: 0
D4: KRYCÍ LIST ROZPOČTU | M4: v --- nižšie sa nachádzajú doplnkové a pomocné údaje k zostavám --- v | AT4: False
D6: Stavba:
E7: ='Rekapitulácia stavby'!K6 -> Športová hala OLYMPIA v Nitre
D8: Objekt:
E9: SO07 - Komunikácie a spevnené plochy
D11: JKSO: | I11: ČS:
D12: Miesto: | F12: Nitra | I12: Dátum: | J12: ='Rekapitulácia stavby'!AN8 -> 8. 7. 2025
D14: Objednávateľ: | I14: IČO:
E15: Športová hala OLYMPIA s.r.o. | I15: IČ DPH:
D17: Zhotoviteľ: | I17: IČO:
I18: IČ DPH:
D20: Projektant: | I20: IČO:
E21: Ing. Stanislav Karas | I21: IČ DPH:
D23: Spracovateľ: | I23: IČO:
I24: IČ DPH:
D26: Poznámka:
D30: Cena bez DPH | J30: =ROUND(J124, 2) -> 0
F32: Základ dane | I32: Sadzba dane | J32: Výška dane
D33: DPH | E33: základná | F33: =ROUND((SUM(BE124:BE176)), 2) -> 0 | I33: 0.23 | J33: =ROUND(((SUM(BE124:BE176))*I33), 2) -> 0
E34: znížená | F34: =ROUND((SUM(BF124:BF176)), 2) -> 0 | I34: 0.23 | J34: =ROUND(((SUM(BF124:BF176))*I34), 2) -> 0
E35: zákl. prenesená | F35: =ROUND((SUM(BG124:BG176)), 2) -> 0 | I35: 0.23 | J35: =0 -> 0
E36: zníž. prenesená | F36: =ROUND((SUM(BH124:BH176)), 2) -> 0 | I36: 0.23 | J36: =0 -> 0
E37: nulová | F37: =ROUND((SUM(BI124:BI176)), 2) -> 0 | I37: 0 | J37: =0 -> 0
D39: Cena s DPH | G39: v | H39: EUR | J39: =SUM(J30:J37) -> 0
D50: Projektant | G50: Spracovateľ
D61: Dátum a podpis: | F61: Pečiatka | G61: Dátum a podpis: | J61: Pečiatka
D65: Objednávateľ | G65: Zhotoviteľ
D76: Dátum a podpis: | F76: Pečiatka | G76: Dátum a podpis: | J76: Pečiatka
C82: REKAPITULÁCIA ROZPOČTU
C84: Stavba:
E85: =E7 -> Športová hala OLYMPIA v Nitre
C86: Objekt:
E87: =E9 -> SO07 - Komunikácie a spevnené plochy
C89: Miesto: | F89: =F12 -> Nitra | I89: Dátum: | J89: =IF(J12="","",J12) -> 8. 7. 2025
C91: Objednávateľ: | F91: =E15 -> Športová hala OLYMPIA s.r.o. | I91: Projektant: | J91: =E21 -> Ing. Stanislav Karas
C92: Zhotoviteľ: | F92: =IF(E18="","",E18) | I92: Spracovateľ: | J92: =E24 -> 0
C94: Kód dielu - Popis | J94: Cena celkom [EUR]
C96: Náklady z rozpočtu | J96: =J124 -> 0 | AU96: -1
...

Sheet SO08 - Sadové úpravy
L2: >> skryté stĺpce << | AT2: {ab0c5e7d-49c2-414e-b485-95059410a5c8}
AT3: 0
D4: KRYCÍ LIST ROZPOČTU | M4: v --- nižšie sa nachádzajú doplnkové a pomocné údaje k zostavám --- v | AT4: False
D6: Stavba:
E7: ='Rekapitulácia stavby'!K6 -> Športová hala OLYMPIA v Nitre
D8: Objekt:
E9: SO08 - Sadové úpravy
D11: JKSO: | I11: ČS:
D12: Miesto: | F12: Nitra | I12: Dátum: | J12: ='Rekapitulácia stavby'!AN8 -> 8. 7. 2025
D14: Objednávateľ: | I14: IČO:
E15: Športová hala OLYMPIA s.r.o. | I15: IČ DPH:
D17: Zhotoviteľ: | I17: IČO:
I18: IČ DPH:
D20: Projektant: | I20: IČO:
E21: Ing. Stanislav Karas | I21: IČ DPH:
D23: Spracovateľ: | I23: IČO:
I24: IČ DPH:
D26: Poznámka:
D30: Cena bez DPH | J30: =ROUND(J120, 2) -> 0
F32: Základ dane | I32: Sadzba dane | J32: Výška dane
D33: DPH | E33: základná | F33: =ROUND((SUM(BE120:BE178)), 2) -> 0 | I33: 0.23 | J33: =ROUND(((SUM(BE120:BE178))*I33), 2) -> 0
E34: znížená | F34: =ROUND((SUM(BF120:BF178)), 2) -> 0 | I34: 0.23 | J34: =ROUND(((SUM(BF120:BF178))*I34), 2) -> 0
E35: zákl. prenesená | F35: =ROUND((SUM(BG120:BG178)), 2) -> 0 | I35: 0.23 | J35: =0 -> 0
E36: zníž. prenesená | F36: =ROUND((SUM(BH120:BH178)), 2) -> 0 | I36: 0.23 | J36: =0 -> 0
E37: nulová | F37: =ROUND((SUM(BI120:BI178)), 2) -> 0 | I37: 0 | J37: =0 -> 0
D39: Cena s DPH | G39: v | H39: EUR | J39: =SUM(J30:J37) -> 0
D50: Projektant | G50: Spracovateľ
D61: Dátum a podpis: | F61: Pečiatka | G61: Dátum a podpis: | J61: Pečiatka
D65: Objednávateľ | G65: Zhotoviteľ
D76: Dátum a podpis: | F76: Pečiatka | G76: Dátum a podpis: | J76: Pečiatka
C82: REKAPITULÁCIA ROZPOČTU
C84: Stavba:
E85: =E7 -> Športová hala OLYMPIA v Nitre
C86: Objekt:
E87: =E9 -> SO08 - Sadové úpravy
C89: Miesto: | F89: =F12 -> Nitra | I89: Dátum: | J89: =IF(J12="","",J12) -> 8. 7. 2025
C91: Objednávateľ: | F91: =E15 -> Športová hala OLYMPIA s.r.o. | I91: Projektant: | J91: =E21 -> Ing. Stanislav Karas
C92: Zhotoviteľ: | F92: =IF(E18="","",E18) | I92: Spracovateľ: | J92: =E24 -> 0
C94: Kód dielu - Popis | J94: Cena celkom [EUR]
C96: Náklady z rozpočtu | J96: =J120 -> 0 | AU96: -1
...

Sheet SO11 - VRN
L2: >> skryté stĺpce << | AT2: {d7f12445-6bfa-4cbe-b4e1-e2ae50e614ab}
AT3: 0
D4: KRYCÍ LIST ROZPOČTU | M4: v --- nižšie sa nachádzajú doplnkové a pomocné údaje k zostavám --- v | AT4: False
D6: Stavba:
E7: ='Rekapitulácia stavby'!K6 -> Športová hala OLYMPIA v Nitre
D8: Objekt:
E9: SO11 - VRN
D11: JKSO: | I11: ČS:
D12: Miesto: | F12: Nitra | I12: Dátum: | J12: ='Rekapitulácia stavby'!AN8 -> 8. 7. 2025
D14: Objednávateľ: | I14: IČO:
E15: Športová hala OLYMPIA s.r.o. | I15: IČ DPH:
D17: Zhotoviteľ: | I17: IČO:
I18: IČ DPH:
D20: Projektant: | I20: IČO:
E21: Ing. Stanislav Karas | I21: IČ DPH:
D23: Spracovateľ: | I23: IČO:
I24: IČ DPH:
D26: Poznámka:
D30: Cena bez DPH | J30: =ROUND(J117, 2) -> 0
F32: Základ dane | I32: Sadzba dane | J32: Výška dane
D33: DPH | E33: základná | F33: =ROUND((SUM(BE117:BE121)), 2) -> 0 | I33: 0.23 | J33: =ROUND(((SUM(BE117:BE121))*I33), 2) -> 0
E34: znížená | F34: =ROUND((SUM(BF117:BF121)), 2) -> 0 | I34: 0.23 | J34: =ROUND(((SUM(BF117:BF121))*I34), 2) -> 0
E35: zákl. prenesená | F35: =ROUND((SUM(BG117:BG121)), 2) -> 0 | I35: 0.23 | J35: =0 -> 0
E36: zníž. prenesená | F36: =ROUND((SUM(BH117:BH121)), 2) -> 0 | I36: 0.23 | J36: =0 -> 0
E37: nulová | F37: =ROUND((SUM(BI117:BI121)), 2) -> 0 | I37: 0 | J37: =0 -> 0
D39: Cena s DPH | G39: v | H39: EUR | J39: =SUM(J30:J37) -> 0
D50: Projektant | G50: Spracovateľ
D61: Dátum a podpis: | F61: Pečiatka | G61: Dátum a podpis: | J61: Pečiatka
D65: Objednávateľ | G65: Zhotoviteľ
D76: Dátum a podpis: | F76: Pečiatka | G76: Dátum a podpis: | J76: Pečiatka
C82: REKAPITULÁCIA ROZPOČTU
C84: Stavba:
E85: =E7 -> Športová hala OLYMPIA v Nitre
C86: Objekt:
E87: =E9 -> SO11 - VRN
C89: Miesto: | F89: =F12 -> Nitra | I89: Dátum: | J89: =IF(J12="","",J12) -> 8. 7. 2025
C91: Objednávateľ: | F91: =E15 -> Športová hala OLYMPIA s.r.o. | I91: Projektant: | J91: =E21 -> Ing. Stanislav Karas
C92: Zhotoviteľ: | F92: =IF(E18="","",E18) | I92: Spracovateľ: | J92: =E24 -> 0
C94: Kód dielu - Popis | J94: Cena celkom [EUR]
C96: Náklady z rozpočtu | J96: =J117 -> 0 | AU96: -1
...
